{"text_format":"1","workbook":"xlsx","n_sheets":5,"sheets":["Steuerung","Berechnungen","Soll-Ist","Grafik","Selbstkosten"],"not_rendered":{"charts":1,"images":0,"macros":0,"external_links":0,"defined_names":0,"comments":0,"pivot_tables":0},"unopened":[],"bounds":{"document_bytes":16777216,"sheet_cells":100000,"rows_first":2000,"rows_last":500,"rows_between":2000,"halvings":0,"cell_chars":16384,"cell_head_chars":4096},"cells_cut":0,"cells_raw":0,"read":"whole","date_system":"1900"}

{"sheet":"Steuerung","index":0,"n_rows":23,"n_cols":7,"rows_kept":23,"cut":false,"hidden":false,"merged":[]}
[]
[null,"Flexible Plankostenrechnung"]
[]
[null,"Kapazitätsgrenze in Stunden",null,1000,null,null,"Eingabefelder"]
[null,"Beschäftigung bei Kostenermittlung/Stdn.",null,900,null,null,"Für die Gemeinkosten können Einzelwerte oder"]
[null,"Produktionsmenge bei Kostenermittlung",null,1800,null,null,"direkt die Kostensummen eingeben werden"]
[null,null,null,null,null,null,"Bedingungen für die Kosenberechnung"]
[null,"Planbeschäftigung in Stunden",null,800,null,null,"Es werden jeweils die Soll- und Plankosten für 20"]
[null,null,null,null,null,null,"alternative Beschäftigungen in Stunden berechnet."]
[null,"Kosteneingabe getrennt nach Kostenart",null,null,null,null,"Die Kapatzitätsgrenze wird durch 20 geteilt und"]
[null,"Kostenart","variable Kosten","fixe Kosten","Gesamtkosten",null,"dann jeweils um den zwanzigsten Teil erhöht. "]
[null,"Gemeinkostenmaterial",1000,6000,{"$f":"C12+D12","v":7000}]
[null,"Hilfsstoffe",5000,1000,{"$f":"C13+D13","v":6000},null,"Die Teilbarkeit durch 20 ist keine Bedingungen"]
[null,"Energie",24000,8000,32000,null,"für die Berechnungen. Wenn der Planbeschäftigung"]
[null,"Fertigungslöhne",150000,null,150000,null,"in der Berechnungstabelle kein eindeutiger"]
[null,"Hilfslöhne",5000,20000,25000,null,"Wert zugeordnet werden kann, wird der Schnittpunkt "]
[null,"Soziale Abgaben",20000,5000,25000,null,"zwischen Soll- und Planbeschäftigung nur in der"]
[null,"Abschreibungen",10000,125000,135000,null,"in der grafischen Darstellung angezeigt."]
[null,"Sonstige Gemeinkosten",30000,16000,46000]
[null,"Kostensummen",{"$f":"SUM(C12:C19)","v":245000},{"$f":"SUM(D12:D19)","v":181000},426000,null,"Istkosten können immer nur den angezeigten"]
[null,null,null,null,null,null,"Beschäftigungen zugeordnet werden. (Seite Soll-Ist)"]
[null,"Direkteingabe der","variable Kosten","fixe Kosten","Gesamtkosten",null,"(Alternativ können die Beschäftigungsintervalle"]
[null,"Kostensummen",null,null,null,null,"erweitert werden.)"]

{"sheet":"Berechnungen","index":1,"n_rows":30,"n_cols":9,"rows_kept":30,"cut":false,"hidden":false,"merged":[[7,8,8,8],[7,1,8,1],[3,5,3,6],[7,2,8,2],[7,3,8,3],[7,4,8,4],[7,5,8,5],[7,6,8,6],[7,7,8,7]]}
[]
[null,"Soll-Plan-Kostendifferenz"]
[]
[null,"Plangemeinkosten",null,{"$f":"IF(Steuerung!C20>0,(Steuerung!$C$20*Steuerung!$D$8)/Steuerung!$D$5+Steuerung!$D$20,(Steuerung!C23*Steuerung!D8)/Steuerung!D5+Steuerung!D23)","v":398777.77777777775},"Euro","Fixkosten",null,"Plankostenverrechnungssätze"]
[null,"bei Planbeschäftigung",null,{"$f":"Steuerung!D8","v":800},"Stunden","zu viel","zu wenig","PLKVS gesamt","PLKVS variabel"]
[null,"Ausgangsbeschäftigung",null,{"$f":"Steuerung!D5","v":900},"Stunden","verrechnet","verrechnet",{"$f":"D4/Steuerung!D8","v":498.47222222222217},{"$f":"IF(Steuerung!C20>0,Steuerung!C20/Steuerung!D5,Steuerung!C23/Steuerung!D5)","v":272.22222222222223}]
[]
[null,"Beschäftigung Stunden","fixe PLGK","PLKVS insgesamt","verrechnete PLGK","PLKVS   variabel","variable              PLGK","Sollkosten","Fixkosten- differenz"]
[]
[null,0,{"$f":"IF(Steuerung!$D$20>0,Steuerung!$D$20,Steuerung!$D$23)","v":181000},{"$f":"$H$6","v":498.47222222222217},{"$f":"B10*D10","v":0},{"$f":"$I$6","v":272.22222222222223},{"$f":"B10*F10","v":0},{"$f":"C10+G10","v":181000},{"$f":"E10-H10","v":-181000}]
[null,{"$f":"B30/20","v":50},{"$f":"IF(Steuerung!$D$20>0,Steuerung!$D$20,Steuerung!$D$23)","v":181000},498.47222222222217,{"$f":"B11*D11","v":24923.611111111109},272.22222222222223,{"$f":"B11*F11","v":13611.111111111111},{"$f":"C11+G11","v":194611.11111111112},{"$f":"E11-H11","v":-169687.5}]
[null,{"$f":"B11+$B$11","v":100},{"$f":"IF(Steuerung!$D$20>0,Steuerung!$D$20,Steuerung!$D$23)","v":181000},498.47222222222217,49847.222222222219,272.22222222222223,27222.222222222223,208222.22222222222,-158375]
[null,{"$f":"B12+$B$11","v":150},{"$f":"IF(Steuerung!$D$20>0,Steuerung!$D$20,Steuerung!$D$23)","v":181000},498.47222222222217,74770.833333333328,272.22222222222223,40833.333333333336,221833.33333333334,-147062.5]
[null,200,{"$f":"IF(Steuerung!$D$20>0,Steuerung!$D$20,Steuerung!$D$23)","v":181000},498.47222222222217,99694.444444444438,272.22222222222223,54444.444444444445,235444.44444444444,-135750]
[null,250,{"$f":"IF(Steuerung!$D$20>0,Steuerung!$D$20,Steuerung!$D$23)","v":181000},498.47222222222217,124618.05555555555,272.22222222222223,68055.555555555562,249055.55555555556,-124437.50000000001]
[null,300,{"$f":"IF(Steuerung!$D$20>0,Steuerung!$D$20,Steuerung!$D$23)","v":181000},498.47222222222217,149541.66666666666,272.22222222222223,81666.666666666672,262666.66666666669,-113125.00000000003]
[null,350,{"$f":"IF(Steuerung!$D$20>0,Steuerung!$D$20,Steuerung!$D$23)","v":181000},498.47222222222217,174465.27777777775,272.22222222222223,95277.777777777781,276277.77777777775,-101812.5]
[null,400,{"$f":"IF(Steuerung!$D$20>0,Steuerung!$D$20,Steuerung!$D$23)","v":181000},498.47222222222217,199388.88888888888,272.22222222222223,108888.88888888889,289888.88888888888,-90500]
[null,450,{"$f":"IF(Steuerung!$D$20>0,Steuerung!$D$20,Steuerung!$D$23)","v":181000},498.47222222222217,224312.49999999997,272.22222222222223,122500,303500,-79187.500000000029]
[null,500,{"$f":"IF(Steuerung!$D$20>0,Steuerung!$D$20,Steuerung!$D$23)","v":181000},498.47222222222217,249236.11111111109,272.22222222222223,136111.11111111112,317111.11111111112,-67875.000000000029]
[null,550,{"$f":"IF(Steuerung!$D$20>0,Steuerung!$D$20,Steuerung!$D$23)","v":181000},498.47222222222217,274159.72222222219,272.22222222222223,149722.22222222222,330722.22222222225,-56562.500000000058]
[null,600,{"$f":"IF(Steuerung!$D$20>0,Steuerung!$D$20,Steuerung!$D$23)","v":181000},498.47222222222217,299083.33333333331,272.22222222222223,163333.33333333334,344333.33333333337,-45250.000000000058]
[null,650,{"$f":"IF(Steuerung!$D$20>0,Steuerung!$D$20,Steuerung!$D$23)","v":181000},498.47222222222217,324006.94444444444,272.22222222222223,176944.44444444444,357944.44444444444,-33937.5]
[null,700,{"$f":"IF(Steuerung!$D$20>0,Steuerung!$D$20,Steuerung!$D$23)","v":181000},498.47222222222217,348930.5555555555,272.22222222222223,190555.55555555556,371555.55555555556,-22625.000000000058]
[null,750,{"$f":"IF(Steuerung!$D$20>0,Steuerung!$D$20,Steuerung!$D$23)","v":181000},498.47222222222217,373854.16666666663,272.22222222222223,204166.66666666666,385166.66666666663,-11312.5]
[null,800,{"$f":"IF(Steuerung!$D$20>0,Steuerung!$D$20,Steuerung!$D$23)","v":181000},498.47222222222217,398777.77777777775,272.22222222222223,217777.77777777778,398777.77777777775,0]
[null,850,{"$f":"IF(Steuerung!$D$20>0,Steuerung!$D$20,Steuerung!$D$23)","v":181000},498.47222222222217,423701.38888888882,272.22222222222223,231388.88888888891,412388.88888888888,11312.499999999942]
[null,900,{"$f":"IF(Steuerung!$D$20>0,Steuerung!$D$20,Steuerung!$D$23)","v":181000},498.47222222222217,448624.99999999994,272.22222222222223,245000,426000,22624.999999999942]
[null,950,{"$f":"IF(Steuerung!$D$20>0,Steuerung!$D$20,Steuerung!$D$23)","v":181000},498.47222222222217,473548.61111111107,272.22222222222223,258611.11111111112,439611.11111111112,33937.499999999942]
[null,{"$f":"Steuerung!D4","v":1000},{"$f":"IF(Steuerung!$D$20>0,Steuerung!$D$20,Steuerung!$D$23)","v":181000},498.47222222222217,498472.22222222219,272.22222222222223,272222.22222222225,453222.22222222225,45249.999999999942]

{"sheet":"Soll-Ist","index":2,"n_rows":28,"n_cols":13,"rows_kept":28,"cut":false,"hidden":false,"merged":[]}
[]
[null,"Soll-Ist-Kostenvergleich"]
[]
[null,"Tragen Sie die Istbeschäftigung und die Istkosten für die entsprechende",null,null,null,"Istbeschäftigung"]
[null,"Beschäftigung in der Spalte Istkosten ein.",null,null,null,800]
[null,null,null,null,null,null,null,"Beschäftiungs-","Verbrauchs-","Gesamt-"]
[null,"Beschäftigung/Stdn.","fixe PLGK","verrechnete PLGK","Sollkosten","Istkosten","verrechnete PLGK","B-abweichung","V-abweichung","G-abweichung",null,"Abweichungsanalyse"]
[null,{"$f":"Berechnungen!B10","v":0},{"$f":"Berechnungen!C10","v":181000},{"$f":"Berechnungen!E10","v":0},{"$f":"Berechnungen!H10","v":181000},null,{"$f":"IF(F8>0,Berechnungen!H10,\"\")","v":""},{"$f":"IF(F8>0,$M$20*-1,\"\")","v":""},{"$f":"IF(F8>0,$M$24,\"\")","v":""},{"$f":"IF(F8>0,H8+I8,\"\")","v":""},null,"Beschäftigungsabweichungen sind durch die"]
[null,{"$f":"Berechnungen!B11","v":50},{"$f":"Berechnungen!C11","v":181000},{"$f":"Berechnungen!E11","v":24923.611111111109},{"$f":"Berechnungen!H11","v":194611.11111111112},null,{"$f":"IF(F9>0,Berechnungen!H11,\"\")","v":""},{"$f":"IF(F9>0,$M$20*-1,\"\")","v":""},{"$f":"IF(F9>0,$M$24,\"\")","v":""},{"$f":"IF(F9>0,H9+I9,\"\")","v":""},null,"Marktlage bzw. durch die Absatzabteilung begründet."]
[null,{"$f":"Berechnungen!B12","v":100},{"$f":"Berechnungen!C12","v":181000},{"$f":"Berechnungen!E12","v":49847.222222222219},{"$f":"Berechnungen!H12","v":208222.22222222222},null,{"$f":"IF(F10>0,Berechnungen!H12,\"\")","v":""},"","","",null,"Verbauchsabweichungen sind produktionsbedingt "]
[null,{"$f":"Berechnungen!B13","v":150},{"$f":"Berechnungen!C13","v":181000},{"$f":"Berechnungen!E13","v":74770.833333333328},{"$f":"Berechnungen!H13","v":221833.33333333334},null,{"$f":"IF(F11>0,Berechnungen!H13,\"\")","v":""},"","","",null,"und erfordern eine Kontrolle technischen Anlagen"]
[null,{"$f":"Berechnungen!B14","v":200},{"$f":"Berechnungen!C14","v":181000},{"$f":"Berechnungen!E14","v":99694.444444444438},{"$f":"Berechnungen!H14","v":235444.44444444444},null,{"$f":"IF(F12>0,Berechnungen!H14,\"\")","v":""},"","","",null,"und Arbeitsabläufe."]
[null,{"$f":"Berechnungen!B15","v":250},{"$f":"Berechnungen!C15","v":181000},{"$f":"Berechnungen!E15","v":124618.05555555555},{"$f":"Berechnungen!H15","v":249055.55555555556},null,{"$f":"IF(F13>0,Berechnungen!H15,\"\")","v":""},"","",""]
[null,{"$f":"Berechnungen!B16","v":300},{"$f":"Berechnungen!C16","v":181000},{"$f":"Berechnungen!E16","v":149541.66666666666},{"$f":"Berechnungen!H16","v":262666.66666666669},null,{"$f":"IF(F14>0,Berechnungen!H16,\"\")","v":""},"","","",null,"   Verrechnete Plangemeinkosten",{"$f":"VLOOKUP($F$5,$B$8:$E$28,3)","v":398777.77777777775}]
[null,{"$f":"Berechnungen!B17","v":350},{"$f":"Berechnungen!C17","v":181000},{"$f":"Berechnungen!E17","v":174465.27777777775},{"$f":"Berechnungen!H17","v":276277.77777777775},null,{"$f":"IF(F15>0,Berechnungen!H17,\"\")","v":""},"","","",null,"-  Istkosten",{"$f":"VLOOKUP($F$5,$B$8:$F$28,5)","v":398777.78}]
[null,{"$f":"Berechnungen!B18","v":400},{"$f":"Berechnungen!C18","v":181000},{"$f":"Berechnungen!E18","v":199388.88888888888},{"$f":"Berechnungen!H18","v":289888.88888888888},null,{"$f":"IF(F16>0,Berechnungen!H18,\"\")","v":""},"","","",null,"= Gesamtabweichung",{"$f":"M14-M15","v":-2.222222276031971E-3}]
[null,{"$f":"Berechnungen!B19","v":450},{"$f":"Berechnungen!C19","v":181000},{"$f":"Berechnungen!E19","v":224312.49999999997},{"$f":"Berechnungen!H19","v":303500},null,{"$f":"IF(F17>0,Berechnungen!H19,\"\")","v":""},"","",""]
[null,{"$f":"Berechnungen!B20","v":500},{"$f":"Berechnungen!C20","v":181000},{"$f":"Berechnungen!E20","v":249236.11111111109},{"$f":"Berechnungen!H20","v":317111.11111111112},null,{"$f":"IF(F18>0,Berechnungen!H20,\"\")","v":""},"","","",null,"   Verrechnete Plangemeinkosten",{"$f":"M14","v":398777.77777777775}]
[null,{"$f":"Berechnungen!B21","v":550},{"$f":"Berechnungen!C21","v":181000},{"$f":"Berechnungen!E21","v":274159.72222222219},{"$f":"Berechnungen!H21","v":330722.22222222225},null,{"$f":"IF(F19>0,Berechnungen!H21,\"\")","v":""},"","","",null,"- Sollkosten",{"$f":"VLOOKUP($F$5,$B$8:$E$28,4)","v":398777.77777777775}]
[null,{"$f":"Berechnungen!B22","v":600},{"$f":"Berechnungen!C22","v":181000},{"$f":"Berechnungen!E22","v":299083.33333333331},{"$f":"Berechnungen!H22","v":344333.33333333337},null,{"$f":"IF(F20>0,Berechnungen!H22,\"\")","v":""},"","","",null,"= Beschäftigungsabweichung",{"$f":"M18-M19","v":0}]
[null,{"$f":"Berechnungen!B23","v":650},{"$f":"Berechnungen!C23","v":181000},{"$f":"Berechnungen!E23","v":324006.94444444444},{"$f":"Berechnungen!H23","v":357944.44444444444},null,{"$f":"IF(F21>0,Berechnungen!H23,\"\")","v":""},"","",""]
[null,{"$f":"Berechnungen!B24","v":700},{"$f":"Berechnungen!C24","v":181000},{"$f":"Berechnungen!E24","v":348930.5555555555},{"$f":"Berechnungen!H24","v":371555.55555555556},null,{"$f":"IF(F22>0,Berechnungen!H24,\"\")","v":""},"","","",null,"   Istkosten",{"$f":"VLOOKUP($F$5,$B$8:$F$28,5)","v":398777.78}]
[null,{"$f":"Berechnungen!B25","v":750},{"$f":"Berechnungen!C25","v":181000},{"$f":"Berechnungen!E25","v":373854.16666666663},{"$f":"Berechnungen!H25","v":385166.66666666663},null,{"$f":"IF(F23>0,Berechnungen!H25,\"\")","v":""},"","","",null,"- Sollkosten",{"$f":"VLOOKUP($F$5,$B$8:$E$28,4)","v":398777.77777777775}]
[null,{"$f":"Berechnungen!B26","v":800},{"$f":"Berechnungen!C26","v":181000},{"$f":"Berechnungen!E26","v":398777.77777777775},{"$f":"Berechnungen!H26","v":398777.77777777775},398777.78,{"$f":"IF(F24>0,Berechnungen!H26,\"\")","v":398777.77777777775},0,2.222222276031971E-3,2.222222276031971E-3,null,"= Verbrauchsabweichung",{"$f":"M22-M23","v":2.222222276031971E-3}]
[null,{"$f":"Berechnungen!B27","v":850},{"$f":"Berechnungen!C27","v":181000},{"$f":"Berechnungen!E27","v":423701.38888888882},{"$f":"Berechnungen!H27","v":412388.88888888888},null,{"$f":"IF(F25>0,Berechnungen!H27,\"\")","v":""},"","",""]
[null,{"$f":"Berechnungen!B28","v":900},{"$f":"Berechnungen!C28","v":181000},{"$f":"Berechnungen!E28","v":448624.99999999994},{"$f":"Berechnungen!H28","v":426000},null,{"$f":"IF(F26>0,Berechnungen!H28,\"\")","v":""},"","","",null,"   Beschäftigungsabweichung",{"$f":"M20","v":0}]
[null,{"$f":"Berechnungen!B29","v":950},{"$f":"Berechnungen!C29","v":181000},{"$f":"Berechnungen!E29","v":473548.61111111107},{"$f":"Berechnungen!H29","v":439611.11111111112},null,{"$f":"IF(F27>0,Berechnungen!H29,\"\")","v":""},"","","",null,"+ Verbrauchsabweichung",{"$f":"M24*-1","v":-2.222222276031971E-3}]
[null,{"$f":"Berechnungen!B30","v":1000},{"$f":"Berechnungen!C30","v":181000},{"$f":"Berechnungen!E30","v":498472.22222222219},{"$f":"Berechnungen!H30","v":453222.22222222225},null,{"$f":"IF(F28>0,Berechnungen!H30,\"\")","v":""},"","","",null,"= Gesamtabweichung",{"$f":"M16","v":-2.222222276031971E-3}]

{"sheet":"Grafik","index":3,"n_rows":0,"n_cols":0,"rows_kept":0,"cut":false,"hidden":false,"merged":[]}

{"sheet":"Selbstkosten","index":4,"n_rows":27,"n_cols":3,"rows_kept":27,"cut":false,"hidden":false,"merged":[]}
[]
[null,"Selbskostenkalkulation"]
[]
[null,"Geben Sie die gesamten Kosten für Fertigungsmaterial"]
[null,"und die Gemeinkostenzuschlagssaätze an."]
[null,"Planeinzelkosten für Fertigungsmaterial",80000]
[null,"Materialgemeinkosten",0.1]
[null,"Verwaltungsgemeinkosten",0.15]
[null,"Vertriebsgemeinkosten",0.05]
[]
[null,"Beschäftigung bei Kostenermittlung",{"$f":"Steuerung!D5","v":900}]
[null,"Planeinzelkosten ",{"$f":"C6/C11","v":88.888888888888886}]
[null,"Produktionsmenge bei Kostenermittlung",{"$f":"Steuerung!D6","v":1800}]
[null,"Fertigungszeit je Stück",{"$f":"(C11/C13)*60","v":30}]
[null,"Plankostenverrechnungssatz",{"$f":"Berechnungen!H6","v":498.47222222222217}]
[null,"Planfertigunsgkosten je Stück",{"$f":"(C15*C14)/60","v":249.23611111111106}]
[]
[null,"Ermittlung der Selbstkosten je Stück"]
[]
[null,"   Fertigungsmaterial",{"$f":"C12","v":88.888888888888886}]
[null,"+ Materialgemeinkosten",{"$f":"C20*C7","v":8.8888888888888893}]
[null,"= Planmaterialkosten",{"$f":"C20+C21","v":97.777777777777771}]
[null,"+ Planfertigungskosten",{"$f":"C16","v":249.23611111111106}]
[null,"= Planherstellkosten",{"$f":"C22+C23","v":347.0138888888888}]
[null,"+ Verwaltungsgemeinkosten",{"$f":"C24*C8","v":52.052083333333321}]
[null,"+ Vertriebsgemeinkosten",{"$f":"C24*C9","v":17.350694444444439}]
[null,"= Planselbstkosten je Stück",{"$f":"C24+C25+C26","v":416.41666666666657}]