{"text_format":"1","workbook":"xlsx","n_sheets":3,"sheets":["Stückanalyse","Gesamtanalyse","Funktionen"],"not_rendered":{"charts":2,"images":2,"macros":1,"external_links":0,"defined_names":0,"comments":0,"pivot_tables":0},"unopened":[],"bounds":{"document_bytes":16777216,"sheet_cells":100000,"rows_first":2000,"rows_last":500,"rows_between":2000,"halvings":0,"cell_chars":16384,"cell_head_chars":4096},"cells_cut":0,"cells_raw":0,"read":"whole","date_system":"1900"}

{"sheet":"Stückanalyse","index":0,"n_rows":32,"n_cols":11,"rows_kept":32,"cut":false,"hidden":false,"merged":[[33,2,37,6],[7,2,7,6],[12,2,12,4],[12,5,12,6],[14,1,15,1],[26,7,31,16]]}
[]
[null,"Funktionen",null,"bX2","cX","d","d/X",null,null,"X-Werte","Y-Werte"]
[null,"Gesamtkosten","K=",null,6.8,580,null,null,"PAF1",{"$f":"D15","v":0},{"$f":"F4","v":85}]
[null,"Preis-Absatz-Funktion 1","p1=",null,-1.1499999999999999,85,null,null,null,{"$f":"E15","v":16},{"$f":"F4+(E4*E15)","v":66.599999999999994}]
[null,"Preis-Absatz-Funktion 2","p2=",null,-2.4,105,null,null,"PAF2",{"$f":"D16","v":16},{"$f":"F5+(E5*D16)","v":66.599999999999994}]
[null,"Preis-Absatz-Funktion 3","p3=",null,-0.95,65,null,null,null,{"$f":"E16","v":28},{"$f":"F5+(E5*E16)","v":37.799999999999997}]
[null,null,null,null,null,null,null,null,"PAF3",{"$f":"D17","v":28},{"$f":"F6+(E6*D17)","v":38.400000000000006}]
[null,null,"Gewinnmaximum",null,null,null,null,null,null,{"$f":"E17","v":68.421052631578945},{"$f":"F6+(E6*E17)","v":0}]
[null,null,null,null,"Gewinn","   Preis","   Menge",null,"K'",0,{"$f":"F23","v":6.8}]
[null,null,"PAF1",{"$f":"IF(AND(G10<E15,G10>D15),\"definiert\",\"nicht definiert\")","v":"nicht definiert"},{"$f":"IF(D10=\"definiert\",(G10*F10)-(F3+(E3*G10)),\"\")","v":""},{"$f":"IF(D10=\"definiert\",F4+(E4*G10),\"\")","v":""},{"$f":"ROUND((F27-F23)/(E27*-1),0)","v":34},null,null,{"$f":"F32","v":68.421052631578945},{"$f":"F23","v":6.8}]
[null,null,"PAF2",{"$f":"IF(AND(G11<E16,G11>D16),\"definiert\",\"nicht definiert\")","v":"definiert"},{"$f":"IF(D11=\"definiert\",(G11*F11)-(F3+(E3*G11)),\"\")","v":424},{"$f":"IF(D11=\"definiert\",F5+(E5*G11),\"\")","v":57},{"$f":"ROUND((F29-F23)/(E29*-1),0)","v":20},null,"E'1",{"$f":"D15","v":0},{"$f":"F27","v":85}]
[null,null,"PAF3",{"$f":"IF(AND(G12<E17,G12>D17),\"definiert\",\"nicht definiert\")","v":"definiert"},{"$f":"IF(D12=\"definiert\",(G12*F12)-(F3+(E3*G12)),\"\")","v":311.25},{"$f":"IF(D12=\"definiert\",F6+(E6*G12),\"\")","v":35.549999999999997},{"$f":"ROUND((F31-F23)/(E31*-1),0)","v":31},null,null,{"$f":"E15","v":16},{"$f":"F27+(E27*E15)","v":48.2}]
[null,null,"Definitionsbereiche",null,null,"Cournotscher Punkt",null,null,"E'1/E'2",{"$f":"E15","v":16},{"$f":"F27+(E27*E15)","v":48.2}]
[null,null,null,"xmin","xmax",null,null,null,null,{"$f":"D16","v":16},{"$f":"K15","v":28.200000000000003}]
[null,{"$f":"IF(AND(F5>F4,F5>F6),\"PAF-Reihe OK\",\"PAF-Reihe falsch\")","v":"PAF-Reihe OK"},"PAF1",0,{"$f":"ROUND((F5-F4)/(E4+E5*-1),0)","v":16},"Gmax",{"$f":"MAX(E10:E12)","v":424},null,"E'2",{"$f":"D16","v":16},{"$f":"F29+(E29*D16)","v":28.200000000000003}]
[null,null,"PAF2",{"$f":"ROUND(E15,0)","v":16},{"$f":"ROUND((F6-F5)/(E5+E6*-1),0)","v":28},"XGmax",{"$f":"ROUND(VLOOKUP(G15,E10:G12,3),0)","v":20},null,null,{"$f":"E16","v":28},{"$f":"F29+(E29*E16)","v":-29.400000000000006}]
[null,null,"PAF3",{"$f":"E16","v":28},{"$f":"F32","v":68.421052631578945},"PGmax",{"$f":"VLOOKUP(G15,E10:G12,2)","v":57},null,"E'2/E'3",{"$f":"E16","v":28},{"$f":"K16","v":-29.400000000000006}]
[null,null,null,null,null,null,null,null,null,{"$f":"D17","v":28},{"$f":"K19","v":11.800000000000004}]
[null,"Funktionen",null,"bX2","cX","d","d/X",null,"E'3",{"$f":"D17","v":28},{"$f":"F31+(E31*D17)","v":11.800000000000004}]
[null,"variable Gesamtkosten","Kv=",null,{"$f":"E3","v":6.8},null,null,null,null,{"$f":"E17","v":68.421052631578945},{"$f":"F31+(E31*E17)","v":-65}]
[null,"Stückkosten","k=",null,null,{"$f":"E3","v":6.8},{"$f":"F3","v":580},null,"XGmax",{"$f":"G16","v":20},0]
[null,"variable Stückkosten","kv=",null,null,{"$f":"E3","v":6.8},null,null,null,{"$f":"G16","v":20},{"$f":"G17","v":57}]
[null,"Grenzkosten","K'=",null,null,{"$f":"E3","v":6.8},null,null,"PGmax",0,{"$f":"G17","v":57}]
[null,"fixe Gesamtkosten","Kf=",null,null,{"$f":"F3","v":580},null,null,null,{"$f":"G16","v":20},{"$f":"G17","v":57}]
[null,"fixe Stückkosten","kf=",null,null,null,{"$f":"F3","v":580}]
[null,"Erlös 1","E1=",{"$f":"E4","v":-1.1499999999999999},{"$f":"F4","v":85}]
[null,"Grenzerlös 1","E1'=",null,{"$f":"2*D26","v":-2.2999999999999998},{"$f":"E26","v":85},null,"Nach Klick auf 'Funktionen eingeben' können Sie eine lineare Kostenfunktion und eine Preis-Absatz-Funktion mit drei Bereichen  eingeben. Aus der Tabelle 'Funktionen' können Sie auch Auswahlfunktionen direkt in die die Zellen E3-F6 kopieren. Es wird geprüft, ob bei den von Ihnen eingebenen Funktionen die mittlere Funktion (monopolistischer Bereich) den höchsten Y-Wert hat und die untere Funktionen (unterer atomistischer Bereich) den niedrigsten Y-Wert. Die Anwendung legt die Definitionsbereiche fest und ermittelt den Cournotschen Punkt. "]
[null,"Erlös 2","E2=",{"$f":"E5","v":-2.4},{"$f":"F5","v":105}]
[null,"Grenzerlös 2","E2'=",null,{"$f":"2*D28","v":-4.8},{"$f":"E28","v":105}]
[null,"Erlös 3","E3=",{"$f":"E6","v":-0.95},{"$f":"F6","v":65}]
[null,"Grenzerlös 3","E3'=",null,{"$f":"2*D30","v":-1.9},{"$f":"E30","v":65}]
[null,"Sättigungsmenge","xmax=",null,null,{"$f":"(F6/E6)*-1","v":68.421052631578945}]

{"sheet":"Gesamtanalyse","index":1,"n_rows":103,"n_cols":18,"rows_kept":103,"cut":false,"hidden":false,"merged":[]}
[]
[null,null,null,null,null,null,null,null,null,null,"X","K","E1","E2","E3","E-K","E","K+G"]
[null,null,null,null,null,null,null,null,null,null,0,{"$f":"Stückanalyse!$F$3+(Stückanalyse!$E$3*Gesamtanalyse!K3)","v":580},{"$f":"(Stückanalyse!$E$26*Gesamtanalyse!K3)+(Stückanalyse!$D$26*Gesamtanalyse!K3*Gesamtanalyse!K3)","v":0},{"$f":"(Stückanalyse!$E$28*Gesamtanalyse!K3)+(Stückanalyse!$D$28*Gesamtanalyse!K3*Gesamtanalyse!K3)","v":0},{"$f":"(Stückanalyse!$E$30*Gesamtanalyse!K3)+(Stückanalyse!$D$30*Gesamtanalyse!K3*Gesamtanalyse!K3)","v":0},{"$f":"Q3-L3","v":-580},{"$f":"IF(AND($M3<$N3,$M3>$O3),M3,IF(AND($N3>$O3,$M3>$O3),N3,O3))","v":0},{"$f":"L3+$D$12","v":1004.4930747922436}]
[null,null,null,null,null,null,null,null,null,null,{"$f":"K103/100","v":0.68421052631578949},{"$f":"Stückanalyse!$F$3+(Stückanalyse!$E$3*Gesamtanalyse!K4)","v":584.65263157894742},{"$f":"(Stückanalyse!$E$26*Gesamtanalyse!K4)+(Stückanalyse!$D$26*Gesamtanalyse!K4*Gesamtanalyse!K4)","v":57.619529085872578},{"$f":"(Stückanalyse!$E$28*Gesamtanalyse!K4)+(Stückanalyse!$D$28*Gesamtanalyse!K4*Gesamtanalyse!K4)","v":70.718559556786701},{"$f":"(Stückanalyse!$E$30*Gesamtanalyse!K4)+(Stückanalyse!$D$30*Gesamtanalyse!K4*Gesamtanalyse!K4)","v":44.028947368421051},{"$f":"Q4-L4","v":-527.03310249307481},{"$f":"IF(AND($M4<$N4,$M4>$O4),M4,IF(AND($N4>$O4,$M4>$O4),N4,O4))","v":57.619529085872578},1009.1457063711911]
[null,null,null,null,null,null,null,null,null,null,{"$f":"$K$4+K4","v":1.368421052631579},{"$f":"Stückanalyse!$F$3+(Stückanalyse!$E$3*Gesamtanalyse!K5)","v":589.30526315789473},{"$f":"(Stückanalyse!$E$26*Gesamtanalyse!K5)+(Stückanalyse!$D$26*Gesamtanalyse!K5*Gesamtanalyse!K5)","v":114.16232686980611},{"$f":"(Stückanalyse!$E$28*Gesamtanalyse!K5)+(Stückanalyse!$D$28*Gesamtanalyse!K5*Gesamtanalyse!K5)","v":139.19002770083102},{"$f":"(Stückanalyse!$E$30*Gesamtanalyse!K5)+(Stückanalyse!$D$30*Gesamtanalyse!K5*Gesamtanalyse!K5)","v":87.168421052631572},-475.14293628808861,114.16232686980611,1013.7983379501384]
[null,null,null,"X-Werte","Y-Werte",null,null,null,null,null,2.0526315789473686,{"$f":"Stückanalyse!$F$3+(Stückanalyse!$E$3*Gesamtanalyse!K6)","v":593.95789473684215},{"$f":"(Stückanalyse!$E$26*Gesamtanalyse!K6)+(Stückanalyse!$D$26*Gesamtanalyse!K6*Gesamtanalyse!K6)","v":169.62839335180055},{"$f":"(Stückanalyse!$E$28*Gesamtanalyse!K6)+(Stückanalyse!$D$28*Gesamtanalyse!K6*Gesamtanalyse!K6)","v":205.41440443213298},{"$f":"(Stückanalyse!$E$30*Gesamtanalyse!K6)+(Stückanalyse!$D$30*Gesamtanalyse!K6*Gesamtanalyse!K6)","v":129.4184210526316},-424.32950138504157,169.62839335180055,1018.4509695290858]
[null,null,"XGmax",{"$f":"Stückanalyse!G16","v":20},0,null,null,null,null,null,2.736842105263158,{"$f":"Stückanalyse!$F$3+(Stückanalyse!$E$3*Gesamtanalyse!K7)","v":598.61052631578946},{"$f":"(Stückanalyse!$E$26*Gesamtanalyse!K7)+(Stückanalyse!$D$26*Gesamtanalyse!K7*Gesamtanalyse!K7)","v":224.01772853185597},{"$f":"(Stückanalyse!$E$28*Gesamtanalyse!K7)+(Stückanalyse!$D$28*Gesamtanalyse!K7*Gesamtanalyse!K7)","v":269.39168975069248},{"$f":"(Stückanalyse!$E$30*Gesamtanalyse!K7)+(Stückanalyse!$D$30*Gesamtanalyse!K7*Gesamtanalyse!K7)","v":170.77894736842106},-374.59279778393352,224.01772853185597,1023.1036011080331]
[null,null,null,{"$f":"Stückanalyse!G16","v":20},{"$f":"VLOOKUP(D12,P3:Q103,2,FALSE)","v":1144.0720221606648},null,null,null,null,null,3.4210526315789473,{"$f":"Stückanalyse!$F$3+(Stückanalyse!$E$3*Gesamtanalyse!K8)","v":603.26315789473688},{"$f":"(Stückanalyse!$E$26*Gesamtanalyse!K8)+(Stückanalyse!$D$26*Gesamtanalyse!K8*Gesamtanalyse!K8)","v":277.3303324099723},{"$f":"(Stückanalyse!$E$28*Gesamtanalyse!K8)+(Stückanalyse!$D$28*Gesamtanalyse!K8*Gesamtanalyse!K8)","v":331.12188365650968},{"$f":"(Stückanalyse!$E$30*Gesamtanalyse!K8)+(Stückanalyse!$D$30*Gesamtanalyse!K8*Gesamtanalyse!K8)","v":211.25},-325.93282548476458,277.3303324099723,1027.7562326869806]
[null,null,"EGmax",0,{"$f":"VLOOKUP(D12,P3:Q103,2,FALSE)","v":1144.0720221606648},null,null,null,null,null,4.1052631578947372,{"$f":"Stückanalyse!$F$3+(Stückanalyse!$E$3*Gesamtanalyse!K9)","v":607.91578947368419},{"$f":"(Stückanalyse!$E$26*Gesamtanalyse!K9)+(Stückanalyse!$D$26*Gesamtanalyse!K9*Gesamtanalyse!K9)","v":329.56620498614961},{"$f":"(Stückanalyse!$E$28*Gesamtanalyse!K9)+(Stückanalyse!$D$28*Gesamtanalyse!K9*Gesamtanalyse!K9)","v":390.60498614958453},{"$f":"(Stückanalyse!$E$30*Gesamtanalyse!K9)+(Stückanalyse!$D$30*Gesamtanalyse!K9*Gesamtanalyse!K9)","v":250.83157894736846},-278.34958448753457,329.56620498614961,1032.4088642659278]
[null,null,null,{"$f":"Stückanalyse!G16","v":20},{"$f":"E9","v":1144.0720221606648},null,null,null,null,null,4.7894736842105265,{"$f":"Stückanalyse!$F$3+(Stückanalyse!$E$3*Gesamtanalyse!K10)","v":612.56842105263161},{"$f":"(Stückanalyse!$E$26*Gesamtanalyse!K10)+(Stückanalyse!$D$26*Gesamtanalyse!K10*Gesamtanalyse!K10)","v":380.72534626038782},{"$f":"(Stückanalyse!$E$28*Gesamtanalyse!K10)+(Stückanalyse!$D$28*Gesamtanalyse!K10*Gesamtanalyse!K10)","v":447.84099722991687},{"$f":"(Stückanalyse!$E$30*Gesamtanalyse!K10)+(Stückanalyse!$D$30*Gesamtanalyse!K10*Gesamtanalyse!K10)","v":289.52368421052631},-231.84307479224378,380.72534626038782,1037.0614958448753]
[null,null,null,null,null,null,null,null,null,null,5.4736842105263159,{"$f":"Stückanalyse!$F$3+(Stückanalyse!$E$3*Gesamtanalyse!K11)","v":617.22105263157891},{"$f":"(Stückanalyse!$E$26*Gesamtanalyse!K11)+(Stückanalyse!$D$26*Gesamtanalyse!K11*Gesamtanalyse!K11)","v":430.80775623268698},{"$f":"(Stückanalyse!$E$28*Gesamtanalyse!K11)+(Stückanalyse!$D$28*Gesamtanalyse!K11*Gesamtanalyse!K11)","v":502.82991689750691},{"$f":"(Stückanalyse!$E$30*Gesamtanalyse!K11)+(Stückanalyse!$D$30*Gesamtanalyse!K11*Gesamtanalyse!K11)","v":327.32631578947365},-186.41329639889193,430.80775623268698,1041.7141274238224]
[null,null,"Gmax",{"$f":"MAX(P3:P103)","v":424.49307479224365},null,null,null,null,null,null,6.1578947368421053,{"$f":"Stückanalyse!$F$3+(Stückanalyse!$E$3*Gesamtanalyse!K12)","v":621.87368421052633},{"$f":"(Stückanalyse!$E$26*Gesamtanalyse!K12)+(Stückanalyse!$D$26*Gesamtanalyse!K12*Gesamtanalyse!K12)","v":479.8134349030471},{"$f":"(Stückanalyse!$E$28*Gesamtanalyse!K12)+(Stückanalyse!$D$28*Gesamtanalyse!K12*Gesamtanalyse!K12)","v":555.57174515235454},{"$f":"(Stückanalyse!$E$30*Gesamtanalyse!K12)+(Stückanalyse!$D$30*Gesamtanalyse!K12*Gesamtanalyse!K12)","v":364.23947368421051},-142.06024930747924,479.8134349030471,1046.3667590027699]
[null,null,null,null,null,null,null,null,null,null,6.8421052631578947,{"$f":"Stückanalyse!$F$3+(Stückanalyse!$E$3*Gesamtanalyse!K13)","v":626.52631578947364},{"$f":"(Stückanalyse!$E$26*Gesamtanalyse!K13)+(Stückanalyse!$D$26*Gesamtanalyse!K13*Gesamtanalyse!K13)","v":527.74238227146816},{"$f":"(Stückanalyse!$E$28*Gesamtanalyse!K13)+(Stückanalyse!$D$28*Gesamtanalyse!K13*Gesamtanalyse!K13)","v":606.06648199445988},{"$f":"(Stückanalyse!$E$30*Gesamtanalyse!K13)+(Stückanalyse!$D$30*Gesamtanalyse!K13*Gesamtanalyse!K13)","v":400.26315789473688},-98.783933518005483,527.74238227146816,1051.0193905817173]
[null,null,null,null,null,null,null,null,null,null,7.5263157894736841,{"$f":"Stückanalyse!$F$3+(Stückanalyse!$E$3*Gesamtanalyse!K14)","v":631.17894736842106},{"$f":"(Stückanalyse!$E$26*Gesamtanalyse!K14)+(Stückanalyse!$D$26*Gesamtanalyse!K14*Gesamtanalyse!K14)","v":574.59459833795017},{"$f":"(Stückanalyse!$E$28*Gesamtanalyse!K14)+(Stückanalyse!$D$28*Gesamtanalyse!K14*Gesamtanalyse!K14)","v":654.31412742382281},{"$f":"(Stückanalyse!$E$30*Gesamtanalyse!K14)+(Stückanalyse!$D$30*Gesamtanalyse!K14*Gesamtanalyse!K14)","v":435.39736842105265},-56.584349030470889,574.59459833795017,1055.6720221606647]
[null,null,null,null,null,null,null,null,null,null,8.2105263157894743,{"$f":"Stückanalyse!$F$3+(Stückanalyse!$E$3*Gesamtanalyse!K15)","v":635.83157894736837},{"$f":"(Stückanalyse!$E$26*Gesamtanalyse!K15)+(Stückanalyse!$D$26*Gesamtanalyse!K15*Gesamtanalyse!K15)","v":620.37008310249314},{"$f":"(Stückanalyse!$E$28*Gesamtanalyse!K15)+(Stückanalyse!$D$28*Gesamtanalyse!K15*Gesamtanalyse!K15)","v":700.31468144044322},{"$f":"(Stückanalyse!$E$30*Gesamtanalyse!K15)+(Stückanalyse!$D$30*Gesamtanalyse!K15*Gesamtanalyse!K15)","v":469.64210526315793},-15.46149584487523,620.37008310249314,1060.3246537396121]
[null,null,null,null,null,null,null,null,null,null,8.8947368421052637,{"$f":"Stückanalyse!$F$3+(Stückanalyse!$E$3*Gesamtanalyse!K16)","v":640.48421052631579},{"$f":"(Stückanalyse!$E$26*Gesamtanalyse!K16)+(Stückanalyse!$D$26*Gesamtanalyse!K16*Gesamtanalyse!K16)","v":665.06883656509694},{"$f":"(Stückanalyse!$E$28*Gesamtanalyse!K16)+(Stückanalyse!$D$28*Gesamtanalyse!K16*Gesamtanalyse!K16)","v":744.06814404432134},{"$f":"(Stückanalyse!$E$30*Gesamtanalyse!K16)+(Stückanalyse!$D$30*Gesamtanalyse!K16*Gesamtanalyse!K16)","v":502.99736842105273},24.584626038781153,665.06883656509694,1064.9772853185596]
[null,null,null,null,null,null,null,null,null,null,9.5789473684210531,{"$f":"Stückanalyse!$F$3+(Stückanalyse!$E$3*Gesamtanalyse!K17)","v":645.13684210526321},{"$f":"(Stückanalyse!$E$26*Gesamtanalyse!K17)+(Stückanalyse!$D$26*Gesamtanalyse!K17*Gesamtanalyse!K17)","v":708.69085872576181},{"$f":"(Stückanalyse!$E$28*Gesamtanalyse!K17)+(Stückanalyse!$D$28*Gesamtanalyse!K17*Gesamtanalyse!K17)","v":785.57451523545706},{"$f":"(Stückanalyse!$E$30*Gesamtanalyse!K17)+(Stückanalyse!$D$30*Gesamtanalyse!K17*Gesamtanalyse!K17)","v":535.46315789473681},63.554016620498601,708.69085872576181,1069.629916897507]
[null,null,null,null,null,null,null,null,null,null,10.263157894736842,{"$f":"Stückanalyse!$F$3+(Stückanalyse!$E$3*Gesamtanalyse!K18)","v":649.78947368421052},{"$f":"(Stückanalyse!$E$26*Gesamtanalyse!K18)+(Stückanalyse!$D$26*Gesamtanalyse!K18*Gesamtanalyse!K18)","v":751.23614958448752},{"$f":"(Stückanalyse!$E$28*Gesamtanalyse!K18)+(Stückanalyse!$D$28*Gesamtanalyse!K18*Gesamtanalyse!K18)","v":824.83379501385048},{"$f":"(Stückanalyse!$E$30*Gesamtanalyse!K18)+(Stückanalyse!$D$30*Gesamtanalyse!K18*Gesamtanalyse!K18)","v":567.03947368421063},101.446675900277,751.23614958448752,1074.2825484764542]
[null,null,null,null,null,null,null,null,null,null,10.947368421052632,{"$f":"Stückanalyse!$F$3+(Stückanalyse!$E$3*Gesamtanalyse!K19)","v":654.44210526315794},{"$f":"(Stückanalyse!$E$26*Gesamtanalyse!K19)+(Stückanalyse!$D$26*Gesamtanalyse!K19*Gesamtanalyse!K19)","v":792.70470914127429},{"$f":"(Stückanalyse!$E$28*Gesamtanalyse!K19)+(Stückanalyse!$D$28*Gesamtanalyse!K19*Gesamtanalyse!K19)","v":861.84598337950138},{"$f":"(Stückanalyse!$E$30*Gesamtanalyse!K19)+(Stückanalyse!$D$30*Gesamtanalyse!K19*Gesamtanalyse!K19)","v":597.72631578947369},138.26260387811635,792.70470914127429,1078.9351800554016]
[null,null,null,null,null,null,null,null,null,null,11.631578947368421,{"$f":"Stückanalyse!$F$3+(Stückanalyse!$E$3*Gesamtanalyse!K20)","v":659.09473684210525},{"$f":"(Stückanalyse!$E$26*Gesamtanalyse!K20)+(Stückanalyse!$D$26*Gesamtanalyse!K20*Gesamtanalyse!K20)","v":833.0965373961219},{"$f":"(Stückanalyse!$E$28*Gesamtanalyse!K20)+(Stückanalyse!$D$28*Gesamtanalyse!K20*Gesamtanalyse!K20)","v":896.61108033240998},{"$f":"(Stückanalyse!$E$30*Gesamtanalyse!K20)+(Stückanalyse!$D$30*Gesamtanalyse!K20*Gesamtanalyse!K20)","v":627.52368421052643},174.00180055401665,833.0965373961219,1083.5878116343488]
[null,null,null,null,null,null,null,null,null,null,12.315789473684211,{"$f":"Stückanalyse!$F$3+(Stückanalyse!$E$3*Gesamtanalyse!K21)","v":663.74736842105267},{"$f":"(Stückanalyse!$E$26*Gesamtanalyse!K21)+(Stückanalyse!$D$26*Gesamtanalyse!K21*Gesamtanalyse!K21)","v":872.41163434903046},{"$f":"(Stückanalyse!$E$28*Gesamtanalyse!K21)+(Stückanalyse!$D$28*Gesamtanalyse!K21*Gesamtanalyse!K21)","v":929.12908587257618},{"$f":"(Stückanalyse!$E$30*Gesamtanalyse!K21)+(Stückanalyse!$D$30*Gesamtanalyse!K21*Gesamtanalyse!K21)","v":656.43157894736839},208.66426592797779,872.41163434903046,1088.2404432132962]
[null,null,null,null,null,null,null,null,null,null,13,{"$f":"Stückanalyse!$F$3+(Stückanalyse!$E$3*Gesamtanalyse!K22)","v":668.4},{"$f":"(Stückanalyse!$E$26*Gesamtanalyse!K22)+(Stückanalyse!$D$26*Gesamtanalyse!K22*Gesamtanalyse!K22)","v":910.65},{"$f":"(Stückanalyse!$E$28*Gesamtanalyse!K22)+(Stückanalyse!$D$28*Gesamtanalyse!K22*Gesamtanalyse!K22)","v":959.40000000000009},{"$f":"(Stückanalyse!$E$30*Gesamtanalyse!K22)+(Stückanalyse!$D$30*Gesamtanalyse!K22*Gesamtanalyse!K22)","v":684.45},242.25,910.65,1092.8930747922436]
[null,null,null,null,null,null,null,null,null,null,13.684210526315789,{"$f":"Stückanalyse!$F$3+(Stückanalyse!$E$3*Gesamtanalyse!K23)","v":673.0526315789474},{"$f":"(Stückanalyse!$E$26*Gesamtanalyse!K23)+(Stückanalyse!$D$26*Gesamtanalyse!K23*Gesamtanalyse!K23)","v":947.81163434903044},{"$f":"(Stückanalyse!$E$28*Gesamtanalyse!K23)+(Stückanalyse!$D$28*Gesamtanalyse!K23*Gesamtanalyse!K23)","v":987.42382271468159},{"$f":"(Stückanalyse!$E$30*Gesamtanalyse!K23)+(Stückanalyse!$D$30*Gesamtanalyse!K23*Gesamtanalyse!K23)","v":711.57894736842104},274.75900277008304,947.81163434903044,1097.545706371191]
[null,null,null,null,null,null,null,null,null,null,14.368421052631579,{"$f":"Stückanalyse!$F$3+(Stückanalyse!$E$3*Gesamtanalyse!K24)","v":677.70526315789471},{"$f":"(Stückanalyse!$E$26*Gesamtanalyse!K24)+(Stückanalyse!$D$26*Gesamtanalyse!K24*Gesamtanalyse!K24)","v":983.89653739612186},{"$f":"(Stückanalyse!$E$28*Gesamtanalyse!K24)+(Stückanalyse!$D$28*Gesamtanalyse!K24*Gesamtanalyse!K24)","v":1013.2005540166206},{"$f":"(Stückanalyse!$E$30*Gesamtanalyse!K24)+(Stückanalyse!$D$30*Gesamtanalyse!K24*Gesamtanalyse!K24)","v":737.81842105263161},306.19127423822715,983.89653739612186,1102.1983379501385]
[null,null,null,null,null,null,null,null,null,null,15.052631578947368,{"$f":"Stückanalyse!$F$3+(Stückanalyse!$E$3*Gesamtanalyse!K25)","v":682.35789473684213},{"$f":"(Stückanalyse!$E$26*Gesamtanalyse!K25)+(Stückanalyse!$D$26*Gesamtanalyse!K25*Gesamtanalyse!K25)","v":1018.9047091412742},{"$f":"(Stückanalyse!$E$28*Gesamtanalyse!K25)+(Stückanalyse!$D$28*Gesamtanalyse!K25*Gesamtanalyse!K25)","v":1036.7301939058175},{"$f":"(Stückanalyse!$E$30*Gesamtanalyse!K25)+(Stückanalyse!$D$30*Gesamtanalyse!K25*Gesamtanalyse!K25)","v":763.16842105263163},336.5468144044321,1018.9047091412742,1106.8509695290859]
[null,null,null,null,null,null,null,null,null,null,15.736842105263158,{"$f":"Stückanalyse!$F$3+(Stückanalyse!$E$3*Gesamtanalyse!K26)","v":687.01052631578943},{"$f":"(Stückanalyse!$E$26*Gesamtanalyse!K26)+(Stückanalyse!$D$26*Gesamtanalyse!K26*Gesamtanalyse!K26)","v":1052.8361495844874},{"$f":"(Stückanalyse!$E$28*Gesamtanalyse!K26)+(Stückanalyse!$D$28*Gesamtanalyse!K26*Gesamtanalyse!K26)","v":1058.0127423822714},{"$f":"(Stückanalyse!$E$30*Gesamtanalyse!K26)+(Stückanalyse!$D$30*Gesamtanalyse!K26*Gesamtanalyse!K26)","v":787.628947368421},365.825623268698,1052.8361495844874,1111.5036011080331]
[null,null,null,null,null,null,null,null,null,null,16.421052631578949,{"$f":"Stückanalyse!$F$3+(Stückanalyse!$E$3*Gesamtanalyse!K27)","v":691.66315789473686},{"$f":"(Stückanalyse!$E$26*Gesamtanalyse!K27)+(Stückanalyse!$D$26*Gesamtanalyse!K27*Gesamtanalyse!K27)","v":1085.6908587257617},{"$f":"(Stückanalyse!$E$28*Gesamtanalyse!K27)+(Stückanalyse!$D$28*Gesamtanalyse!K27*Gesamtanalyse!K27)","v":1077.0481994459833},{"$f":"(Stückanalyse!$E$30*Gesamtanalyse!K27)+(Stückanalyse!$D$30*Gesamtanalyse!K27*Gesamtanalyse!K27)","v":811.2},385.38504155124645,1077.0481994459833,1116.1562326869805]
[null,null,null,null,null,null,null,null,null,null,17.10526315789474,{"$f":"Stückanalyse!$F$3+(Stückanalyse!$E$3*Gesamtanalyse!K28)","v":696.31578947368428},{"$f":"(Stückanalyse!$E$26*Gesamtanalyse!K28)+(Stückanalyse!$D$26*Gesamtanalyse!K28*Gesamtanalyse!K28)","v":1117.4688365650973},{"$f":"(Stückanalyse!$E$28*Gesamtanalyse!K28)+(Stückanalyse!$D$28*Gesamtanalyse!K28*Gesamtanalyse!K28)","v":1093.8365650969531},{"$f":"(Stückanalyse!$E$30*Gesamtanalyse!K28)+(Stückanalyse!$D$30*Gesamtanalyse!K28*Gesamtanalyse!K28)","v":833.88157894736855},397.52077562326883,1093.8365650969531,1120.8088642659279]
[null,null,null,null,null,null,null,null,null,null,17.789473684210531,{"$f":"Stückanalyse!$F$3+(Stückanalyse!$E$3*Gesamtanalyse!K29)","v":700.96842105263158},{"$f":"(Stückanalyse!$E$26*Gesamtanalyse!K29)+(Stückanalyse!$D$26*Gesamtanalyse!K29*Gesamtanalyse!K29)","v":1148.1700831024932},{"$f":"(Stückanalyse!$E$28*Gesamtanalyse!K29)+(Stückanalyse!$D$28*Gesamtanalyse!K29*Gesamtanalyse!K29)","v":1108.3778393351799},{"$f":"(Stückanalyse!$E$30*Gesamtanalyse!K29)+(Stückanalyse!$D$30*Gesamtanalyse!K29*Gesamtanalyse!K29)","v":855.67368421052663},407.40941828254836,1108.3778393351799,1125.4614958448751]
[null,null,null,null,null,null,null,null,null,null,18.473684210526322,{"$f":"Stückanalyse!$F$3+(Stückanalyse!$E$3*Gesamtanalyse!K30)","v":705.621052631579},{"$f":"(Stückanalyse!$E$26*Gesamtanalyse!K30)+(Stückanalyse!$D$26*Gesamtanalyse!K30*Gesamtanalyse!K30)","v":1177.7945983379504},{"$f":"(Stückanalyse!$E$28*Gesamtanalyse!K30)+(Stückanalyse!$D$28*Gesamtanalyse!K30*Gesamtanalyse!K30)","v":1120.6720221606649},{"$f":"(Stückanalyse!$E$30*Gesamtanalyse!K30)+(Stückanalyse!$D$30*Gesamtanalyse!K30*Gesamtanalyse!K30)","v":876.57631578947382},415.05096952908593,1120.6720221606649,1130.1141274238225]
[null,null,null,null,null,null,null,null,null,null,19.157894736842113,{"$f":"Stückanalyse!$F$3+(Stückanalyse!$E$3*Gesamtanalyse!K31)","v":710.27368421052643},{"$f":"(Stückanalyse!$E$26*Gesamtanalyse!K31)+(Stückanalyse!$D$26*Gesamtanalyse!K31*Gesamtanalyse!K31)","v":1206.3423822714685},{"$f":"(Stückanalyse!$E$28*Gesamtanalyse!K31)+(Stückanalyse!$D$28*Gesamtanalyse!K31*Gesamtanalyse!K31)","v":1130.7191135734074},{"$f":"(Stückanalyse!$E$30*Gesamtanalyse!K31)+(Stückanalyse!$D$30*Gesamtanalyse!K31*Gesamtanalyse!K31)","v":896.58947368421082},420.44542936288099,1130.7191135734074,1134.76675900277]
[null,null,null,null,null,null,null,null,null,null,19.842105263157904,{"$f":"Stückanalyse!$F$3+(Stückanalyse!$E$3*Gesamtanalyse!K32)","v":714.92631578947373},{"$f":"(Stückanalyse!$E$26*Gesamtanalyse!K32)+(Stückanalyse!$D$26*Gesamtanalyse!K32*Gesamtanalyse!K32)","v":1233.8134349030474},{"$f":"(Stückanalyse!$E$28*Gesamtanalyse!K32)+(Stückanalyse!$D$28*Gesamtanalyse!K32*Gesamtanalyse!K32)","v":1138.5191135734076},{"$f":"(Stückanalyse!$E$30*Gesamtanalyse!K32)+(Stückanalyse!$D$30*Gesamtanalyse!K32*Gesamtanalyse!K32)","v":915.71315789473715},423.59279778393386,1138.5191135734076,1139.4193905817174]
[null,null,null,null,null,null,null,null,null,null,20.526315789473696,{"$f":"Stückanalyse!$F$3+(Stückanalyse!$E$3*Gesamtanalyse!K33)","v":719.57894736842115},{"$f":"(Stückanalyse!$E$26*Gesamtanalyse!K33)+(Stückanalyse!$D$26*Gesamtanalyse!K33*Gesamtanalyse!K33)","v":1260.2077562326874},{"$f":"(Stückanalyse!$E$28*Gesamtanalyse!K33)+(Stückanalyse!$D$28*Gesamtanalyse!K33*Gesamtanalyse!K33)","v":1144.0720221606648},{"$f":"(Stückanalyse!$E$30*Gesamtanalyse!K33)+(Stückanalyse!$D$30*Gesamtanalyse!K33*Gesamtanalyse!K33)","v":933.94736842105294},424.49307479224365,1144.0720221606648,1144.0720221606648]
[null,null,null,null,null,null,null,null,null,null,21.210526315789487,{"$f":"Stückanalyse!$F$3+(Stückanalyse!$E$3*Gesamtanalyse!K34)","v":724.23157894736846},{"$f":"(Stückanalyse!$E$26*Gesamtanalyse!K34)+(Stückanalyse!$D$26*Gesamtanalyse!K34*Gesamtanalyse!K34)","v":1285.5253462603882},{"$f":"(Stückanalyse!$E$28*Gesamtanalyse!K34)+(Stückanalyse!$D$28*Gesamtanalyse!K34*Gesamtanalyse!K34)","v":1147.3778393351799},{"$f":"(Stückanalyse!$E$30*Gesamtanalyse!K34)+(Stückanalyse!$D$30*Gesamtanalyse!K34*Gesamtanalyse!K34)","v":951.29210526315831},423.14626038781148,1147.3778393351799,1148.7246537396122]
[null,null,null,null,null,null,null,null,null,null,21.894736842105278,{"$f":"Stückanalyse!$F$3+(Stückanalyse!$E$3*Gesamtanalyse!K35)","v":728.88421052631588},{"$f":"(Stückanalyse!$E$26*Gesamtanalyse!K35)+(Stückanalyse!$D$26*Gesamtanalyse!K35*Gesamtanalyse!K35)","v":1309.7662049861501},{"$f":"(Stückanalyse!$E$28*Gesamtanalyse!K35)+(Stückanalyse!$D$28*Gesamtanalyse!K35*Gesamtanalyse!K35)","v":1148.436565096953},{"$f":"(Stückanalyse!$E$30*Gesamtanalyse!K35)+(Stückanalyse!$D$30*Gesamtanalyse!K35*Gesamtanalyse!K35)","v":967.7473684210529},419.55235457063714,{"$f":"IF(AND($M35<$N35,$M35>$O35),M35,IF(AND($N35>$O35,$M35>$O35),N35,O35))","v":1148.436565096953},{"$f":"L35+$D$12","v":1153.3772853185596}]
[null,null,null,null,null,null,null,null,null,null,22.578947368421069,{"$f":"Stückanalyse!$F$3+(Stückanalyse!$E$3*Gesamtanalyse!K36)","v":733.5368421052633},{"$f":"(Stückanalyse!$E$26*Gesamtanalyse!K36)+(Stückanalyse!$D$26*Gesamtanalyse!K36*Gesamtanalyse!K36)","v":1332.9303324099728},{"$f":"(Stückanalyse!$E$28*Gesamtanalyse!K36)+(Stückanalyse!$D$28*Gesamtanalyse!K36*Gesamtanalyse!K36)","v":1147.2481994459833},{"$f":"(Stückanalyse!$E$30*Gesamtanalyse!K36)+(Stückanalyse!$D$30*Gesamtanalyse!K36*Gesamtanalyse!K36)","v":983.31315789473729},413.71135734072004,1147.2481994459833,1158.0299168975071]
[null,null,null,null,null,null,null,null,null,null,23.26315789473686,{"$f":"Stückanalyse!$F$3+(Stückanalyse!$E$3*Gesamtanalyse!K37)","v":738.18947368421061},{"$f":"(Stückanalyse!$E$26*Gesamtanalyse!K37)+(Stückanalyse!$D$26*Gesamtanalyse!K37*Gesamtanalyse!K37)","v":1355.0177285318564},{"$f":"(Stückanalyse!$E$28*Gesamtanalyse!K37)+(Stückanalyse!$D$28*Gesamtanalyse!K37*Gesamtanalyse!K37)","v":1143.8127423822712},{"$f":"(Stückanalyse!$E$30*Gesamtanalyse!K37)+(Stückanalyse!$D$30*Gesamtanalyse!K37*Gesamtanalyse!K37)","v":997.98947368421091},405.62326869806054,1143.8127423822712,1162.6825484764543]
[null,null,null,null,null,null,null,null,null,null,23.947368421052651,{"$f":"Stückanalyse!$F$3+(Stückanalyse!$E$3*Gesamtanalyse!K38)","v":742.84210526315803},{"$f":"(Stückanalyse!$E$26*Gesamtanalyse!K38)+(Stückanalyse!$D$26*Gesamtanalyse!K38*Gesamtanalyse!K38)","v":1376.0283933518012},{"$f":"(Stückanalyse!$E$28*Gesamtanalyse!K38)+(Stückanalyse!$D$28*Gesamtanalyse!K38*Gesamtanalyse!K38)","v":1138.1301939058171},{"$f":"(Stückanalyse!$E$30*Gesamtanalyse!K38)+(Stückanalyse!$D$30*Gesamtanalyse!K38*Gesamtanalyse!K38)","v":1011.7763157894742},395.28808864265909,1138.1301939058171,1167.3351800554017]
[null,null,null,null,null,null,null,null,null,null,24.631578947368443,{"$f":"Stückanalyse!$F$3+(Stückanalyse!$E$3*Gesamtanalyse!K39)","v":747.49473684210534},{"$f":"(Stückanalyse!$E$26*Gesamtanalyse!K39)+(Stückanalyse!$D$26*Gesamtanalyse!K39*Gesamtanalyse!K39)","v":1395.9623268698069},{"$f":"(Stückanalyse!$E$28*Gesamtanalyse!K39)+(Stückanalyse!$D$28*Gesamtanalyse!K39*Gesamtanalyse!K39)","v":1130.2005540166203},{"$f":"(Stückanalyse!$E$30*Gesamtanalyse!K39)+(Stückanalyse!$D$30*Gesamtanalyse!K39*Gesamtanalyse!K39)","v":1024.673684210527},382.705817174515,1130.2005540166203,1171.9878116343489]
[null,null,null,null,null,null,null,null,null,null,25.315789473684234,{"$f":"Stückanalyse!$F$3+(Stückanalyse!$E$3*Gesamtanalyse!K40)","v":752.14736842105276},{"$f":"(Stückanalyse!$E$26*Gesamtanalyse!K40)+(Stückanalyse!$D$26*Gesamtanalyse!K40*Gesamtanalyse!K40)","v":1414.819529085873},{"$f":"(Stückanalyse!$E$28*Gesamtanalyse!K40)+(Stückanalyse!$D$28*Gesamtanalyse!K40*Gesamtanalyse!K40)","v":1120.0238227146808},{"$f":"(Stückanalyse!$E$30*Gesamtanalyse!K40)+(Stückanalyse!$D$30*Gesamtanalyse!K40*Gesamtanalyse!K40)","v":1036.6815789473687},367.87645429362806,1120.0238227146808,1176.6404432132963]
[null,null,null,null,null,null,null,null,null,null,26.000000000000025,{"$f":"Stückanalyse!$F$3+(Stückanalyse!$E$3*Gesamtanalyse!K41)","v":756.80000000000018},{"$f":"(Stückanalyse!$E$26*Gesamtanalyse!K41)+(Stückanalyse!$D$26*Gesamtanalyse!K41*Gesamtanalyse!K41)","v":1432.6000000000008},{"$f":"(Stückanalyse!$E$28*Gesamtanalyse!K41)+(Stückanalyse!$D$28*Gesamtanalyse!K41*Gesamtanalyse!K41)","v":1107.5999999999997},{"$f":"(Stückanalyse!$E$30*Gesamtanalyse!K41)+(Stückanalyse!$D$30*Gesamtanalyse!K41*Gesamtanalyse!K41)","v":1047.8000000000002},350.7999999999995,1107.5999999999997,1181.2930747922437]
[null,null,null,null,null,null,null,null,null,null,26.684210526315816,{"$f":"Stückanalyse!$F$3+(Stückanalyse!$E$3*Gesamtanalyse!K42)","v":761.4526315789476},{"$f":"(Stückanalyse!$E$26*Gesamtanalyse!K42)+(Stückanalyse!$D$26*Gesamtanalyse!K42*Gesamtanalyse!K42)","v":1449.303739612189},{"$f":"(Stückanalyse!$E$28*Gesamtanalyse!K42)+(Stückanalyse!$D$28*Gesamtanalyse!K42*Gesamtanalyse!K42)","v":1092.9290858725758},{"$f":"(Stückanalyse!$E$30*Gesamtanalyse!K42)+(Stückanalyse!$D$30*Gesamtanalyse!K42*Gesamtanalyse!K42)","v":1058.0289473684215},331.47645429362819,1092.9290858725758,1185.9457063711911]
[null,null,null,null,null,null,null,null,null,null,27.368421052631607,{"$f":"Stückanalyse!$F$3+(Stückanalyse!$E$3*Gesamtanalyse!K43)","v":766.10526315789491},{"$f":"(Stückanalyse!$E$26*Gesamtanalyse!K43)+(Stückanalyse!$D$26*Gesamtanalyse!K43*Gesamtanalyse!K43)","v":1464.9307479224381},{"$f":"(Stückanalyse!$E$28*Gesamtanalyse!K43)+(Stückanalyse!$D$28*Gesamtanalyse!K43*Gesamtanalyse!K43)","v":1076.0110803324092},{"$f":"(Stückanalyse!$E$30*Gesamtanalyse!K43)+(Stückanalyse!$D$30*Gesamtanalyse!K43*Gesamtanalyse!K43)","v":1067.3684210526321},309.90581717451425,1076.0110803324092,1190.5983379501386]
[null,null,null,null,null,null,null,null,null,null,28.052631578947398,{"$f":"Stückanalyse!$F$3+(Stückanalyse!$E$3*Gesamtanalyse!K44)","v":770.75789473684233},{"$f":"(Stückanalyse!$E$26*Gesamtanalyse!K44)+(Stückanalyse!$D$26*Gesamtanalyse!K44*Gesamtanalyse!K44)","v":1479.4810249307488},{"$f":"(Stückanalyse!$E$28*Gesamtanalyse!K44)+(Stückanalyse!$D$28*Gesamtanalyse!K44*Gesamtanalyse!K44)","v":1056.8459833795007},{"$f":"(Stückanalyse!$E$30*Gesamtanalyse!K44)+(Stückanalyse!$D$30*Gesamtanalyse!K44*Gesamtanalyse!K44)","v":1075.8184210526319},305.06052631578962,1075.8184210526319,1195.250969529086]
[null,null,null,null,null,null,null,null,null,null,28.736842105263189,{"$f":"Stückanalyse!$F$3+(Stückanalyse!$E$3*Gesamtanalyse!K45)","v":775.41052631578964},{"$f":"(Stückanalyse!$E$26*Gesamtanalyse!K45)+(Stückanalyse!$D$26*Gesamtanalyse!K45*Gesamtanalyse!K45)","v":1492.9545706371196},{"$f":"(Stückanalyse!$E$28*Gesamtanalyse!K45)+(Stückanalyse!$D$28*Gesamtanalyse!K45*Gesamtanalyse!K45)","v":1035.4337950138492},{"$f":"(Stückanalyse!$E$30*Gesamtanalyse!K45)+(Stückanalyse!$D$30*Gesamtanalyse!K45*Gesamtanalyse!K45)","v":1083.3789473684214},307.96842105263181,1083.3789473684214,1199.9036011080334]
[null,null,null,null,null,null,null,null,null,null,29.421052631578981,{"$f":"Stückanalyse!$F$3+(Stückanalyse!$E$3*Gesamtanalyse!K46)","v":780.06315789473706},{"$f":"(Stückanalyse!$E$26*Gesamtanalyse!K46)+(Stückanalyse!$D$26*Gesamtanalyse!K46*Gesamtanalyse!K46)","v":1505.3513850415518},{"$f":"(Stückanalyse!$E$28*Gesamtanalyse!K46)+(Stückanalyse!$D$28*Gesamtanalyse!K46*Gesamtanalyse!K46)","v":1011.7745152354555},{"$f":"(Stückanalyse!$E$30*Gesamtanalyse!K46)+(Stückanalyse!$D$30*Gesamtanalyse!K46*Gesamtanalyse!K46)","v":1090.0500000000002},309.98684210526312,1090.0500000000002,1204.5562326869808]
[null,null,null,null,null,null,null,null,null,null,30.105263157894772,{"$f":"Stückanalyse!$F$3+(Stückanalyse!$E$3*Gesamtanalyse!K47)","v":784.71578947368448},{"$f":"(Stückanalyse!$E$26*Gesamtanalyse!K47)+(Stückanalyse!$D$26*Gesamtanalyse!K47*Gesamtanalyse!K47)","v":1516.6714681440451},{"$f":"(Stückanalyse!$E$28*Gesamtanalyse!K47)+(Stückanalyse!$D$28*Gesamtanalyse!K47*Gesamtanalyse!K47)","v":985.86814404432016},{"$f":"(Stückanalyse!$E$30*Gesamtanalyse!K47)+(Stückanalyse!$D$30*Gesamtanalyse!K47*Gesamtanalyse!K47)","v":1095.8315789473686},311.11578947368412,1095.8315789473686,1209.2088642659282]
[null,null,null,null,null,null,null,null,null,null,30.789473684210563,{"$f":"Stückanalyse!$F$3+(Stückanalyse!$E$3*Gesamtanalyse!K48)","v":789.36842105263179},{"$f":"(Stückanalyse!$E$26*Gesamtanalyse!K48)+(Stückanalyse!$D$26*Gesamtanalyse!K48*Gesamtanalyse!K48)","v":1526.9148199445988},{"$f":"(Stückanalyse!$E$28*Gesamtanalyse!K48)+(Stückanalyse!$D$28*Gesamtanalyse!K48*Gesamtanalyse!K48)","v":957.71468144044184},{"$f":"(Stückanalyse!$E$30*Gesamtanalyse!K48)+(Stückanalyse!$D$30*Gesamtanalyse!K48*Gesamtanalyse!K48)","v":1100.7236842105267},311.35526315789491,1100.7236842105267,1213.8614958448754]
[null,null,null,null,null,null,null,null,null,null,31.473684210526354,{"$f":"Stückanalyse!$F$3+(Stückanalyse!$E$3*Gesamtanalyse!K49)","v":794.02105263157921},{"$f":"(Stückanalyse!$E$26*Gesamtanalyse!K49)+(Stückanalyse!$D$26*Gesamtanalyse!K49*Gesamtanalyse!K49)","v":1536.081440443214},{"$f":"(Stückanalyse!$E$28*Gesamtanalyse!K49)+(Stückanalyse!$D$28*Gesamtanalyse!K49*Gesamtanalyse!K49)","v":927.31412742382099},{"$f":"(Stückanalyse!$E$30*Gesamtanalyse!K49)+(Stückanalyse!$D$30*Gesamtanalyse!K49*Gesamtanalyse!K49)","v":1104.7263157894738},310.70526315789459,1104.7263157894738,1218.5141274238229]
[null,null,null,null,null,null,null,null,null,null,32.157894736842145,{"$f":"Stückanalyse!$F$3+(Stückanalyse!$E$3*Gesamtanalyse!K50)","v":798.67368421052652},{"$f":"(Stückanalyse!$E$26*Gesamtanalyse!K50)+(Stückanalyse!$D$26*Gesamtanalyse!K50*Gesamtanalyse!K50)","v":1544.1713296398898},{"$f":"(Stückanalyse!$E$28*Gesamtanalyse!K50)+(Stückanalyse!$D$28*Gesamtanalyse!K50*Gesamtanalyse!K50)","v":894.66648199445808},{"$f":"(Stückanalyse!$E$30*Gesamtanalyse!K50)+(Stückanalyse!$D$30*Gesamtanalyse!K50*Gesamtanalyse!K50)","v":1107.8394736842106},309.16578947368407,1107.8394736842106,1223.16675900277]
[null,null,null,null,null,null,null,null,null,null,32.842105263157933,{"$f":"Stückanalyse!$F$3+(Stückanalyse!$E$3*Gesamtanalyse!K51)","v":803.32631578947394},{"$f":"(Stückanalyse!$E$26*Gesamtanalyse!K51)+(Stückanalyse!$D$26*Gesamtanalyse!K51*Gesamtanalyse!K51)","v":1551.1844875346267},{"$f":"(Stückanalyse!$E$28*Gesamtanalyse!K51)+(Stückanalyse!$D$28*Gesamtanalyse!K51*Gesamtanalyse!K51)","v":859.77174515235265},{"$f":"(Stückanalyse!$E$30*Gesamtanalyse!K51)+(Stückanalyse!$D$30*Gesamtanalyse!K51*Gesamtanalyse!K51)","v":1110.0631578947371},306.73684210526312,1110.0631578947371,1227.8193905817175]
[null,null,null,null,null,null,null,null,null,null,33.52631578947372,{"$f":"Stückanalyse!$F$3+(Stückanalyse!$E$3*Gesamtanalyse!K52)","v":807.97894736842136},{"$f":"(Stückanalyse!$E$26*Gesamtanalyse!K52)+(Stückanalyse!$D$26*Gesamtanalyse!K52*Gesamtanalyse!K52)","v":1557.1209141274239},{"$f":"(Stückanalyse!$E$28*Gesamtanalyse!K52)+(Stückanalyse!$D$28*Gesamtanalyse!K52*Gesamtanalyse!K52)","v":822.62991689750515},{"$f":"(Stückanalyse!$E$30*Gesamtanalyse!K52)+(Stückanalyse!$D$30*Gesamtanalyse!K52*Gesamtanalyse!K52)","v":1111.3973684210528},303.4184210526314,1111.3973684210528,1232.4720221606649]
[null,null,null,null,null,null,null,null,null,null,34.210526315789508,{"$f":"Stückanalyse!$F$3+(Stückanalyse!$E$3*Gesamtanalyse!K53)","v":812.63157894736867},{"$f":"(Stückanalyse!$E$26*Gesamtanalyse!K53)+(Stückanalyse!$D$26*Gesamtanalyse!K53*Gesamtanalyse!K53)","v":1561.9806094182827},{"$f":"(Stückanalyse!$E$28*Gesamtanalyse!K53)+(Stückanalyse!$D$28*Gesamtanalyse!K53*Gesamtanalyse!K53)","v":783.24099722991514},{"$f":"(Stückanalyse!$E$30*Gesamtanalyse!K53)+(Stückanalyse!$D$30*Gesamtanalyse!K53*Gesamtanalyse!K53)","v":1111.8421052631581},299.21052631578948,1111.8421052631581,1237.1246537396123]
[null,null,null,null,null,null,null,null,null,null,34.894736842105296,{"$f":"Stückanalyse!$F$3+(Stückanalyse!$E$3*Gesamtanalyse!K54)","v":817.28421052631597},{"$f":"(Stückanalyse!$E$26*Gesamtanalyse!K54)+(Stückanalyse!$D$26*Gesamtanalyse!K54*Gesamtanalyse!K54)","v":1565.7635734072026},{"$f":"(Stückanalyse!$E$28*Gesamtanalyse!K54)+(Stückanalyse!$D$28*Gesamtanalyse!K54*Gesamtanalyse!K54)","v":741.6049861495826},{"$f":"(Stückanalyse!$E$30*Gesamtanalyse!K54)+(Stückanalyse!$D$30*Gesamtanalyse!K54*Gesamtanalyse!K54)","v":1111.3973684210528},294.11315789473679,1111.3973684210528,1241.7772853185597]
[null,null,null,null,null,null,null,null,null,null,35.578947368421083,{"$f":"Stückanalyse!$F$3+(Stückanalyse!$E$3*Gesamtanalyse!K55)","v":821.93684210526339},{"$f":"(Stückanalyse!$E$26*Gesamtanalyse!K55)+(Stückanalyse!$D$26*Gesamtanalyse!K55*Gesamtanalyse!K55)","v":1568.4698060941828},{"$f":"(Stückanalyse!$E$28*Gesamtanalyse!K55)+(Stückanalyse!$D$28*Gesamtanalyse!K55*Gesamtanalyse!K55)","v":697.72188365650754},{"$f":"(Stückanalyse!$E$30*Gesamtanalyse!K55)+(Stückanalyse!$D$30*Gesamtanalyse!K55*Gesamtanalyse!K55)","v":1110.0631578947371},288.12631578947367,1110.0631578947371,1246.4299168975072]
[null,null,null,null,null,null,null,null,null,null,36.263157894736871,{"$f":"Stückanalyse!$F$3+(Stückanalyse!$E$3*Gesamtanalyse!K56)","v":826.5894736842107},{"$f":"(Stückanalyse!$E$26*Gesamtanalyse!K56)+(Stückanalyse!$D$26*Gesamtanalyse!K56*Gesamtanalyse!K56)","v":1570.0993074792245},{"$f":"(Stückanalyse!$E$28*Gesamtanalyse!K56)+(Stückanalyse!$D$28*Gesamtanalyse!K56*Gesamtanalyse!K56)","v":651.59168975069088},{"$f":"(Stückanalyse!$E$30*Gesamtanalyse!K56)+(Stückanalyse!$D$30*Gesamtanalyse!K56*Gesamtanalyse!K56)","v":1107.8394736842104},281.24999999999966,1107.8394736842104,1251.0825484764543]
[null,null,null,null,null,null,null,null,null,null,36.947368421052659,{"$f":"Stückanalyse!$F$3+(Stückanalyse!$E$3*Gesamtanalyse!K57)","v":831.24210526315801},{"$f":"(Stückanalyse!$E$26*Gesamtanalyse!K57)+(Stückanalyse!$D$26*Gesamtanalyse!K57*Gesamtanalyse!K57)","v":1570.6520775623271},{"$f":"(Stückanalyse!$E$28*Gesamtanalyse!K57)+(Stückanalyse!$D$28*Gesamtanalyse!K57*Gesamtanalyse!K57)","v":603.21440443213123},{"$f":"(Stückanalyse!$E$30*Gesamtanalyse!K57)+(Stückanalyse!$D$30*Gesamtanalyse!K57*Gesamtanalyse!K57)","v":1104.7263157894736},273.48421052631556,1104.7263157894736,1255.7351800554015]
[null,null,null,null,null,null,null,null,null,null,37.631578947368446,{"$f":"Stückanalyse!$F$3+(Stückanalyse!$E$3*Gesamtanalyse!K58)","v":835.89473684210543},{"$f":"(Stückanalyse!$E$26*Gesamtanalyse!K58)+(Stückanalyse!$D$26*Gesamtanalyse!K58*Gesamtanalyse!K58)","v":1570.1281163434908},{"$f":"(Stückanalyse!$E$28*Gesamtanalyse!K58)+(Stückanalyse!$D$28*Gesamtanalyse!K58*Gesamtanalyse!K58)","v":552.59002770082952},{"$f":"(Stückanalyse!$E$30*Gesamtanalyse!K58)+(Stückanalyse!$D$30*Gesamtanalyse!K58*Gesamtanalyse!K58)","v":1100.723684210526},264.82894736842059,1100.723684210526,1260.387811634349]
[null,null,null,null,null,null,null,null,null,null,38.315789473684234,{"$f":"Stückanalyse!$F$3+(Stückanalyse!$E$3*Gesamtanalyse!K59)","v":840.54736842105285},{"$f":"(Stückanalyse!$E$26*Gesamtanalyse!K59)+(Stückanalyse!$D$26*Gesamtanalyse!K59*Gesamtanalyse!K59)","v":1568.5274238227146},{"$f":"(Stückanalyse!$E$28*Gesamtanalyse!K59)+(Stückanalyse!$D$28*Gesamtanalyse!K59*Gesamtanalyse!K59)","v":499.71855955678438},{"$f":"(Stückanalyse!$E$30*Gesamtanalyse!K59)+(Stückanalyse!$D$30*Gesamtanalyse!K59*Gesamtanalyse!K59)","v":1095.8315789473681},255.28421052631529,1095.8315789473681,1265.0404432132964]
[null,null,null,null,null,null,null,null,null,null,39.000000000000021,{"$f":"Stückanalyse!$F$3+(Stückanalyse!$E$3*Gesamtanalyse!K60)","v":845.20000000000016},{"$f":"(Stückanalyse!$E$26*Gesamtanalyse!K60)+(Stückanalyse!$D$26*Gesamtanalyse!K60*Gesamtanalyse!K60)","v":1565.85},{"$f":"(Stückanalyse!$E$28*Gesamtanalyse!K60)+(Stückanalyse!$D$28*Gesamtanalyse!K60*Gesamtanalyse!K60)","v":444.59999999999809},{"$f":"(Stückanalyse!$E$30*Gesamtanalyse!K60)+(Stückanalyse!$D$30*Gesamtanalyse!K60*Gesamtanalyse!K60)","v":1090.05},244.8499999999998,1090.05,1269.6930747922438]
[null,null,null,null,null,null,null,null,null,null,39.684210526315809,{"$f":"Stückanalyse!$F$3+(Stückanalyse!$E$3*Gesamtanalyse!K61)","v":849.85263157894747},{"$f":"(Stückanalyse!$E$26*Gesamtanalyse!K61)+(Stückanalyse!$D$26*Gesamtanalyse!K61*Gesamtanalyse!K61)","v":1562.0958448753463},{"$f":"(Stückanalyse!$E$28*Gesamtanalyse!K61)+(Stückanalyse!$D$28*Gesamtanalyse!K61*Gesamtanalyse!K61)","v":387.23434903046973},{"$f":"(Stückanalyse!$E$30*Gesamtanalyse!K61)+(Stückanalyse!$D$30*Gesamtanalyse!K61*Gesamtanalyse!K61)","v":1083.378947368421},233.52631578947353,1083.378947368421,1274.3457063711912]
[null,null,null,null,null,null,null,null,null,null,40.368421052631597,{"$f":"Stückanalyse!$F$3+(Stückanalyse!$E$3*Gesamtanalyse!K62)","v":854.50526315789489},{"$f":"(Stückanalyse!$E$26*Gesamtanalyse!K62)+(Stückanalyse!$D$26*Gesamtanalyse!K62*Gesamtanalyse!K62)","v":1557.2649584487533},{"$f":"(Stückanalyse!$E$28*Gesamtanalyse!K62)+(Stückanalyse!$D$28*Gesamtanalyse!K62*Gesamtanalyse!K62)","v":327.62160664819794},{"$f":"(Stückanalyse!$E$30*Gesamtanalyse!K62)+(Stückanalyse!$D$30*Gesamtanalyse!K62*Gesamtanalyse!K62)","v":1075.8184210526315},221.31315789473661,1075.8184210526315,1278.9983379501386]
[null,null,null,null,null,null,null,null,null,null,41.052631578947384,{"$f":"Stückanalyse!$F$3+(Stückanalyse!$E$3*Gesamtanalyse!K63)","v":859.1578947368422},{"$f":"(Stückanalyse!$E$26*Gesamtanalyse!K63)+(Stückanalyse!$D$26*Gesamtanalyse!K63*Gesamtanalyse!K63)","v":1551.3573407202216},{"$f":"(Stückanalyse!$E$28*Gesamtanalyse!K63)+(Stückanalyse!$D$28*Gesamtanalyse!K63*Gesamtanalyse!K63)","v":265.76177285318408},{"$f":"(Stückanalyse!$E$30*Gesamtanalyse!K63)+(Stückanalyse!$D$30*Gesamtanalyse!K63*Gesamtanalyse!K63)","v":1067.3684210526314},208.21052631578925,1067.3684210526314,1283.6509695290858]
[null,null,null,null,null,null,null,null,null,null,41.736842105263172,{"$f":"Stückanalyse!$F$3+(Stückanalyse!$E$3*Gesamtanalyse!K64)","v":863.8105263157895},{"$f":"(Stückanalyse!$E$26*Gesamtanalyse!K64)+(Stückanalyse!$D$26*Gesamtanalyse!K64*Gesamtanalyse!K64)","v":1544.372991689751},{"$f":"(Stückanalyse!$E$28*Gesamtanalyse!K64)+(Stückanalyse!$D$28*Gesamtanalyse!K64*Gesamtanalyse!K64)","v":201.65484764542725},{"$f":"(Stückanalyse!$E$30*Gesamtanalyse!K64)+(Stückanalyse!$D$30*Gesamtanalyse!K64*Gesamtanalyse!K64)","v":1058.0289473684211},194.21842105263158,1058.0289473684211,1288.303601108033]
[null,null,null,null,null,null,null,null,null,null,42.421052631578959,{"$f":"Stückanalyse!$F$3+(Stückanalyse!$E$3*Gesamtanalyse!K65)","v":868.46315789473692},{"$f":"(Stückanalyse!$E$26*Gesamtanalyse!K65)+(Stückanalyse!$D$26*Gesamtanalyse!K65*Gesamtanalyse!K65)","v":1536.3119113573412},{"$f":"(Stückanalyse!$E$28*Gesamtanalyse!K65)+(Stückanalyse!$D$28*Gesamtanalyse!K65*Gesamtanalyse!K65)","v":135.30083102492972},{"$f":"(Stückanalyse!$E$30*Gesamtanalyse!K65)+(Stückanalyse!$D$30*Gesamtanalyse!K65*Gesamtanalyse!K65)","v":1047.8},179.33684210526303,1047.8,1292.9562326869805]
[null,null,null,null,null,null,null,null,null,null,43.105263157894747,{"$f":"Stückanalyse!$F$3+(Stückanalyse!$E$3*Gesamtanalyse!K66)","v":873.11578947368434},{"$f":"(Stückanalyse!$E$26*Gesamtanalyse!K66)+(Stückanalyse!$D$26*Gesamtanalyse!K66*Gesamtanalyse!K66)","v":1527.1740997229913},{"$f":"(Stückanalyse!$E$28*Gesamtanalyse!K66)+(Stückanalyse!$D$28*Gesamtanalyse!K66*Gesamtanalyse!K66)","v":66.699722991688759},{"$f":"(Stückanalyse!$E$30*Gesamtanalyse!K66)+(Stückanalyse!$D$30*Gesamtanalyse!K66*Gesamtanalyse!K66)","v":1036.6815789473681},163.56578947368371,1036.6815789473681,1297.6088642659279]
[null,null,null,null,null,null,null,null,null,null,43.789473684210535,{"$f":"Stückanalyse!$F$3+(Stückanalyse!$E$3*Gesamtanalyse!K67)","v":877.76842105263165},{"$f":"(Stückanalyse!$E$26*Gesamtanalyse!K67)+(Stückanalyse!$D$26*Gesamtanalyse!K67*Gesamtanalyse!K67)","v":1516.9595567867036},{"$f":"(Stückanalyse!$E$28*Gesamtanalyse!K67)+(Stückanalyse!$D$28*Gesamtanalyse!K67*Gesamtanalyse!K67)","v":-4.1484764542947232},{"$f":"(Stückanalyse!$E$30*Gesamtanalyse!K67)+(Stückanalyse!$D$30*Gesamtanalyse!K67*Gesamtanalyse!K67)","v":1024.6736842105261},146.90526315789441,1024.6736842105261,1302.2614958448753]
[null,null,null,null,null,null,null,null,null,null,44.473684210526322,{"$f":"Stückanalyse!$F$3+(Stückanalyse!$E$3*Gesamtanalyse!K68)","v":882.42105263157896},{"$f":"(Stückanalyse!$E$26*Gesamtanalyse!K68)+(Stückanalyse!$D$26*Gesamtanalyse!K68*Gesamtanalyse!K68)","v":1505.6682825484768},{"$f":"(Stückanalyse!$E$28*Gesamtanalyse!K68)+(Stückanalyse!$D$28*Gesamtanalyse!K68*Gesamtanalyse!K68)","v":-77.243767313018907},{"$f":"(Stückanalyse!$E$30*Gesamtanalyse!K68)+(Stückanalyse!$D$30*Gesamtanalyse!K68*Gesamtanalyse!K68)","v":1011.7763157894735},{"$f":"Q68-L68","v":129.35526315789457},{"$f":"IF(AND($M68<$N68,$M68>$O68),M68,IF(AND($N68>$O68,$M68>$O68),N68,O68))","v":1011.7763157894735},{"$f":"L68+$D$12","v":1306.9141274238227}]
[null,null,null,null,null,null,null,null,null,null,45.15789473684211,{"$f":"Stückanalyse!$F$3+(Stückanalyse!$E$3*Gesamtanalyse!K69)","v":887.07368421052638},{"$f":"(Stückanalyse!$E$26*Gesamtanalyse!K69)+(Stückanalyse!$D$26*Gesamtanalyse!K69*Gesamtanalyse!K69)","v":1493.3002770083103},{"$f":"(Stückanalyse!$E$28*Gesamtanalyse!K69)+(Stückanalyse!$D$28*Gesamtanalyse!K69*Gesamtanalyse!K69)","v":-152.58614958448834},{"$f":"(Stückanalyse!$E$30*Gesamtanalyse!K69)+(Stückanalyse!$D$30*Gesamtanalyse!K69*Gesamtanalyse!K69)","v":997.98947368421045},110.91578947368407,997.98947368421045,1311.5667590027701]
[null,null,null,null,null,null,null,null,null,null,{"$f":"$K$4+K69","v":45.842105263157897},{"$f":"Stückanalyse!$F$3+(Stückanalyse!$E$3*Gesamtanalyse!K70)","v":891.72631578947369},{"$f":"(Stückanalyse!$E$26*Gesamtanalyse!K70)+(Stückanalyse!$D$26*Gesamtanalyse!K70*Gesamtanalyse!K70)","v":1479.8555401662052},{"$f":"(Stückanalyse!$E$28*Gesamtanalyse!K70)+(Stückanalyse!$D$28*Gesamtanalyse!K70*Gesamtanalyse!K70)","v":-230.17562326869847},{"$f":"(Stückanalyse!$E$30*Gesamtanalyse!K70)+(Stückanalyse!$D$30*Gesamtanalyse!K70*Gesamtanalyse!K70)","v":983.31315789473706},91.586842105263372,983.31315789473706,1316.2193905817173]
[null,null,null,null,null,null,null,null,null,null,46.526315789473685,{"$f":"Stückanalyse!$F$3+(Stückanalyse!$E$3*Gesamtanalyse!K71)","v":896.378947368421},{"$f":"(Stückanalyse!$E$26*Gesamtanalyse!K71)+(Stückanalyse!$D$26*Gesamtanalyse!K71*Gesamtanalyse!K71)","v":1465.3340720221609},{"$f":"(Stückanalyse!$E$28*Gesamtanalyse!K71)+(Stückanalyse!$D$28*Gesamtanalyse!K71*Gesamtanalyse!K71)","v":-310.01218836565113},{"$f":"(Stückanalyse!$E$30*Gesamtanalyse!K71)+(Stückanalyse!$D$30*Gesamtanalyse!K71*Gesamtanalyse!K71)","v":967.74736842105312},71.368421052632129,967.74736842105312,1320.8720221606645]
[null,null,null,null,null,null,null,null,null,null,47.210526315789473,{"$f":"Stückanalyse!$F$3+(Stückanalyse!$E$3*Gesamtanalyse!K72)","v":901.03157894736842},{"$f":"(Stückanalyse!$E$26*Gesamtanalyse!K72)+(Stückanalyse!$D$26*Gesamtanalyse!K72*Gesamtanalyse!K72)","v":1449.7358725761774},{"$f":"(Stückanalyse!$E$28*Gesamtanalyse!K72)+(Stückanalyse!$D$28*Gesamtanalyse!K72*Gesamtanalyse!K72)","v":-392.09584487534539},{"$f":"(Stückanalyse!$E$30*Gesamtanalyse!K72)+(Stückanalyse!$D$30*Gesamtanalyse!K72*Gesamtanalyse!K72)","v":951.29210526315819},50.260526315789775,951.29210526315819,1325.5246537396119]
[null,null,null,null,null,null,null,null,null,null,47.89473684210526,{"$f":"Stückanalyse!$F$3+(Stückanalyse!$E$3*Gesamtanalyse!K73)","v":905.68421052631584},{"$f":"(Stückanalyse!$E$26*Gesamtanalyse!K73)+(Stückanalyse!$D$26*Gesamtanalyse!K73*Gesamtanalyse!K73)","v":1433.0609418282547},{"$f":"(Stückanalyse!$E$28*Gesamtanalyse!K73)+(Stückanalyse!$D$28*Gesamtanalyse!K73*Gesamtanalyse!K73)","v":-476.42659279778309},{"$f":"(Stückanalyse!$E$30*Gesamtanalyse!K73)+(Stückanalyse!$D$30*Gesamtanalyse!K73*Gesamtanalyse!K73)","v":933.94736842105294},28.263157894737105,933.94736842105294,1330.1772853185594]
[null,null,null,null,null,null,null,null,null,null,48.578947368421048,{"$f":"Stückanalyse!$F$3+(Stückanalyse!$E$3*Gesamtanalyse!K74)","v":910.33684210526303},{"$f":"(Stückanalyse!$E$26*Gesamtanalyse!K74)+(Stückanalyse!$D$26*Gesamtanalyse!K74*Gesamtanalyse!K74)","v":1415.3092797783938},{"$f":"(Stückanalyse!$E$28*Gesamtanalyse!K74)+(Stückanalyse!$D$28*Gesamtanalyse!K74*Gesamtanalyse!K74)","v":-563.0044321329633},{"$f":"(Stückanalyse!$E$30*Gesamtanalyse!K74)+(Stückanalyse!$D$30*Gesamtanalyse!K74*Gesamtanalyse!K74)","v":915.71315789473738},5.3763157894743472,915.71315789473738,1334.8299168975068]
[null,null,null,null,null,null,null,null,null,null,49.263157894736835,{"$f":"Stückanalyse!$F$3+(Stückanalyse!$E$3*Gesamtanalyse!K75)","v":914.98947368421045},{"$f":"(Stückanalyse!$E$26*Gesamtanalyse!K75)+(Stückanalyse!$D$26*Gesamtanalyse!K75*Gesamtanalyse!K75)","v":1396.4808864265929},{"$f":"(Stückanalyse!$E$28*Gesamtanalyse!K75)+(Stückanalyse!$D$28*Gesamtanalyse!K75*Gesamtanalyse!K75)","v":-651.82936288088604},{"$f":"(Stückanalyse!$E$30*Gesamtanalyse!K75)+(Stückanalyse!$D$30*Gesamtanalyse!K75*Gesamtanalyse!K75)","v":896.58947368421059},-18.399999999999864,896.58947368421059,1339.4825484764542]
[null,null,null,null,null,null,null,null,null,null,49.947368421052623,{"$f":"Stückanalyse!$F$3+(Stückanalyse!$E$3*Gesamtanalyse!K76)","v":919.64210526315787},{"$f":"(Stückanalyse!$E$26*Gesamtanalyse!K76)+(Stückanalyse!$D$26*Gesamtanalyse!K76*Gesamtanalyse!K76)","v":1376.5757617728541},{"$f":"(Stückanalyse!$E$28*Gesamtanalyse!K76)+(Stückanalyse!$D$28*Gesamtanalyse!K76*Gesamtanalyse!K76)","v":-742.90138504154947},{"$f":"(Stückanalyse!$E$30*Gesamtanalyse!K76)+(Stückanalyse!$D$30*Gesamtanalyse!K76*Gesamtanalyse!K76)","v":876.57631578947394},-43.065789473683935,876.57631578947394,1344.1351800554016]
[null,null,null,null,null,null,null,null,null,null,50.631578947368411,{"$f":"Stückanalyse!$F$3+(Stückanalyse!$E$3*Gesamtanalyse!K77)","v":924.29473684210518},{"$f":"(Stückanalyse!$E$26*Gesamtanalyse!K77)+(Stückanalyse!$D$26*Gesamtanalyse!K77*Gesamtanalyse!K77)","v":1355.5939058171753},{"$f":"(Stückanalyse!$E$28*Gesamtanalyse!K77)+(Stückanalyse!$D$28*Gesamtanalyse!K77*Gesamtanalyse!K77)","v":-836.22049861495634},{"$f":"(Stückanalyse!$E$30*Gesamtanalyse!K77)+(Stückanalyse!$D$30*Gesamtanalyse!K77*Gesamtanalyse!K77)","v":855.67368421052652},-68.621052631578664,855.67368421052652,1348.7878116343488]
[null,null,null,null,null,null,null,null,null,null,51.315789473684198,{"$f":"Stückanalyse!$F$3+(Stückanalyse!$E$3*Gesamtanalyse!K78)","v":928.94736842105249},{"$f":"(Stückanalyse!$E$26*Gesamtanalyse!K78)+(Stückanalyse!$D$26*Gesamtanalyse!K78*Gesamtanalyse!K78)","v":1333.5353185595573},{"$f":"(Stückanalyse!$E$28*Gesamtanalyse!K78)+(Stückanalyse!$D$28*Gesamtanalyse!K78*Gesamtanalyse!K78)","v":-931.78670360110573},{"$f":"(Stückanalyse!$E$30*Gesamtanalyse!K78)+(Stückanalyse!$D$30*Gesamtanalyse!K78*Gesamtanalyse!K78)","v":833.88157894736878},-95.065789473683708,833.88157894736878,1353.440443213296]
[null,null,null,null,null,null,null,null,null,null,51.999999999999986,{"$f":"Stückanalyse!$F$3+(Stückanalyse!$E$3*Gesamtanalyse!K79)","v":933.59999999999991},{"$f":"(Stückanalyse!$E$26*Gesamtanalyse!K79)+(Stückanalyse!$D$26*Gesamtanalyse!K79*Gesamtanalyse!K79)","v":1310.400000000001},{"$f":"(Stückanalyse!$E$28*Gesamtanalyse!K79)+(Stückanalyse!$D$28*Gesamtanalyse!K79*Gesamtanalyse!K79)","v":-1029.5999999999976},{"$f":"(Stückanalyse!$E$30*Gesamtanalyse!K79)+(Stückanalyse!$D$30*Gesamtanalyse!K79*Gesamtanalyse!K79)","v":811.20000000000073},-122.39999999999918,811.20000000000073,1358.0930747922434]
[null,null,null,null,null,null,null,null,null,null,52.684210526315773,{"$f":"Stückanalyse!$F$3+(Stückanalyse!$E$3*Gesamtanalyse!K80)","v":938.25263157894733},{"$f":"(Stückanalyse!$E$26*Gesamtanalyse!K80)+(Stückanalyse!$D$26*Gesamtanalyse!K80*Gesamtanalyse!K80)","v":1286.1879501385047},{"$f":"(Stückanalyse!$E$28*Gesamtanalyse!K80)+(Stückanalyse!$D$28*Gesamtanalyse!K80*Gesamtanalyse!K80)","v":-1129.6603878116321},{"$f":"(Stückanalyse!$E$30*Gesamtanalyse!K80)+(Stückanalyse!$D$30*Gesamtanalyse!K80*Gesamtanalyse!K80)","v":787.6289473684219},-150.62368421052543,787.6289473684219,1362.7457063711909]
[null,null,null,null,null,null,null,null,null,null,53.368421052631561,{"$f":"Stückanalyse!$F$3+(Stückanalyse!$E$3*Gesamtanalyse!K81)","v":942.90526315789452},{"$f":"(Stückanalyse!$E$26*Gesamtanalyse!K81)+(Stückanalyse!$D$26*Gesamtanalyse!K81*Gesamtanalyse!K81)","v":1260.8991689750696},{"$f":"(Stückanalyse!$E$28*Gesamtanalyse!K81)+(Stückanalyse!$D$28*Gesamtanalyse!K81*Gesamtanalyse!K81)","v":-1231.9678670360072},{"$f":"(Stückanalyse!$E$30*Gesamtanalyse!K81)+(Stückanalyse!$D$30*Gesamtanalyse!K81*Gesamtanalyse!K81)","v":763.16842105263231},-179.73684210526221,763.16842105263231,1367.3983379501383]
[null,null,null,null,null,null,null,null,null,null,54.052631578947349,{"$f":"Stückanalyse!$F$3+(Stückanalyse!$E$3*Gesamtanalyse!K82)","v":947.55789473684194},{"$f":"(Stückanalyse!$E$26*Gesamtanalyse!K82)+(Stückanalyse!$D$26*Gesamtanalyse!K82*Gesamtanalyse!K82)","v":1234.5336565096964},{"$f":"(Stückanalyse!$E$28*Gesamtanalyse!K82)+(Stückanalyse!$D$28*Gesamtanalyse!K82*Gesamtanalyse!K82)","v":-1336.5224376731267},{"$f":"(Stückanalyse!$E$30*Gesamtanalyse!K82)+(Stückanalyse!$D$30*Gesamtanalyse!K82*Gesamtanalyse!K82)","v":737.8184210526324},-209.73947368420954,737.8184210526324,1372.0509695290857]
[null,null,null,null,null,null,null,null,null,null,54.736842105263136,{"$f":"Stückanalyse!$F$3+(Stückanalyse!$E$3*Gesamtanalyse!K83)","v":952.21052631578937},{"$f":"(Stückanalyse!$E$26*Gesamtanalyse!K83)+(Stückanalyse!$D$26*Gesamtanalyse!K83*Gesamtanalyse!K83)","v":1207.0914127423835},{"$f":"(Stückanalyse!$E$28*Gesamtanalyse!K83)+(Stückanalyse!$D$28*Gesamtanalyse!K83*Gesamtanalyse!K83)","v":-1443.3240997229886},{"$f":"(Stückanalyse!$E$30*Gesamtanalyse!K83)+(Stückanalyse!$D$30*Gesamtanalyse!K83*Gesamtanalyse!K83)","v":711.57894736842218},-240.63157894736719,711.57894736842218,1376.7036011080331]
[null,null,null,null,null,null,null,null,null,null,55.421052631578924,{"$f":"Stückanalyse!$F$3+(Stückanalyse!$E$3*Gesamtanalyse!K84)","v":956.86315789473667},{"$f":"(Stückanalyse!$E$26*Gesamtanalyse!K84)+(Stückanalyse!$D$26*Gesamtanalyse!K84*Gesamtanalyse!K84)","v":1178.5724376731309},{"$f":"(Stückanalyse!$E$28*Gesamtanalyse!K84)+(Stückanalyse!$D$28*Gesamtanalyse!K84*Gesamtanalyse!K84)","v":-1552.3728531855904},{"$f":"(Stückanalyse!$E$30*Gesamtanalyse!K84)+(Stückanalyse!$D$30*Gesamtanalyse!K84*Gesamtanalyse!K84)","v":684.45000000000073},-272.41315789473595,684.45000000000073,1381.3562326869803]
[null,null,null,null,null,null,null,null,null,null,56.105263157894711,{"$f":"Stückanalyse!$F$3+(Stückanalyse!$E$3*Gesamtanalyse!K85)","v":961.51578947368398},{"$f":"(Stückanalyse!$E$26*Gesamtanalyse!K85)+(Stückanalyse!$D$26*Gesamtanalyse!K85*Gesamtanalyse!K85)","v":1148.9767313019406},{"$f":"(Stückanalyse!$E$28*Gesamtanalyse!K85)+(Stückanalyse!$D$28*Gesamtanalyse!K85*Gesamtanalyse!K85)","v":-1663.6686980609375},{"$f":"(Stückanalyse!$E$30*Gesamtanalyse!K85)+(Stückanalyse!$D$30*Gesamtanalyse!K85*Gesamtanalyse!K85)","v":656.43157894736942},-305.08421052631456,656.43157894736942,1386.0088642659275]
[null,null,null,null,null,null,null,null,null,null,56.789473684210499,{"$f":"Stückanalyse!$F$3+(Stückanalyse!$E$3*Gesamtanalyse!K86)","v":966.1684210526314},{"$f":"(Stückanalyse!$E$26*Gesamtanalyse!K86)+(Stückanalyse!$D$26*Gesamtanalyse!K86*Gesamtanalyse!K86)","v":1118.3042936288102},{"$f":"(Stückanalyse!$E$28*Gesamtanalyse!K86)+(Stückanalyse!$D$28*Gesamtanalyse!K86*Gesamtanalyse!K86)","v":-1777.2116343490252},{"$f":"(Stückanalyse!$E$30*Gesamtanalyse!K86)+(Stückanalyse!$D$30*Gesamtanalyse!K86*Gesamtanalyse!K86)","v":627.52368421052734},-338.64473684210407,627.52368421052734,1390.6614958448749]
[null,null,null,null,null,null,null,null,null,null,57.473684210526287,{"$f":"Stückanalyse!$F$3+(Stückanalyse!$E$3*Gesamtanalyse!K87)","v":970.82105263157882},{"$f":"(Stückanalyse!$E$26*Gesamtanalyse!K87)+(Stückanalyse!$D$26*Gesamtanalyse!K87*Gesamtanalyse!K87)","v":1086.5551246537411},{"$f":"(Stückanalyse!$E$28*Gesamtanalyse!K87)+(Stückanalyse!$D$28*Gesamtanalyse!K87*Gesamtanalyse!K87)","v":-1893.0016620498563},{"$f":"(Stückanalyse!$E$30*Gesamtanalyse!K87)+(Stückanalyse!$D$30*Gesamtanalyse!K87*Gesamtanalyse!K87)","v":597.72631578947494},-373.09473684210388,597.72631578947494,1395.3141274238224]
[null,null,null,null,null,null,null,null,null,null,58.157894736842074,{"$f":"Stückanalyse!$F$3+(Stückanalyse!$E$3*Gesamtanalyse!K88)","v":975.47368421052602},{"$f":"(Stückanalyse!$E$26*Gesamtanalyse!K88)+(Stückanalyse!$D$26*Gesamtanalyse!K88*Gesamtanalyse!K88)","v":1053.7292243767333},{"$f":"(Stückanalyse!$E$28*Gesamtanalyse!K88)+(Stückanalyse!$D$28*Gesamtanalyse!K88*Gesamtanalyse!K88)","v":-2011.0387811634291},{"$f":"(Stückanalyse!$E$30*Gesamtanalyse!K88)+(Stückanalyse!$D$30*Gesamtanalyse!K88*Gesamtanalyse!K88)","v":567.03947368421223},-408.43421052631379,567.03947368421223,1399.9667590027698]
[null,null,null,null,null,null,null,null,null,null,58.842105263157862,{"$f":"Stückanalyse!$F$3+(Stückanalyse!$E$3*Gesamtanalyse!K89)","v":980.12631578947344},{"$f":"(Stückanalyse!$E$26*Gesamtanalyse!K89)+(Stückanalyse!$D$26*Gesamtanalyse!K89*Gesamtanalyse!K89)","v":1019.8265927977859},{"$f":"(Stückanalyse!$E$28*Gesamtanalyse!K89)+(Stückanalyse!$D$28*Gesamtanalyse!K89*Gesamtanalyse!K89)","v":-2131.3229916897444},{"$f":"(Stückanalyse!$E$30*Gesamtanalyse!K89)+(Stückanalyse!$D$30*Gesamtanalyse!K89*Gesamtanalyse!K89)","v":535.46315789473874},-444.6631578947347,535.46315789473874,1404.6193905817172]
[null,null,null,null,null,null,null,null,null,null,59.526315789473649,{"$f":"Stückanalyse!$F$3+(Stückanalyse!$E$3*Gesamtanalyse!K90)","v":984.77894736842086},{"$f":"(Stückanalyse!$E$26*Gesamtanalyse!K90)+(Stückanalyse!$D$26*Gesamtanalyse!K90*Gesamtanalyse!K90)","v":984.84722991690023},{"$f":"(Stückanalyse!$E$28*Gesamtanalyse!K90)+(Stückanalyse!$D$28*Gesamtanalyse!K90*Gesamtanalyse!K90)","v":-2253.8542936288031},{"$f":"(Stückanalyse!$E$30*Gesamtanalyse!K90)+(Stückanalyse!$D$30*Gesamtanalyse!K90*Gesamtanalyse!K90)","v":502.99736842105494},-481.78157894736592,502.99736842105494,1409.2720221606646]
[null,null,null,null,null,null,null,null,null,null,60.210526315789437,{"$f":"Stückanalyse!$F$3+(Stückanalyse!$E$3*Gesamtanalyse!K91)","v":989.43157894736817},{"$f":"(Stückanalyse!$E$26*Gesamtanalyse!K91)+(Stückanalyse!$D$26*Gesamtanalyse!K91*Gesamtanalyse!K91)","v":948.79113573407449},{"$f":"(Stückanalyse!$E$28*Gesamtanalyse!K91)+(Stückanalyse!$D$28*Gesamtanalyse!K91*Gesamtanalyse!K91)","v":-2378.6326869806026},{"$f":"(Stückanalyse!$E$30*Gesamtanalyse!K91)+(Stückanalyse!$D$30*Gesamtanalyse!K91*Gesamtanalyse!K91)","v":469.64210526316037},-519.78947368420779,469.64210526316037,1413.9246537396118]
[null,null,null,null,null,null,null,null,null,null,60.894736842105225,{"$f":"Stückanalyse!$F$3+(Stückanalyse!$E$3*Gesamtanalyse!K92)","v":994.08421052631547},{"$f":"(Stückanalyse!$E$26*Gesamtanalyse!K92)+(Stückanalyse!$D$26*Gesamtanalyse!K92*Gesamtanalyse!K92)","v":911.65831024930958},{"$f":"(Stückanalyse!$E$28*Gesamtanalyse!K92)+(Stückanalyse!$D$28*Gesamtanalyse!K92*Gesamtanalyse!K92)","v":-2505.6581717451454},{"$f":"(Stückanalyse!$E$30*Gesamtanalyse!K92)+(Stückanalyse!$D$30*Gesamtanalyse!K92*Gesamtanalyse!K92)","v":435.39736842105503},-558.68684210526044,435.39736842105503,1418.577285318559]
[null,null,null,null,null,null,null,null,null,null,61.578947368421012,{"$f":"Stückanalyse!$F$3+(Stückanalyse!$E$3*Gesamtanalyse!K93)","v":998.73684210526289},{"$f":"(Stückanalyse!$E$26*Gesamtanalyse!K93)+(Stückanalyse!$D$26*Gesamtanalyse!K93*Gesamtanalyse!K93)","v":873.44875346260687},{"$f":"(Stückanalyse!$E$28*Gesamtanalyse!K93)+(Stückanalyse!$D$28*Gesamtanalyse!K93*Gesamtanalyse!K93)","v":-2634.9307479224299},{"$f":"(Stückanalyse!$E$30*Gesamtanalyse!K93)+(Stückanalyse!$D$30*Gesamtanalyse!K93*Gesamtanalyse!K93)","v":400.26315789473892},-598.47368421052397,400.26315789473892,1423.2299168975064]
[null,null,null,null,null,null,null,null,null,null,62.2631578947368,{"$f":"Stückanalyse!$F$3+(Stückanalyse!$E$3*Gesamtanalyse!K94)","v":1003.3894736842102},{"$f":"(Stückanalyse!$E$26*Gesamtanalyse!K94)+(Stückanalyse!$D$26*Gesamtanalyse!K94*Gesamtanalyse!K94)","v":834.16246537396455},{"$f":"(Stückanalyse!$E$28*Gesamtanalyse!K94)+(Stückanalyse!$D$28*Gesamtanalyse!K94*Gesamtanalyse!K94)","v":-2766.4504155124569},{"$f":"(Stückanalyse!$E$30*Gesamtanalyse!K94)+(Stückanalyse!$D$30*Gesamtanalyse!K94*Gesamtanalyse!K94)","v":364.23947368421295},-639.14999999999725,364.23947368421295,1427.8825484764538]
[null,null,null,null,null,null,null,null,null,null,62.947368421052587,{"$f":"Stückanalyse!$F$3+(Stückanalyse!$E$3*Gesamtanalyse!K95)","v":1008.0421052631575},{"$f":"(Stückanalyse!$E$26*Gesamtanalyse!K95)+(Stückanalyse!$D$26*Gesamtanalyse!K95*Gesamtanalyse!K95)","v":793.7994459833817},{"$f":"(Stückanalyse!$E$28*Gesamtanalyse!K95)+(Stückanalyse!$D$28*Gesamtanalyse!K95*Gesamtanalyse!K95)","v":-2900.2171745152264},{"$f":"(Stückanalyse!$E$30*Gesamtanalyse!K95)+(Stückanalyse!$D$30*Gesamtanalyse!K95*Gesamtanalyse!K95)","v":327.32631578947621},-680.7157894736813,327.32631578947621,1432.5351800554013]
[null,null,null,null,null,null,null,null,null,null,63.631578947368375,{"$f":"Stückanalyse!$F$3+(Stückanalyse!$E$3*Gesamtanalyse!K96)","v":1012.6947368421049},{"$f":"(Stückanalyse!$E$26*Gesamtanalyse!K96)+(Stückanalyse!$D$26*Gesamtanalyse!K96*Gesamtanalyse!K96)","v":752.35969529086287},{"$f":"(Stückanalyse!$E$28*Gesamtanalyse!K96)+(Stückanalyse!$D$28*Gesamtanalyse!K96*Gesamtanalyse!K96)","v":-3036.2310249307375},{"$f":"(Stückanalyse!$E$30*Gesamtanalyse!K96)+(Stückanalyse!$D$30*Gesamtanalyse!K96*Gesamtanalyse!K96)","v":289.52368421052961},-723.17105263157532,289.52368421052961,1437.1878116343487]
[null,null,null,null,null,null,null,null,null,null,64.315789473684163,{"$f":"Stückanalyse!$F$3+(Stückanalyse!$E$3*Gesamtanalyse!K97)","v":1017.3473684210524},{"$f":"(Stückanalyse!$E$26*Gesamtanalyse!K97)+(Stückanalyse!$D$26*Gesamtanalyse!K97*Gesamtanalyse!K97)","v":709.84321329640261},{"$f":"(Stückanalyse!$E$28*Gesamtanalyse!K97)+(Stückanalyse!$D$28*Gesamtanalyse!K97*Gesamtanalyse!K97)","v":-3174.491966758992},{"$f":"(Stückanalyse!$E$30*Gesamtanalyse!K97)+(Stückanalyse!$D$30*Gesamtanalyse!K97*Gesamtanalyse!K97)","v":250.83157894737133},-766.51578947368102,250.83157894737133,1441.8404432132961]
[null,null,null,null,null,null,null,null,null,null,64.999999999999957,{"$f":"Stückanalyse!$F$3+(Stückanalyse!$E$3*Gesamtanalyse!K98)","v":1021.9999999999998},{"$f":"(Stückanalyse!$E$26*Gesamtanalyse!K98)+(Stückanalyse!$D$26*Gesamtanalyse!K98*Gesamtanalyse!K98)","v":666.25000000000364},{"$f":"(Stückanalyse!$E$28*Gesamtanalyse!K98)+(Stückanalyse!$D$28*Gesamtanalyse!K98*Gesamtanalyse!K98)","v":-3314.99999999999},{"$f":"(Stückanalyse!$E$30*Gesamtanalyse!K98)+(Stückanalyse!$D$30*Gesamtanalyse!K98*Gesamtanalyse!K98)","v":211.25000000000273},-810.74999999999704,211.25000000000273,1446.4930747922435]
[null,null,null,null,null,null,null,null,null,null,65.684210526315752,{"$f":"Stückanalyse!$F$3+(Stückanalyse!$E$3*Gesamtanalyse!K99)","v":1026.652631578947},{"$f":"(Stückanalyse!$E$26*Gesamtanalyse!K99)+(Stückanalyse!$D$26*Gesamtanalyse!K99*Gesamtanalyse!K99)","v":621.58005540166505},{"$f":"(Stückanalyse!$E$28*Gesamtanalyse!K99)+(Stückanalyse!$D$28*Gesamtanalyse!K99*Gesamtanalyse!K99)","v":-3457.7551246537305},{"$f":"(Stückanalyse!$E$30*Gesamtanalyse!K99)+(Stückanalyse!$D$30*Gesamtanalyse!K99*Gesamtanalyse!K99)","v":170.77894736842336},-855.87368421052361,170.77894736842336,1451.1457063711905]
[null,null,null,null,null,null,null,null,null,null,66.368421052631547,{"$f":"Stückanalyse!$F$3+(Stückanalyse!$E$3*Gesamtanalyse!K100)","v":1031.3052631578944},{"$f":"(Stückanalyse!$E$26*Gesamtanalyse!K100)+(Stückanalyse!$D$26*Gesamtanalyse!K100*Gesamtanalyse!K100)","v":575.83337950138775},{"$f":"(Stückanalyse!$E$28*Gesamtanalyse!K100)+(Stückanalyse!$D$28*Gesamtanalyse!K100*Gesamtanalyse!K100)","v":-3602.7573407202153},{"$f":"(Stückanalyse!$E$30*Gesamtanalyse!K100)+(Stückanalyse!$D$30*Gesamtanalyse!K100*Gesamtanalyse!K100)","v":129.41842105263368},-901.88684210526071,129.41842105263368,1455.7983379501379]
[null,null,null,null,null,null,null,null,null,null,67.052631578947341,{"$f":"Stückanalyse!$F$3+(Stückanalyse!$E$3*Gesamtanalyse!K101)","v":1035.9578947368418},{"$f":"(Stückanalyse!$E$26*Gesamtanalyse!K101)+(Stückanalyse!$D$26*Gesamtanalyse!K101*Gesamtanalyse!K101)","v":529.00997229917084},{"$f":"(Stückanalyse!$E$28*Gesamtanalyse!K101)+(Stückanalyse!$D$28*Gesamtanalyse!K101*Gesamtanalyse!K101)","v":-3750.0066481994409},{"$f":"(Stückanalyse!$E$30*Gesamtanalyse!K101)+(Stückanalyse!$D$30*Gesamtanalyse!K101*Gesamtanalyse!K101)","v":87.168421052633676},-948.78947368420813,87.168421052633676,1460.4509695290853]
[null,null,null,null,null,null,null,null,null,null,67.736842105263136,{"$f":"Stückanalyse!$F$3+(Stückanalyse!$E$3*Gesamtanalyse!K102)","v":1040.6105263157892},{"$f":"(Stückanalyse!$E$26*Gesamtanalyse!K102)+(Stückanalyse!$D$26*Gesamtanalyse!K102*Gesamtanalyse!K102)","v":481.10983379501522},{"$f":"(Stückanalyse!$E$28*Gesamtanalyse!K102)+(Stückanalyse!$D$28*Gesamtanalyse!K102*Gesamtanalyse!K102)","v":-3899.5030470914071},{"$f":"(Stückanalyse!$E$30*Gesamtanalyse!K102)+(Stückanalyse!$D$30*Gesamtanalyse!K102*Gesamtanalyse!K102)","v":44.02894736842245},-996.58157894736678,44.02894736842245,1465.1036011080328]
[null,null,null,null,null,null,null,null,null,null,{"$f":"Stückanalyse!F32","v":68.421052631578945},{"$f":"Stückanalyse!$F$3+(Stückanalyse!$E$3*Gesamtanalyse!K103)","v":1045.2631578947369},{"$f":"(Stückanalyse!$E$26*Gesamtanalyse!K103)+(Stückanalyse!$D$26*Gesamtanalyse!K103*Gesamtanalyse!K103)","v":432.13296398891998},{"$f":"(Stückanalyse!$E$28*Gesamtanalyse!K103)+(Stückanalyse!$D$28*Gesamtanalyse!K103*Gesamtanalyse!K103)","v":-4051.2465373961195},{"$f":"(Stückanalyse!$E$30*Gesamtanalyse!K103)+(Stückanalyse!$D$30*Gesamtanalyse!K103*Gesamtanalyse!K103)","v":0},-1045.2631578947369,0,1469.7562326869806]

{"sheet":"Funktionen","index":2,"n_rows":20,"n_cols":17,"rows_kept":20,"cut":false,"hidden":false,"merged":[[3,13,3,14],[3,15,3,16],[9,1,9,2],[9,3,9,4],[9,5,9,6],[9,7,9,8],[9,9,9,10],[9,11,9,12],[9,13,9,14],[9,15,9,16],[3,1,3,2],[3,3,3,4],[3,5,3,6],[3,7,3,8],[3,9,3,10],[3,11,3,12],[15,13,15,14],[15,15,15,16],[15,1,15,2],[15,3,15,4],[15,5,15,6],[15,7,15,8],[15,9,15,10],[15,11,15,12]]}
[]
[]
[]
[null,"Aufgabe 1",null,"Aufgabe 2",null,"Aufgabe 3",null,"Aufgabe 4",null,"Aufgabe 5",null,"Aufgabe 6",null,"Aufgabe 7",null,"Aufgabe 8"]
["K",4,5100,2,2450,14,5000,5,450,5,450,4,2950,6.8,580,9,3250]
["PAF1",-1.25E-3,15,-0.45,92,-0.2,100,-0.2,200,-0.45,1000,-0.35499999999999998,85,-1.1499999999999999,85,-0.19850000000000001,100]
["PAF2",-0.01,22,-0.85,110.8,-0.5,120,-0.5,280,-0.85,1200,-0.94499999999999995,120,-2.4,105,-0.50149999999999995,120]
["PAF3",-2E-3,12,-0.3,60,-0.1,60,-0.1,100,-0.55000000000000004,900,-0.29499999999999998,65,-0.95,65,-0.1055,60]
[]
[null,"Aufgabe 9",null,"Aufgabe 10",null,"Aufgabe 10",null,"Aufgabe 11",null,"Aufgabe 12",null,"Aufgabe 13",null,"Aufgabe 14",null,"Aufgabe 15"]
["K",5.8,1900,89,29950,12,5100,65,650,45,4500,477.5,120000,25,15,4,2500]
["PAF1",-0.45,92,-2.2000000000000002,920,-0.25,150,-0.4,115,-0.5,210,-0.2,1200,-2,50,-2E-3,16]
["PAF2",-1.25,125,-4.4000000000000004,1100,-0.5,190,-1,130,-0.75,225,-0.85,1400,-5,80,-0.01,22]
["PAF3",-0.3,55,-3.1,925,-0.25,120,-0.4,109,-0.3,171,-0.55000000000000004,1000,-1,30,-2E-3,15]
[]
[]
["K",40,500,4,4500,9,1900]
["PAF1",-0.5,105,-0.42,15,-0.45,92]
["PAF2",-1,120,-0.85,22,-1.25,125]
["PAF3",-0.4,90,-0.35,12,-0.3,55]