{"text_format":"1","workbook":"xlsx","n_sheets":3,"sheets":["Steuerung","Annuitätendarlehen","Abzahlungsdarlehen"],"not_rendered":{"charts":0,"images":1,"macros":0,"external_links":0,"defined_names":0,"comments":0,"pivot_tables":0},"unopened":[],"bounds":{"document_bytes":16777216,"sheet_cells":100000,"rows_first":2000,"rows_last":500,"rows_between":2000,"halvings":0,"cell_chars":16384,"cell_head_chars":4096},"cells_cut":0,"cells_raw":0,"read":"whole","date_system":"1900"}

{"sheet":"Steuerung","index":0,"n_rows":30,"n_cols":8,"rows_kept":30,"cut":false,"hidden":false,"merged":[[29,1,29,8],[25,1,25,2],[28,1,28,2],[25,3,25,4],[26,1,26,2],[27,1,27,2],[23,1,23,2],[20,0,20,8],[28,3,28,4],[24,1,24,2],[22,3,22,4],[23,3,23,4],[24,3,24,4],[22,1,22,2],[26,7,26,8],[23,7,23,8],[24,7,24,8],[25,7,25,8],[28,7,28,8],[26,3,26,4],[27,3,27,4],[27,7,27,8],[18,0,19,8],[21,7,21,8],[22,7,22,8],[1,1,2,7],[4,1,6,7],[3,1,3,7],[13,7,15,7],[12,1,15,3],[8,1,8,3],[21,1,21,2],[21,3,21,4]]}
[]
[null,"Darlehensrechner"]
[]
[null,"Tilgung und Zins bei Annuitäten- und Abzahlungsdarlehen."]
[null,"Nehmen Sie in den gelben Feldern die entsprechenden Eintragungen vor, und kontrollieren Sie Zinsen und Tilgung in den Tabellen Annuitätendarlehen und Abzahlungsdarlehen."]
[]
[]
[]
[null,"Datum der Kreditaufnahme",null,null,null,"Darlehenssumme",355329.95,"€"]
[null,"Tag","Monat","Jahr",null,"Zinssatz",2.5000000000000001E-2,"per anno"]
[null,12,7,2006,null,"Tilgunssatz",0.2,"je Abrechnungsperiode"]
[]
[null,"Geben Sie Tag, Monat und Jahr jeweils in eine Zelle ein.",null,null,null,null,null,1]
[null,null,null,null,null,"Abrechnungsperiode",null,"Die Anzahl der Abrechnungsperioden ist auf 100 begrenzt."]
[null,null,null,null,null,"(Zinstermine)"]
[]
[]
[]
["Arbeitsaufträge"]
[]
["Vergleichen Sie Tilgung und Zinszahlung bei den folgenden Darlehen."]
["Nr.:","Datum ",null,"Zinssatz",null,"Tilgung","Darlehenssumme","Abrechnungsperiode"]
[1,{"$f":"TODAY()","v":"2020-08-29"},null,4.1000000000000002E-2,null,"2% jährlich",120000,"jährlich"]
[2,{"$f":"TODAY()","v":"2020-08-29"},null,0.05,null,"1,5% monatlich",80000,"monatlich"]
[3,"2020-08-29",null,3.9E-2,null,"2,5% vierteljährlich",160000,"vierteljährlich"]
[4,"2020-08-29",null,"1,3% vierteljährlich",null,"4% vierteljährlich",240000,"vierteljährlich"]
[5,"2020-08-29",null,4.2000000000000003E-2,null,"6% jährlich",350000,"jährlich"]
[6,"2020-08-29",null,4.2000000000000003E-2,null,"6% jährlich",90000,"vierteljährlich"]
[7,"2020-08-29",null,"0,25% monatlich",null,"18% jährlich",150000,"monatlich"]
[8,"Vergleichen Sie Tilgung und Zinszahlung bei weiteren Annuitäten und Abzahlungsdarlehen."]

{"sheet":"Annuitätendarlehen","index":1,"n_rows":106,"n_cols":8,"rows_kept":106,"cut":false,"hidden":false,"merged":[[1,6,1,7],[105,1,105,2],[2,6,3,6],[2,7,3,7],[2,1,3,1],[2,2,3,2],[2,4,3,4],[2,5,3,5]]}
[]
[null,"Summe der gezahlten Zinsen",null,null,null,{"$f":"SUM(F5:F105)","v":26200.004021878915},"Annuitätendarlehen"]
[null,"Abrechnungs- datum","Zinsstage",null,"Kapitaldienst","Zinsen","Tilgung","Restschuld"]
[]
[null,{"$f":"IF(Steuerung!$H$13=1,DATE(Steuerung!$D$11+0,Steuerung!$C$11,Steuerung!$B$11),IF(Steuerung!$H$13=2,DATE(Steuerung!$D$11,Steuerung!$C$11+0,Steuerung!$B$11),DATE(Steuerung!$D$11,Steuerung!$C$11+0,Steuerung!$B$11)))","v":"2006-07-12"},{"$f":"IF(Steuerung!$H$13=1,360,IF(Steuerung!$H$13=2,90,30))","v":360},0,{"$f":"F5+G5","v":0},0,0,{"$f":"Steuerung!G9","v":355329.95}]
[null,{"$f":"IF(Steuerung!$H$13=1,DATE(Steuerung!$D$11+1,Steuerung!$C$11,Steuerung!$B$11),IF(Steuerung!$H$13=2,DATE(Steuerung!$D$11,Steuerung!$C$11+3,Steuerung!$B$11),DATE(Steuerung!$D$11,Steuerung!$C$11+1,Steuerung!$B$11)))","v":"2007-07-12"},{"$f":"IF(Steuerung!$H$13=1,360,IF(Steuerung!$H$13=2,90,30))","v":360},{"$f":"Steuerung!$G$9*(Steuerung!$G$10+Steuerung!$G$11)","v":79949.238750000004},{"$f":"F6+G6","v":79949.238750000004},{"$f":"IF(H5>0,(H5*Steuerung!$G$10*C6)/360,0)","v":8883.2487500000007},{"$f":"IF((H5+F6)>D6,D6-F6,H5)","v":71065.990000000005},{"$f":"IF((H5-G6)>0,(H5-G6),0)","v":284263.96000000002}]
[null,{"$f":"IF(Steuerung!$H$13=1,DATE(Steuerung!$D$11+2,Steuerung!$C$11,Steuerung!$B$11),IF(Steuerung!$H$13=2,DATE(Steuerung!$D$11,Steuerung!$C$11+6,Steuerung!$B$11),DATE(Steuerung!$D$11,Steuerung!$C$11+2,Steuerung!$B$11)))","v":"2008-07-12"},{"$f":"IF(Steuerung!$H$13=1,360,IF(Steuerung!$H$13=2,90,30))","v":360},{"$f":"Steuerung!$G$9*(Steuerung!$G$10+Steuerung!$G$11)","v":79949.238750000004},79949.238750000004,{"$f":"IF(H6>0,(H6*Steuerung!$G$10*C7)/360,0)","v":7106.599000000002},72842.639750000002,211421.32025000002]
[null,{"$f":"IF(Steuerung!$H$13=1,DATE(Steuerung!$D$11+3,Steuerung!$C$11,Steuerung!$B$11),IF(Steuerung!$H$13=2,DATE(Steuerung!$D$11,Steuerung!$C$11+9,Steuerung!$B$11),DATE(Steuerung!$D$11,Steuerung!$C$11+3,Steuerung!$B$11)))","v":"2009-07-12"},{"$f":"IF(Steuerung!$H$13=1,360,IF(Steuerung!$H$13=2,90,30))","v":360},{"$f":"Steuerung!$G$9*(Steuerung!$G$10+Steuerung!$G$11)","v":79949.238750000004},79949.238750000004,{"$f":"IF(H7>0,(H7*Steuerung!$G$10*C8)/360,0)","v":5285.5330062500007},74663.705743750004,136757.61450625001]
[null,{"$f":"IF(Steuerung!$H$13=1,DATE(Steuerung!$D$11+4,Steuerung!$C$11,Steuerung!$B$11),IF(Steuerung!$H$13=2,DATE(Steuerung!$D$11,Steuerung!$C$11+12,Steuerung!$B$11),DATE(Steuerung!$D$11,Steuerung!$C$11+4,Steuerung!$B$11)))","v":"2010-07-12"},{"$f":"IF(Steuerung!$H$13=1,360,IF(Steuerung!$H$13=2,90,30))","v":360},{"$f":"Steuerung!$G$9*(Steuerung!$G$10+Steuerung!$G$11)","v":79949.238750000004},79949.238750000004,{"$f":"IF(H8>0,(H8*Steuerung!$G$10*C9)/360,0)","v":3418.9403626562512},76530.298387343748,60227.316118906267]
[null,{"$f":"IF(Steuerung!$H$13=1,DATE(Steuerung!$D$11+5,Steuerung!$C$11,Steuerung!$B$11),IF(Steuerung!$H$13=2,DATE(Steuerung!$D$11,Steuerung!$C$11+15,Steuerung!$B$11),DATE(Steuerung!$D$11,Steuerung!$C$11+5,Steuerung!$B$11)))","v":"2011-07-12"},{"$f":"IF(Steuerung!$H$13=1,360,IF(Steuerung!$H$13=2,90,30))","v":360},{"$f":"Steuerung!$G$9*(Steuerung!$G$10+Steuerung!$G$11)","v":79949.238750000004},61732.999021878924,{"$f":"IF(H9>0,(H9*Steuerung!$G$10*C10)/360,0)","v":1505.6829029726568},60227.316118906267,0]
[null,{"$f":"IF(Steuerung!$H$13=1,DATE(Steuerung!$D$11+6,Steuerung!$C$11,Steuerung!$B$11),IF(Steuerung!$H$13=2,DATE(Steuerung!$D$11,Steuerung!$C$11+18,Steuerung!$B$11),DATE(Steuerung!$D$11,Steuerung!$C$11+6,Steuerung!$B$11)))","v":"2012-07-12"},{"$f":"IF(Steuerung!$H$13=1,360,IF(Steuerung!$H$13=2,90,30))","v":360},{"$f":"Steuerung!$G$9*(Steuerung!$G$10+Steuerung!$G$11)","v":79949.238750000004},0,{"$f":"IF(H10>0,(H10*Steuerung!$G$10*C11)/360,0)","v":0},0,0]
[null,{"$f":"IF(Steuerung!$H$13=1,DATE(Steuerung!$D$11+7,Steuerung!$C$11,Steuerung!$B$11),IF(Steuerung!$H$13=2,DATE(Steuerung!$D$11,Steuerung!$C$11+21,Steuerung!$B$11),DATE(Steuerung!$D$11,Steuerung!$C$11+7,Steuerung!$B$11)))","v":"2013-07-12"},{"$f":"IF(Steuerung!$H$13=1,360,IF(Steuerung!$H$13=2,90,30))","v":360},{"$f":"Steuerung!$G$9*(Steuerung!$G$10+Steuerung!$G$11)","v":79949.238750000004},0,{"$f":"IF(H11>0,(H11*Steuerung!$G$10*C12)/360,0)","v":0},0,0]
[null,{"$f":"IF(Steuerung!$H$13=1,DATE(Steuerung!$D$11+8,Steuerung!$C$11,Steuerung!$B$11),IF(Steuerung!$H$13=2,DATE(Steuerung!$D$11,Steuerung!$C$11+24,Steuerung!$B$11),DATE(Steuerung!$D$11,Steuerung!$C$11+8,Steuerung!$B$11)))","v":"2014-07-12"},{"$f":"IF(Steuerung!$H$13=1,360,IF(Steuerung!$H$13=2,90,30))","v":360},{"$f":"Steuerung!$G$9*(Steuerung!$G$10+Steuerung!$G$11)","v":79949.238750000004},0,{"$f":"IF(H12>0,(H12*Steuerung!$G$10*C13)/360,0)","v":0},0,0]
[null,{"$f":"IF(Steuerung!$H$13=1,DATE(Steuerung!$D$11+9,Steuerung!$C$11,Steuerung!$B$11),IF(Steuerung!$H$13=2,DATE(Steuerung!$D$11,Steuerung!$C$11+27,Steuerung!$B$11),DATE(Steuerung!$D$11,Steuerung!$C$11+9,Steuerung!$B$11)))","v":"2015-07-12"},{"$f":"IF(Steuerung!$H$13=1,360,IF(Steuerung!$H$13=2,90,30))","v":360},{"$f":"Steuerung!$G$9*(Steuerung!$G$10+Steuerung!$G$11)","v":79949.238750000004},0,{"$f":"IF(H13>0,(H13*Steuerung!$G$10*C14)/360,0)","v":0},0,0]
[null,{"$f":"IF(Steuerung!$H$13=1,DATE(Steuerung!$D$11+10,Steuerung!$C$11,Steuerung!$B$11),IF(Steuerung!$H$13=2,DATE(Steuerung!$D$11,Steuerung!$C$11+30,Steuerung!$B$11),DATE(Steuerung!$D$11,Steuerung!$C$11+10,Steuerung!$B$11)))","v":"2016-07-12"},{"$f":"IF(Steuerung!$H$13=1,360,IF(Steuerung!$H$13=2,90,30))","v":360},{"$f":"Steuerung!$G$9*(Steuerung!$G$10+Steuerung!$G$11)","v":79949.238750000004},0,{"$f":"IF(H14>0,(H14*Steuerung!$G$10*C15)/360,0)","v":0},0,0]
[null,{"$f":"IF(Steuerung!$H$13=1,DATE(Steuerung!$D$11+11,Steuerung!$C$11,Steuerung!$B$11),IF(Steuerung!$H$13=2,DATE(Steuerung!$D$11,Steuerung!$C$11+33,Steuerung!$B$11),DATE(Steuerung!$D$11,Steuerung!$C$11+11,Steuerung!$B$11)))","v":"2017-07-12"},{"$f":"IF(Steuerung!$H$13=1,360,IF(Steuerung!$H$13=2,90,30))","v":360},{"$f":"Steuerung!$G$9*(Steuerung!$G$10+Steuerung!$G$11)","v":79949.238750000004},0,{"$f":"IF(H15>0,(H15*Steuerung!$G$10*C16)/360,0)","v":0},0,0]
[null,{"$f":"IF(Steuerung!$H$13=1,DATE(Steuerung!$D$11+12,Steuerung!$C$11,Steuerung!$B$11),IF(Steuerung!$H$13=2,DATE(Steuerung!$D$11,Steuerung!$C$11+36,Steuerung!$B$11),DATE(Steuerung!$D$11,Steuerung!$C$11+12,Steuerung!$B$11)))","v":"2018-07-12"},{"$f":"IF(Steuerung!$H$13=1,360,IF(Steuerung!$H$13=2,90,30))","v":360},{"$f":"Steuerung!$G$9*(Steuerung!$G$10+Steuerung!$G$11)","v":79949.238750000004},0,{"$f":"IF(H16>0,(H16*Steuerung!$G$10*C17)/360,0)","v":0},0,0]
[null,{"$f":"IF(Steuerung!$H$13=1,DATE(Steuerung!$D$11+13,Steuerung!$C$11,Steuerung!$B$11),IF(Steuerung!$H$13=2,DATE(Steuerung!$D$11,Steuerung!$C$11+39,Steuerung!$B$11),DATE(Steuerung!$D$11,Steuerung!$C$11+13,Steuerung!$B$11)))","v":"2019-07-12"},{"$f":"IF(Steuerung!$H$13=1,360,IF(Steuerung!$H$13=2,90,30))","v":360},{"$f":"Steuerung!$G$9*(Steuerung!$G$10+Steuerung!$G$11)","v":79949.238750000004},0,{"$f":"IF(H17>0,(H17*Steuerung!$G$10*C18)/360,0)","v":0},0,0]
[null,{"$f":"IF(Steuerung!$H$13=1,DATE(Steuerung!$D$11+14,Steuerung!$C$11,Steuerung!$B$11),IF(Steuerung!$H$13=2,DATE(Steuerung!$D$11,Steuerung!$C$11+42,Steuerung!$B$11),DATE(Steuerung!$D$11,Steuerung!$C$11+14,Steuerung!$B$11)))","v":"2020-07-12"},{"$f":"IF(Steuerung!$H$13=1,360,IF(Steuerung!$H$13=2,90,30))","v":360},{"$f":"Steuerung!$G$9*(Steuerung!$G$10+Steuerung!$G$11)","v":79949.238750000004},0,{"$f":"IF(H18>0,(H18*Steuerung!$G$10*C19)/360,0)","v":0},0,0]
[null,{"$f":"IF(Steuerung!$H$13=1,DATE(Steuerung!$D$11+15,Steuerung!$C$11,Steuerung!$B$11),IF(Steuerung!$H$13=2,DATE(Steuerung!$D$11,Steuerung!$C$11+45,Steuerung!$B$11),DATE(Steuerung!$D$11,Steuerung!$C$11+15,Steuerung!$B$11)))","v":"2021-07-12"},{"$f":"IF(Steuerung!$H$13=1,360,IF(Steuerung!$H$13=2,90,30))","v":360},{"$f":"Steuerung!$G$9*(Steuerung!$G$10+Steuerung!$G$11)","v":79949.238750000004},0,{"$f":"IF(H19>0,(H19*Steuerung!$G$10*C20)/360,0)","v":0},0,0]
[null,{"$f":"IF(Steuerung!$H$13=1,DATE(Steuerung!$D$11+16,Steuerung!$C$11,Steuerung!$B$11),IF(Steuerung!$H$13=2,DATE(Steuerung!$D$11,Steuerung!$C$11+48,Steuerung!$B$11),DATE(Steuerung!$D$11,Steuerung!$C$11+16,Steuerung!$B$11)))","v":"2022-07-12"},{"$f":"IF(Steuerung!$H$13=1,360,IF(Steuerung!$H$13=2,90,30))","v":360},{"$f":"Steuerung!$G$9*(Steuerung!$G$10+Steuerung!$G$11)","v":79949.238750000004},0,{"$f":"IF(H20>0,(H20*Steuerung!$G$10*C21)/360,0)","v":0},0,0]
[null,{"$f":"IF(Steuerung!$H$13=1,DATE(Steuerung!$D$11+17,Steuerung!$C$11,Steuerung!$B$11),IF(Steuerung!$H$13=2,DATE(Steuerung!$D$11,Steuerung!$C$11+49,Steuerung!$B$11),DATE(Steuerung!$D$11,Steuerung!$C$11+17,Steuerung!$B$11)))","v":"2023-07-12"},{"$f":"IF(Steuerung!$H$13=1,360,IF(Steuerung!$H$13=2,90,30))","v":360},{"$f":"Steuerung!$G$9*(Steuerung!$G$10+Steuerung!$G$11)","v":79949.238750000004},0,{"$f":"IF(H21>0,(H21*Steuerung!$G$10*C22)/360,0)","v":0},0,0]
[null,{"$f":"IF(Steuerung!$H$13=1,DATE(Steuerung!$D$11+18,Steuerung!$C$11,Steuerung!$B$11),IF(Steuerung!$H$13=2,DATE(Steuerung!$D$11,Steuerung!$C$11+52,Steuerung!$B$11),DATE(Steuerung!$D$11,Steuerung!$C$11+18,Steuerung!$B$11)))","v":"2024-07-12"},{"$f":"IF(Steuerung!$H$13=1,360,IF(Steuerung!$H$13=2,90,30))","v":360},{"$f":"Steuerung!$G$9*(Steuerung!$G$10+Steuerung!$G$11)","v":79949.238750000004},0,{"$f":"IF(H22>0,(H22*Steuerung!$G$10*C23)/360,0)","v":0},0,0]
[null,{"$f":"IF(Steuerung!$H$13=1,DATE(Steuerung!$D$11+19,Steuerung!$C$11,Steuerung!$B$11),IF(Steuerung!$H$13=2,DATE(Steuerung!$D$11,Steuerung!$C$11+55,Steuerung!$B$11),DATE(Steuerung!$D$11,Steuerung!$C$11+19,Steuerung!$B$11)))","v":"2025-07-12"},{"$f":"IF(Steuerung!$H$13=1,360,IF(Steuerung!$H$13=2,90,30))","v":360},{"$f":"Steuerung!$G$9*(Steuerung!$G$10+Steuerung!$G$11)","v":79949.238750000004},0,{"$f":"IF(H23>0,(H23*Steuerung!$G$10*C24)/360,0)","v":0},{"$f":"IF((H23+F24)>D24,D24-F24,H23)","v":0},{"$f":"IF((H23-G24)>0,(H23-G24),0)","v":0}]
[null,{"$f":"IF(Steuerung!$H$13=1,DATE(Steuerung!$D$11+20,Steuerung!$C$11,Steuerung!$B$11),IF(Steuerung!$H$13=2,DATE(Steuerung!$D$11,Steuerung!$C$11+58,Steuerung!$B$11),DATE(Steuerung!$D$11,Steuerung!$C$11+20,Steuerung!$B$11)))","v":"2026-07-12"},{"$f":"IF(Steuerung!$H$13=1,360,IF(Steuerung!$H$13=2,90,30))","v":360},{"$f":"Steuerung!$G$9*(Steuerung!$G$10+Steuerung!$G$11)","v":79949.238750000004},0,{"$f":"IF(H24>0,(H24*Steuerung!$G$10*C25)/360,0)","v":0},{"$f":"IF((H24+F25)>D25,D25-F25,H24)","v":0},{"$f":"IF((H24-G25)>0,(H24-G25),0)","v":0}]
[null,{"$f":"IF(Steuerung!$H$13=1,DATE(Steuerung!$D$11+21,Steuerung!$C$11,Steuerung!$B$11),IF(Steuerung!$H$13=2,DATE(Steuerung!$D$11,Steuerung!$C$11+61,Steuerung!$B$11),DATE(Steuerung!$D$11,Steuerung!$C$11+21,Steuerung!$B$11)))","v":"2027-07-12"},{"$f":"IF(Steuerung!$H$13=1,360,IF(Steuerung!$H$13=2,90,30))","v":360},{"$f":"Steuerung!$G$9*(Steuerung!$G$10+Steuerung!$G$11)","v":79949.238750000004},0,{"$f":"IF(H25>0,(H25*Steuerung!$G$10*C26)/360,0)","v":0},0,0]
[null,{"$f":"IF(Steuerung!$H$13=1,DATE(Steuerung!$D$11+22,Steuerung!$C$11,Steuerung!$B$11),IF(Steuerung!$H$13=2,DATE(Steuerung!$D$11,Steuerung!$C$11+64,Steuerung!$B$11),DATE(Steuerung!$D$11,Steuerung!$C$11+22,Steuerung!$B$11)))","v":"2028-07-12"},{"$f":"IF(Steuerung!$H$13=1,360,IF(Steuerung!$H$13=2,90,30))","v":360},{"$f":"Steuerung!$G$9*(Steuerung!$G$10+Steuerung!$G$11)","v":79949.238750000004},0,{"$f":"IF(H26>0,(H26*Steuerung!$G$10*C27)/360,0)","v":0},0,0]
[null,{"$f":"IF(Steuerung!$H$13=1,DATE(Steuerung!$D$11+23,Steuerung!$C$11,Steuerung!$B$11),IF(Steuerung!$H$13=2,DATE(Steuerung!$D$11,Steuerung!$C$11+67,Steuerung!$B$11),DATE(Steuerung!$D$11,Steuerung!$C$11+23,Steuerung!$B$11)))","v":"2029-07-12"},{"$f":"IF(Steuerung!$H$13=1,360,IF(Steuerung!$H$13=2,90,30))","v":360},{"$f":"Steuerung!$G$9*(Steuerung!$G$10+Steuerung!$G$11)","v":79949.238750000004},0,{"$f":"IF(H27>0,(H27*Steuerung!$G$10*C28)/360,0)","v":0},0,0]
[null,{"$f":"IF(Steuerung!$H$13=1,DATE(Steuerung!$D$11+24,Steuerung!$C$11,Steuerung!$B$11),IF(Steuerung!$H$13=2,DATE(Steuerung!$D$11,Steuerung!$C$11+70,Steuerung!$B$11),DATE(Steuerung!$D$11,Steuerung!$C$11+24,Steuerung!$B$11)))","v":"2030-07-12"},{"$f":"IF(Steuerung!$H$13=1,360,IF(Steuerung!$H$13=2,90,30))","v":360},{"$f":"Steuerung!$G$9*(Steuerung!$G$10+Steuerung!$G$11)","v":79949.238750000004},0,{"$f":"IF(H28>0,(H28*Steuerung!$G$10*C29)/360,0)","v":0},0,0]
[null,{"$f":"IF(Steuerung!$H$13=1,DATE(Steuerung!$D$11+25,Steuerung!$C$11,Steuerung!$B$11),IF(Steuerung!$H$13=2,DATE(Steuerung!$D$11,Steuerung!$C$11+73,Steuerung!$B$11),DATE(Steuerung!$D$11,Steuerung!$C$11+25,Steuerung!$B$11)))","v":"2031-07-12"},{"$f":"IF(Steuerung!$H$13=1,360,IF(Steuerung!$H$13=2,90,30))","v":360},{"$f":"Steuerung!$G$9*(Steuerung!$G$10+Steuerung!$G$11)","v":79949.238750000004},0,{"$f":"IF(H29>0,(H29*Steuerung!$G$10*C30)/360,0)","v":0},0,0]
[null,{"$f":"IF(Steuerung!$H$13=1,DATE(Steuerung!$D$11+26,Steuerung!$C$11,Steuerung!$B$11),IF(Steuerung!$H$13=2,DATE(Steuerung!$D$11,Steuerung!$C$11+76,Steuerung!$B$11),DATE(Steuerung!$D$11,Steuerung!$C$11+26,Steuerung!$B$11)))","v":"2032-07-12"},{"$f":"IF(Steuerung!$H$13=1,360,IF(Steuerung!$H$13=2,90,30))","v":360},{"$f":"Steuerung!$G$9*(Steuerung!$G$10+Steuerung!$G$11)","v":79949.238750000004},0,{"$f":"IF(H30>0,(H30*Steuerung!$G$10*C31)/360,0)","v":0},0,0]
[null,{"$f":"IF(Steuerung!$H$13=1,DATE(Steuerung!$D$11+27,Steuerung!$C$11,Steuerung!$B$11),IF(Steuerung!$H$13=2,DATE(Steuerung!$D$11,Steuerung!$C$11+79,Steuerung!$B$11),DATE(Steuerung!$D$11,Steuerung!$C$11+27,Steuerung!$B$11)))","v":"2033-07-12"},{"$f":"IF(Steuerung!$H$13=1,360,IF(Steuerung!$H$13=2,90,30))","v":360},{"$f":"Steuerung!$G$9*(Steuerung!$G$10+Steuerung!$G$11)","v":79949.238750000004},0,{"$f":"IF(H31>0,(H31*Steuerung!$G$10*C32)/360,0)","v":0},0,0]
[null,{"$f":"IF(Steuerung!$H$13=1,DATE(Steuerung!$D$11+28,Steuerung!$C$11,Steuerung!$B$11),IF(Steuerung!$H$13=2,DATE(Steuerung!$D$11,Steuerung!$C$11+82,Steuerung!$B$11),DATE(Steuerung!$D$11,Steuerung!$C$11+28,Steuerung!$B$11)))","v":"2034-07-12"},{"$f":"IF(Steuerung!$H$13=1,360,IF(Steuerung!$H$13=2,90,30))","v":360},{"$f":"Steuerung!$G$9*(Steuerung!$G$10+Steuerung!$G$11)","v":79949.238750000004},0,{"$f":"IF(H32>0,(H32*Steuerung!$G$10*C33)/360,0)","v":0},0,0]
[null,{"$f":"IF(Steuerung!$H$13=1,DATE(Steuerung!$D$11+29,Steuerung!$C$11,Steuerung!$B$11),IF(Steuerung!$H$13=2,DATE(Steuerung!$D$11,Steuerung!$C$11+85,Steuerung!$B$11),DATE(Steuerung!$D$11,Steuerung!$C$11+29,Steuerung!$B$11)))","v":"2035-07-12"},{"$f":"IF(Steuerung!$H$13=1,360,IF(Steuerung!$H$13=2,90,30))","v":360},{"$f":"Steuerung!$G$9*(Steuerung!$G$10+Steuerung!$G$11)","v":79949.238750000004},0,{"$f":"IF(H33>0,(H33*Steuerung!$G$10*C34)/360,0)","v":0},0,0]
[null,{"$f":"IF(Steuerung!$H$13=1,DATE(Steuerung!$D$11+30,Steuerung!$C$11,Steuerung!$B$11),IF(Steuerung!$H$13=2,DATE(Steuerung!$D$11,Steuerung!$C$11+88,Steuerung!$B$11),DATE(Steuerung!$D$11,Steuerung!$C$11+30,Steuerung!$B$11)))","v":"2036-07-12"},{"$f":"IF(Steuerung!$H$13=1,360,IF(Steuerung!$H$13=2,90,30))","v":360},{"$f":"Steuerung!$G$9*(Steuerung!$G$10+Steuerung!$G$11)","v":79949.238750000004},{"$f":"F35+G35","v":0},{"$f":"IF(H34>0,(H34*Steuerung!$G$10*C35)/360,0)","v":0},{"$f":"IF((H34+F35)>D35,D35-F35,H34)","v":0},{"$f":"IF((H34-G35)>0,(H34-G35),0)","v":0}]
[null,{"$f":"IF(Steuerung!$H$13=1,DATE(Steuerung!$D$11+31,Steuerung!$C$11,Steuerung!$B$11),IF(Steuerung!$H$13=2,DATE(Steuerung!$D$11,Steuerung!$C$11+91,Steuerung!$B$11),DATE(Steuerung!$D$11,Steuerung!$C$11+31,Steuerung!$B$11)))","v":"2037-07-12"},{"$f":"IF(Steuerung!$H$13=1,360,IF(Steuerung!$H$13=2,90,30))","v":360},{"$f":"Steuerung!$G$9*(Steuerung!$G$10+Steuerung!$G$11)","v":79949.238750000004},0,{"$f":"IF(H35>0,(H35*Steuerung!$G$10*C36)/360,0)","v":0},0,0]
[null,{"$f":"IF(Steuerung!$H$13=1,DATE(Steuerung!$D$11+32,Steuerung!$C$11,Steuerung!$B$11),IF(Steuerung!$H$13=2,DATE(Steuerung!$D$11,Steuerung!$C$11+94,Steuerung!$B$11),DATE(Steuerung!$D$11,Steuerung!$C$11+32,Steuerung!$B$11)))","v":"2038-07-12"},{"$f":"IF(Steuerung!$H$13=1,360,IF(Steuerung!$H$13=2,90,30))","v":360},{"$f":"Steuerung!$G$9*(Steuerung!$G$10+Steuerung!$G$11)","v":79949.238750000004},0,{"$f":"IF(H36>0,(H36*Steuerung!$G$10*C37)/360,0)","v":0},0,0]
[null,{"$f":"IF(Steuerung!$H$13=1,DATE(Steuerung!$D$11+33,Steuerung!$C$11,Steuerung!$B$11),IF(Steuerung!$H$13=2,DATE(Steuerung!$D$11,Steuerung!$C$11+97,Steuerung!$B$11),DATE(Steuerung!$D$11,Steuerung!$C$11+33,Steuerung!$B$11)))","v":"2039-07-12"},{"$f":"IF(Steuerung!$H$13=1,360,IF(Steuerung!$H$13=2,90,30))","v":360},{"$f":"Steuerung!$G$9*(Steuerung!$G$10+Steuerung!$G$11)","v":79949.238750000004},0,{"$f":"IF(H37>0,(H37*Steuerung!$G$10*C38)/360,0)","v":0},0,0]
[null,{"$f":"IF(Steuerung!$H$13=1,DATE(Steuerung!$D$11+34,Steuerung!$C$11,Steuerung!$B$11),IF(Steuerung!$H$13=2,DATE(Steuerung!$D$11,Steuerung!$C$11+100,Steuerung!$B$11),DATE(Steuerung!$D$11,Steuerung!$C$11+34,Steuerung!$B$11)))","v":"2040-07-12"},{"$f":"IF(Steuerung!$H$13=1,360,IF(Steuerung!$H$13=2,90,30))","v":360},{"$f":"Steuerung!$G$9*(Steuerung!$G$10+Steuerung!$G$11)","v":79949.238750000004},0,{"$f":"IF(H38>0,(H38*Steuerung!$G$10*C39)/360,0)","v":0},0,0]
[null,{"$f":"IF(Steuerung!$H$13=1,DATE(Steuerung!$D$11+35,Steuerung!$C$11,Steuerung!$B$11),IF(Steuerung!$H$13=2,DATE(Steuerung!$D$11,Steuerung!$C$11+103,Steuerung!$B$11),DATE(Steuerung!$D$11,Steuerung!$C$11+35,Steuerung!$B$11)))","v":"2041-07-12"},{"$f":"IF(Steuerung!$H$13=1,360,IF(Steuerung!$H$13=2,90,30))","v":360},{"$f":"Steuerung!$G$9*(Steuerung!$G$10+Steuerung!$G$11)","v":79949.238750000004},0,{"$f":"IF(H39>0,(H39*Steuerung!$G$10*C40)/360,0)","v":0},0,0]
[null,{"$f":"IF(Steuerung!$H$13=1,DATE(Steuerung!$D$11+36,Steuerung!$C$11,Steuerung!$B$11),IF(Steuerung!$H$13=2,DATE(Steuerung!$D$11,Steuerung!$C$11+106,Steuerung!$B$11),DATE(Steuerung!$D$11,Steuerung!$C$11+36,Steuerung!$B$11)))","v":"2042-07-12"},{"$f":"IF(Steuerung!$H$13=1,360,IF(Steuerung!$H$13=2,90,30))","v":360},{"$f":"Steuerung!$G$9*(Steuerung!$G$10+Steuerung!$G$11)","v":79949.238750000004},0,{"$f":"IF(H40>0,(H40*Steuerung!$G$10*C41)/360,0)","v":0},0,0]
[null,{"$f":"IF(Steuerung!$H$13=1,DATE(Steuerung!$D$11+37,Steuerung!$C$11,Steuerung!$B$11),IF(Steuerung!$H$13=2,DATE(Steuerung!$D$11,Steuerung!$C$11+109,Steuerung!$B$11),DATE(Steuerung!$D$11,Steuerung!$C$11+37,Steuerung!$B$11)))","v":"2043-07-12"},{"$f":"IF(Steuerung!$H$13=1,360,IF(Steuerung!$H$13=2,90,30))","v":360},{"$f":"Steuerung!$G$9*(Steuerung!$G$10+Steuerung!$G$11)","v":79949.238750000004},0,{"$f":"IF(H41>0,(H41*Steuerung!$G$10*C42)/360,0)","v":0},0,0]
[null,{"$f":"IF(Steuerung!$H$13=1,DATE(Steuerung!$D$11+38,Steuerung!$C$11,Steuerung!$B$11),IF(Steuerung!$H$13=2,DATE(Steuerung!$D$11,Steuerung!$C$11+112,Steuerung!$B$11),DATE(Steuerung!$D$11,Steuerung!$C$11+38,Steuerung!$B$11)))","v":"2044-07-12"},{"$f":"IF(Steuerung!$H$13=1,360,IF(Steuerung!$H$13=2,90,30))","v":360},{"$f":"Steuerung!$G$9*(Steuerung!$G$10+Steuerung!$G$11)","v":79949.238750000004},0,{"$f":"IF(H42>0,(H42*Steuerung!$G$10*C43)/360,0)","v":0},0,0]
[null,{"$f":"IF(Steuerung!$H$13=1,DATE(Steuerung!$D$11+39,Steuerung!$C$11,Steuerung!$B$11),IF(Steuerung!$H$13=2,DATE(Steuerung!$D$11,Steuerung!$C$11+115,Steuerung!$B$11),DATE(Steuerung!$D$11,Steuerung!$C$11+39,Steuerung!$B$11)))","v":"2045-07-12"},{"$f":"IF(Steuerung!$H$13=1,360,IF(Steuerung!$H$13=2,90,30))","v":360},{"$f":"Steuerung!$G$9*(Steuerung!$G$10+Steuerung!$G$11)","v":79949.238750000004},0,{"$f":"IF(H43>0,(H43*Steuerung!$G$10*C44)/360,0)","v":0},0,0]
[null,{"$f":"IF(Steuerung!$H$13=1,DATE(Steuerung!$D$11+40,Steuerung!$C$11,Steuerung!$B$11),IF(Steuerung!$H$13=2,DATE(Steuerung!$D$11,Steuerung!$C$11+118,Steuerung!$B$11),DATE(Steuerung!$D$11,Steuerung!$C$11+40,Steuerung!$B$11)))","v":"2046-07-12"},{"$f":"IF(Steuerung!$H$13=1,360,IF(Steuerung!$H$13=2,90,30))","v":360},{"$f":"Steuerung!$G$9*(Steuerung!$G$10+Steuerung!$G$11)","v":79949.238750000004},0,{"$f":"IF(H44>0,(H44*Steuerung!$G$10*C45)/360,0)","v":0},0,0]
[null,{"$f":"IF(Steuerung!$H$13=1,DATE(Steuerung!$D$11+41,Steuerung!$C$11,Steuerung!$B$11),IF(Steuerung!$H$13=2,DATE(Steuerung!$D$11,Steuerung!$C$11+121,Steuerung!$B$11),DATE(Steuerung!$D$11,Steuerung!$C$11+41,Steuerung!$B$11)))","v":"2047-07-12"},{"$f":"IF(Steuerung!$H$13=1,360,IF(Steuerung!$H$13=2,90,30))","v":360},{"$f":"Steuerung!$G$9*(Steuerung!$G$10+Steuerung!$G$11)","v":79949.238750000004},0,{"$f":"IF(H45>0,(H45*Steuerung!$G$10*C46)/360,0)","v":0},0,0]
[null,{"$f":"IF(Steuerung!$H$13=1,DATE(Steuerung!$D$11+42,Steuerung!$C$11,Steuerung!$B$11),IF(Steuerung!$H$13=2,DATE(Steuerung!$D$11,Steuerung!$C$11+124,Steuerung!$B$11),DATE(Steuerung!$D$11,Steuerung!$C$11+42,Steuerung!$B$11)))","v":"2048-07-12"},{"$f":"IF(Steuerung!$H$13=1,360,IF(Steuerung!$H$13=2,90,30))","v":360},{"$f":"Steuerung!$G$9*(Steuerung!$G$10+Steuerung!$G$11)","v":79949.238750000004},0,{"$f":"IF(H46>0,(H46*Steuerung!$G$10*C47)/360,0)","v":0},0,0]
[null,{"$f":"IF(Steuerung!$H$13=1,DATE(Steuerung!$D$11+43,Steuerung!$C$11,Steuerung!$B$11),IF(Steuerung!$H$13=2,DATE(Steuerung!$D$11,Steuerung!$C$11+127,Steuerung!$B$11),DATE(Steuerung!$D$11,Steuerung!$C$11+43,Steuerung!$B$11)))","v":"2049-07-12"},{"$f":"IF(Steuerung!$H$13=1,360,IF(Steuerung!$H$13=2,90,30))","v":360},{"$f":"Steuerung!$G$9*(Steuerung!$G$10+Steuerung!$G$11)","v":79949.238750000004},0,{"$f":"IF(H47>0,(H47*Steuerung!$G$10*C48)/360,0)","v":0},0,0]
[null,{"$f":"IF(Steuerung!$H$13=1,DATE(Steuerung!$D$11+44,Steuerung!$C$11,Steuerung!$B$11),IF(Steuerung!$H$13=2,DATE(Steuerung!$D$11,Steuerung!$C$11+130,Steuerung!$B$11),DATE(Steuerung!$D$11,Steuerung!$C$11+44,Steuerung!$B$11)))","v":"2050-07-12"},{"$f":"IF(Steuerung!$H$13=1,360,IF(Steuerung!$H$13=2,90,30))","v":360},{"$f":"Steuerung!$G$9*(Steuerung!$G$10+Steuerung!$G$11)","v":79949.238750000004},0,{"$f":"IF(H48>0,(H48*Steuerung!$G$10*C49)/360,0)","v":0},0,0]
[null,{"$f":"IF(Steuerung!$H$13=1,DATE(Steuerung!$D$11+45,Steuerung!$C$11,Steuerung!$B$11),IF(Steuerung!$H$13=2,DATE(Steuerung!$D$11,Steuerung!$C$11+133,Steuerung!$B$11),DATE(Steuerung!$D$11,Steuerung!$C$11+45,Steuerung!$B$11)))","v":"2051-07-12"},{"$f":"IF(Steuerung!$H$13=1,360,IF(Steuerung!$H$13=2,90,30))","v":360},{"$f":"Steuerung!$G$9*(Steuerung!$G$10+Steuerung!$G$11)","v":79949.238750000004},0,{"$f":"IF(H49>0,(H49*Steuerung!$G$10*C50)/360,0)","v":0},0,0]
[null,{"$f":"IF(Steuerung!$H$13=1,DATE(Steuerung!$D$11+46,Steuerung!$C$11,Steuerung!$B$11),IF(Steuerung!$H$13=2,DATE(Steuerung!$D$11,Steuerung!$C$11+136,Steuerung!$B$11),DATE(Steuerung!$D$11,Steuerung!$C$11+46,Steuerung!$B$11)))","v":"2052-07-12"},{"$f":"IF(Steuerung!$H$13=1,360,IF(Steuerung!$H$13=2,90,30))","v":360},{"$f":"Steuerung!$G$9*(Steuerung!$G$10+Steuerung!$G$11)","v":79949.238750000004},0,{"$f":"IF(H50>0,(H50*Steuerung!$G$10*C51)/360,0)","v":0},0,0]
[null,{"$f":"IF(Steuerung!$H$13=1,DATE(Steuerung!$D$11+47,Steuerung!$C$11,Steuerung!$B$11),IF(Steuerung!$H$13=2,DATE(Steuerung!$D$11,Steuerung!$C$11+139,Steuerung!$B$11),DATE(Steuerung!$D$11,Steuerung!$C$11+47,Steuerung!$B$11)))","v":"2053-07-12"},{"$f":"IF(Steuerung!$H$13=1,360,IF(Steuerung!$H$13=2,90,30))","v":360},{"$f":"Steuerung!$G$9*(Steuerung!$G$10+Steuerung!$G$11)","v":79949.238750000004},0,{"$f":"IF(H51>0,(H51*Steuerung!$G$10*C52)/360,0)","v":0},0,0]
[null,{"$f":"IF(Steuerung!$H$13=1,DATE(Steuerung!$D$11+48,Steuerung!$C$11,Steuerung!$B$11),IF(Steuerung!$H$13=2,DATE(Steuerung!$D$11,Steuerung!$C$11+142,Steuerung!$B$11),DATE(Steuerung!$D$11,Steuerung!$C$11+48,Steuerung!$B$11)))","v":"2054-07-12"},{"$f":"IF(Steuerung!$H$13=1,360,IF(Steuerung!$H$13=2,90,30))","v":360},{"$f":"Steuerung!$G$9*(Steuerung!$G$10+Steuerung!$G$11)","v":79949.238750000004},0,{"$f":"IF(H52>0,(H52*Steuerung!$G$10*C53)/360,0)","v":0},0,0]
[null,{"$f":"IF(Steuerung!$H$13=1,DATE(Steuerung!$D$11+49,Steuerung!$C$11,Steuerung!$B$11),IF(Steuerung!$H$13=2,DATE(Steuerung!$D$11,Steuerung!$C$11+145,Steuerung!$B$11),DATE(Steuerung!$D$11,Steuerung!$C$11+49,Steuerung!$B$11)))","v":"2055-07-12"},{"$f":"IF(Steuerung!$H$13=1,360,IF(Steuerung!$H$13=2,90,30))","v":360},{"$f":"Steuerung!$G$9*(Steuerung!$G$10+Steuerung!$G$11)","v":79949.238750000004},0,{"$f":"IF(H53>0,(H53*Steuerung!$G$10*C54)/360,0)","v":0},0,0]
[null,{"$f":"IF(Steuerung!$H$13=1,DATE(Steuerung!$D$11+50,Steuerung!$C$11,Steuerung!$B$11),IF(Steuerung!$H$13=2,DATE(Steuerung!$D$11,Steuerung!$C$11+148,Steuerung!$B$11),DATE(Steuerung!$D$11,Steuerung!$C$11+50,Steuerung!$B$11)))","v":"2056-07-12"},{"$f":"IF(Steuerung!$H$13=1,360,IF(Steuerung!$H$13=2,90,30))","v":360},{"$f":"Steuerung!$G$9*(Steuerung!$G$10+Steuerung!$G$11)","v":79949.238750000004},0,{"$f":"IF(H54>0,(H54*Steuerung!$G$10*C55)/360,0)","v":0},0,0]
[null,{"$f":"IF(Steuerung!$H$13=1,DATE(Steuerung!$D$11+51,Steuerung!$C$11,Steuerung!$B$11),IF(Steuerung!$H$13=2,DATE(Steuerung!$D$11,Steuerung!$C$11+151,Steuerung!$B$11),DATE(Steuerung!$D$11,Steuerung!$C$11+51,Steuerung!$B$11)))","v":"2057-07-12"},{"$f":"IF(Steuerung!$H$13=1,360,IF(Steuerung!$H$13=2,90,30))","v":360},{"$f":"Steuerung!$G$9*(Steuerung!$G$10+Steuerung!$G$11)","v":79949.238750000004},{"$f":"F56+G56","v":0},{"$f":"IF(H55>0,(H55*Steuerung!$G$10*C56)/360,0)","v":0},{"$f":"IF((H55+F56)>D56,D56-F56,H55)","v":0},{"$f":"IF((H55-G56)>0,(H55-G56),0)","v":0}]
[null,{"$f":"IF(Steuerung!$H$13=1,DATE(Steuerung!$D$11+52,Steuerung!$C$11,Steuerung!$B$11),IF(Steuerung!$H$13=2,DATE(Steuerung!$D$11,Steuerung!$C$11+154,Steuerung!$B$11),DATE(Steuerung!$D$11,Steuerung!$C$11+52,Steuerung!$B$11)))","v":"2058-07-12"},{"$f":"IF(Steuerung!$H$13=1,360,IF(Steuerung!$H$13=2,90,30))","v":360},{"$f":"Steuerung!$G$9*(Steuerung!$G$10+Steuerung!$G$11)","v":79949.238750000004},0,{"$f":"IF(H56>0,(H56*Steuerung!$G$10*C57)/360,0)","v":0},0,0]
[null,{"$f":"IF(Steuerung!$H$13=1,DATE(Steuerung!$D$11+53,Steuerung!$C$11,Steuerung!$B$11),IF(Steuerung!$H$13=2,DATE(Steuerung!$D$11,Steuerung!$C$11+157,Steuerung!$B$11),DATE(Steuerung!$D$11,Steuerung!$C$11+53,Steuerung!$B$11)))","v":"2059-07-12"},{"$f":"IF(Steuerung!$H$13=1,360,IF(Steuerung!$H$13=2,90,30))","v":360},{"$f":"Steuerung!$G$9*(Steuerung!$G$10+Steuerung!$G$11)","v":79949.238750000004},0,{"$f":"IF(H57>0,(H57*Steuerung!$G$10*C58)/360,0)","v":0},0,0]
[null,{"$f":"IF(Steuerung!$H$13=1,DATE(Steuerung!$D$11+54,Steuerung!$C$11,Steuerung!$B$11),IF(Steuerung!$H$13=2,DATE(Steuerung!$D$11,Steuerung!$C$11+160,Steuerung!$B$11),DATE(Steuerung!$D$11,Steuerung!$C$11+54,Steuerung!$B$11)))","v":"2060-07-12"},{"$f":"IF(Steuerung!$H$13=1,360,IF(Steuerung!$H$13=2,90,30))","v":360},{"$f":"Steuerung!$G$9*(Steuerung!$G$10+Steuerung!$G$11)","v":79949.238750000004},0,{"$f":"IF(H58>0,(H58*Steuerung!$G$10*C59)/360,0)","v":0},0,0]
[null,{"$f":"IF(Steuerung!$H$13=1,DATE(Steuerung!$D$11+55,Steuerung!$C$11,Steuerung!$B$11),IF(Steuerung!$H$13=2,DATE(Steuerung!$D$11,Steuerung!$C$11+163,Steuerung!$B$11),DATE(Steuerung!$D$11,Steuerung!$C$11+55,Steuerung!$B$11)))","v":"2061-07-12"},{"$f":"IF(Steuerung!$H$13=1,360,IF(Steuerung!$H$13=2,90,30))","v":360},{"$f":"Steuerung!$G$9*(Steuerung!$G$10+Steuerung!$G$11)","v":79949.238750000004},0,{"$f":"IF(H59>0,(H59*Steuerung!$G$10*C60)/360,0)","v":0},0,0]
[null,{"$f":"IF(Steuerung!$H$13=1,DATE(Steuerung!$D$11+56,Steuerung!$C$11,Steuerung!$B$11),IF(Steuerung!$H$13=2,DATE(Steuerung!$D$11,Steuerung!$C$11+166,Steuerung!$B$11),DATE(Steuerung!$D$11,Steuerung!$C$11+56,Steuerung!$B$11)))","v":"2062-07-12"},{"$f":"IF(Steuerung!$H$13=1,360,IF(Steuerung!$H$13=2,90,30))","v":360},{"$f":"Steuerung!$G$9*(Steuerung!$G$10+Steuerung!$G$11)","v":79949.238750000004},0,{"$f":"IF(H60>0,(H60*Steuerung!$G$10*C61)/360,0)","v":0},0,0]
[null,{"$f":"IF(Steuerung!$H$13=1,DATE(Steuerung!$D$11+57,Steuerung!$C$11,Steuerung!$B$11),IF(Steuerung!$H$13=2,DATE(Steuerung!$D$11,Steuerung!$C$11+169,Steuerung!$B$11),DATE(Steuerung!$D$11,Steuerung!$C$11+57,Steuerung!$B$11)))","v":"2063-07-12"},{"$f":"IF(Steuerung!$H$13=1,360,IF(Steuerung!$H$13=2,90,30))","v":360},{"$f":"Steuerung!$G$9*(Steuerung!$G$10+Steuerung!$G$11)","v":79949.238750000004},0,{"$f":"IF(H61>0,(H61*Steuerung!$G$10*C62)/360,0)","v":0},0,0]
[null,{"$f":"IF(Steuerung!$H$13=1,DATE(Steuerung!$D$11+58,Steuerung!$C$11,Steuerung!$B$11),IF(Steuerung!$H$13=2,DATE(Steuerung!$D$11,Steuerung!$C$11+172,Steuerung!$B$11),DATE(Steuerung!$D$11,Steuerung!$C$11+58,Steuerung!$B$11)))","v":"2064-07-12"},{"$f":"IF(Steuerung!$H$13=1,360,IF(Steuerung!$H$13=2,90,30))","v":360},{"$f":"Steuerung!$G$9*(Steuerung!$G$10+Steuerung!$G$11)","v":79949.238750000004},0,{"$f":"IF(H62>0,(H62*Steuerung!$G$10*C63)/360,0)","v":0},0,0]
[null,{"$f":"IF(Steuerung!$H$13=1,DATE(Steuerung!$D$11+59,Steuerung!$C$11,Steuerung!$B$11),IF(Steuerung!$H$13=2,DATE(Steuerung!$D$11,Steuerung!$C$11+175,Steuerung!$B$11),DATE(Steuerung!$D$11,Steuerung!$C$11+59,Steuerung!$B$11)))","v":"2065-07-12"},{"$f":"IF(Steuerung!$H$13=1,360,IF(Steuerung!$H$13=2,90,30))","v":360},{"$f":"Steuerung!$G$9*(Steuerung!$G$10+Steuerung!$G$11)","v":79949.238750000004},0,{"$f":"IF(H63>0,(H63*Steuerung!$G$10*C64)/360,0)","v":0},0,0]
[null,{"$f":"IF(Steuerung!$H$13=1,DATE(Steuerung!$D$11+60,Steuerung!$C$11,Steuerung!$B$11),IF(Steuerung!$H$13=2,DATE(Steuerung!$D$11,Steuerung!$C$11+178,Steuerung!$B$11),DATE(Steuerung!$D$11,Steuerung!$C$11+60,Steuerung!$B$11)))","v":"2066-07-12"},{"$f":"IF(Steuerung!$H$13=1,360,IF(Steuerung!$H$13=2,90,30))","v":360},{"$f":"Steuerung!$G$9*(Steuerung!$G$10+Steuerung!$G$11)","v":79949.238750000004},0,{"$f":"IF(H64>0,(H64*Steuerung!$G$10*C65)/360,0)","v":0},0,0]
[null,{"$f":"IF(Steuerung!$H$13=1,DATE(Steuerung!$D$11+61,Steuerung!$C$11,Steuerung!$B$11),IF(Steuerung!$H$13=2,DATE(Steuerung!$D$11,Steuerung!$C$11+181,Steuerung!$B$11),DATE(Steuerung!$D$11,Steuerung!$C$11+61,Steuerung!$B$11)))","v":"2067-07-12"},{"$f":"IF(Steuerung!$H$13=1,360,IF(Steuerung!$H$13=2,90,30))","v":360},{"$f":"Steuerung!$G$9*(Steuerung!$G$10+Steuerung!$G$11)","v":79949.238750000004},0,{"$f":"IF(H65>0,(H65*Steuerung!$G$10*C66)/360,0)","v":0},0,0]
[null,{"$f":"IF(Steuerung!$H$13=1,DATE(Steuerung!$D$11+62,Steuerung!$C$11,Steuerung!$B$11),IF(Steuerung!$H$13=2,DATE(Steuerung!$D$11,Steuerung!$C$11+184,Steuerung!$B$11),DATE(Steuerung!$D$11,Steuerung!$C$11+62,Steuerung!$B$11)))","v":"2068-07-12"},{"$f":"IF(Steuerung!$H$13=1,360,IF(Steuerung!$H$13=2,90,30))","v":360},{"$f":"Steuerung!$G$9*(Steuerung!$G$10+Steuerung!$G$11)","v":79949.238750000004},0,{"$f":"IF(H66>0,(H66*Steuerung!$G$10*C67)/360,0)","v":0},0,0]
[null,{"$f":"IF(Steuerung!$H$13=1,DATE(Steuerung!$D$11+63,Steuerung!$C$11,Steuerung!$B$11),IF(Steuerung!$H$13=2,DATE(Steuerung!$D$11,Steuerung!$C$11+187,Steuerung!$B$11),DATE(Steuerung!$D$11,Steuerung!$C$11+63,Steuerung!$B$11)))","v":"2069-07-12"},{"$f":"IF(Steuerung!$H$13=1,360,IF(Steuerung!$H$13=2,90,30))","v":360},{"$f":"Steuerung!$G$9*(Steuerung!$G$10+Steuerung!$G$11)","v":79949.238750000004},0,{"$f":"IF(H67>0,(H67*Steuerung!$G$10*C68)/360,0)","v":0},0,0]
[null,{"$f":"IF(Steuerung!$H$13=1,DATE(Steuerung!$D$11+64,Steuerung!$C$11,Steuerung!$B$11),IF(Steuerung!$H$13=2,DATE(Steuerung!$D$11,Steuerung!$C$11+190,Steuerung!$B$11),DATE(Steuerung!$D$11,Steuerung!$C$11+64,Steuerung!$B$11)))","v":"2070-07-12"},{"$f":"IF(Steuerung!$H$13=1,360,IF(Steuerung!$H$13=2,90,30))","v":360},{"$f":"Steuerung!$G$9*(Steuerung!$G$10+Steuerung!$G$11)","v":79949.238750000004},0,{"$f":"IF(H68>0,(H68*Steuerung!$G$10*C69)/360,0)","v":0},0,0]
[null,{"$f":"IF(Steuerung!$H$13=1,DATE(Steuerung!$D$11+65,Steuerung!$C$11,Steuerung!$B$11),IF(Steuerung!$H$13=2,DATE(Steuerung!$D$11,Steuerung!$C$11+193,Steuerung!$B$11),DATE(Steuerung!$D$11,Steuerung!$C$11+65,Steuerung!$B$11)))","v":"2071-07-12"},{"$f":"IF(Steuerung!$H$13=1,360,IF(Steuerung!$H$13=2,90,30))","v":360},{"$f":"Steuerung!$G$9*(Steuerung!$G$10+Steuerung!$G$11)","v":79949.238750000004},0,{"$f":"IF(H69>0,(H69*Steuerung!$G$10*C70)/360,0)","v":0},0,0]
[null,{"$f":"IF(Steuerung!$H$13=1,DATE(Steuerung!$D$11+66,Steuerung!$C$11,Steuerung!$B$11),IF(Steuerung!$H$13=2,DATE(Steuerung!$D$11,Steuerung!$C$11+196,Steuerung!$B$11),DATE(Steuerung!$D$11,Steuerung!$C$11+66,Steuerung!$B$11)))","v":"2072-07-12"},{"$f":"IF(Steuerung!$H$13=1,360,IF(Steuerung!$H$13=2,90,30))","v":360},{"$f":"Steuerung!$G$9*(Steuerung!$G$10+Steuerung!$G$11)","v":79949.238750000004},0,{"$f":"IF(H70>0,(H70*Steuerung!$G$10*C71)/360,0)","v":0},0,0]
[null,{"$f":"IF(Steuerung!$H$13=1,DATE(Steuerung!$D$11+67,Steuerung!$C$11,Steuerung!$B$11),IF(Steuerung!$H$13=2,DATE(Steuerung!$D$11,Steuerung!$C$11+199,Steuerung!$B$11),DATE(Steuerung!$D$11,Steuerung!$C$11+67,Steuerung!$B$11)))","v":"2073-07-12"},{"$f":"IF(Steuerung!$H$13=1,360,IF(Steuerung!$H$13=2,90,30))","v":360},{"$f":"Steuerung!$G$9*(Steuerung!$G$10+Steuerung!$G$11)","v":79949.238750000004},0,{"$f":"IF(H71>0,(H71*Steuerung!$G$10*C72)/360,0)","v":0},0,0]
[null,{"$f":"IF(Steuerung!$H$13=1,DATE(Steuerung!$D$11+68,Steuerung!$C$11,Steuerung!$B$11),IF(Steuerung!$H$13=2,DATE(Steuerung!$D$11,Steuerung!$C$11+202,Steuerung!$B$11),DATE(Steuerung!$D$11,Steuerung!$C$11+68,Steuerung!$B$11)))","v":"2074-07-12"},{"$f":"IF(Steuerung!$H$13=1,360,IF(Steuerung!$H$13=2,90,30))","v":360},{"$f":"Steuerung!$G$9*(Steuerung!$G$10+Steuerung!$G$11)","v":79949.238750000004},0,{"$f":"IF(H72>0,(H72*Steuerung!$G$10*C73)/360,0)","v":0},0,0]
[null,{"$f":"IF(Steuerung!$H$13=1,DATE(Steuerung!$D$11+69,Steuerung!$C$11,Steuerung!$B$11),IF(Steuerung!$H$13=2,DATE(Steuerung!$D$11,Steuerung!$C$11+205,Steuerung!$B$11),DATE(Steuerung!$D$11,Steuerung!$C$11+69,Steuerung!$B$11)))","v":"2075-07-12"},{"$f":"IF(Steuerung!$H$13=1,360,IF(Steuerung!$H$13=2,90,30))","v":360},{"$f":"Steuerung!$G$9*(Steuerung!$G$10+Steuerung!$G$11)","v":79949.238750000004},0,{"$f":"IF(H73>0,(H73*Steuerung!$G$10*C74)/360,0)","v":0},0,0]
[null,{"$f":"IF(Steuerung!$H$13=1,DATE(Steuerung!$D$11+70,Steuerung!$C$11,Steuerung!$B$11),IF(Steuerung!$H$13=2,DATE(Steuerung!$D$11,Steuerung!$C$11+208,Steuerung!$B$11),DATE(Steuerung!$D$11,Steuerung!$C$11+70,Steuerung!$B$11)))","v":"2076-07-12"},{"$f":"IF(Steuerung!$H$13=1,360,IF(Steuerung!$H$13=2,90,30))","v":360},{"$f":"Steuerung!$G$9*(Steuerung!$G$10+Steuerung!$G$11)","v":79949.238750000004},0,{"$f":"IF(H74>0,(H74*Steuerung!$G$10*C75)/360,0)","v":0},0,0]
[null,{"$f":"IF(Steuerung!$H$13=1,DATE(Steuerung!$D$11+71,Steuerung!$C$11,Steuerung!$B$11),IF(Steuerung!$H$13=2,DATE(Steuerung!$D$11,Steuerung!$C$11+211,Steuerung!$B$11),DATE(Steuerung!$D$11,Steuerung!$C$11+71,Steuerung!$B$11)))","v":"2077-07-12"},{"$f":"IF(Steuerung!$H$13=1,360,IF(Steuerung!$H$13=2,90,30))","v":360},{"$f":"Steuerung!$G$9*(Steuerung!$G$10+Steuerung!$G$11)","v":79949.238750000004},0,{"$f":"IF(H75>0,(H75*Steuerung!$G$10*C76)/360,0)","v":0},0,0]
[null,{"$f":"IF(Steuerung!$H$13=1,DATE(Steuerung!$D$11+72,Steuerung!$C$11,Steuerung!$B$11),IF(Steuerung!$H$13=2,DATE(Steuerung!$D$11,Steuerung!$C$11+214,Steuerung!$B$11),DATE(Steuerung!$D$11,Steuerung!$C$11+72,Steuerung!$B$11)))","v":"2078-07-12"},{"$f":"IF(Steuerung!$H$13=1,360,IF(Steuerung!$H$13=2,90,30))","v":360},{"$f":"Steuerung!$G$9*(Steuerung!$G$10+Steuerung!$G$11)","v":79949.238750000004},0,{"$f":"IF(H76>0,(H76*Steuerung!$G$10*C77)/360,0)","v":0},0,0]
[null,{"$f":"IF(Steuerung!$H$13=1,DATE(Steuerung!$D$11+73,Steuerung!$C$11,Steuerung!$B$11),IF(Steuerung!$H$13=2,DATE(Steuerung!$D$11,Steuerung!$C$11+217,Steuerung!$B$11),DATE(Steuerung!$D$11,Steuerung!$C$11+73,Steuerung!$B$11)))","v":"2079-07-12"},{"$f":"IF(Steuerung!$H$13=1,360,IF(Steuerung!$H$13=2,90,30))","v":360},{"$f":"Steuerung!$G$9*(Steuerung!$G$10+Steuerung!$G$11)","v":79949.238750000004},0,{"$f":"IF(H77>0,(H77*Steuerung!$G$10*C78)/360,0)","v":0},0,0]
[null,{"$f":"IF(Steuerung!$H$13=1,DATE(Steuerung!$D$11+74,Steuerung!$C$11,Steuerung!$B$11),IF(Steuerung!$H$13=2,DATE(Steuerung!$D$11,Steuerung!$C$11+220,Steuerung!$B$11),DATE(Steuerung!$D$11,Steuerung!$C$11+74,Steuerung!$B$11)))","v":"2080-07-12"},{"$f":"IF(Steuerung!$H$13=1,360,IF(Steuerung!$H$13=2,90,30))","v":360},{"$f":"Steuerung!$G$9*(Steuerung!$G$10+Steuerung!$G$11)","v":79949.238750000004},0,{"$f":"IF(H78>0,(H78*Steuerung!$G$10*C79)/360,0)","v":0},0,0]
[null,{"$f":"IF(Steuerung!$H$13=1,DATE(Steuerung!$D$11+75,Steuerung!$C$11,Steuerung!$B$11),IF(Steuerung!$H$13=2,DATE(Steuerung!$D$11,Steuerung!$C$11+223,Steuerung!$B$11),DATE(Steuerung!$D$11,Steuerung!$C$11+75,Steuerung!$B$11)))","v":"2081-07-12"},{"$f":"IF(Steuerung!$H$13=1,360,IF(Steuerung!$H$13=2,90,30))","v":360},{"$f":"Steuerung!$G$9*(Steuerung!$G$10+Steuerung!$G$11)","v":79949.238750000004},0,{"$f":"IF(H79>0,(H79*Steuerung!$G$10*C80)/360,0)","v":0},0,0]
[null,{"$f":"IF(Steuerung!$H$13=1,DATE(Steuerung!$D$11+76,Steuerung!$C$11,Steuerung!$B$11),IF(Steuerung!$H$13=2,DATE(Steuerung!$D$11,Steuerung!$C$11+226,Steuerung!$B$11),DATE(Steuerung!$D$11,Steuerung!$C$11+76,Steuerung!$B$11)))","v":"2082-07-12"},{"$f":"IF(Steuerung!$H$13=1,360,IF(Steuerung!$H$13=2,90,30))","v":360},{"$f":"Steuerung!$G$9*(Steuerung!$G$10+Steuerung!$G$11)","v":79949.238750000004},0,{"$f":"IF(H80>0,(H80*Steuerung!$G$10*C81)/360,0)","v":0},0,0]
[null,{"$f":"IF(Steuerung!$H$13=1,DATE(Steuerung!$D$11+77,Steuerung!$C$11,Steuerung!$B$11),IF(Steuerung!$H$13=2,DATE(Steuerung!$D$11,Steuerung!$C$11+229,Steuerung!$B$11),DATE(Steuerung!$D$11,Steuerung!$C$11+77,Steuerung!$B$11)))","v":"2083-07-12"},{"$f":"IF(Steuerung!$H$13=1,360,IF(Steuerung!$H$13=2,90,30))","v":360},{"$f":"Steuerung!$G$9*(Steuerung!$G$10+Steuerung!$G$11)","v":79949.238750000004},0,{"$f":"IF(H81>0,(H81*Steuerung!$G$10*C82)/360,0)","v":0},0,0]
[null,{"$f":"IF(Steuerung!$H$13=1,DATE(Steuerung!$D$11+78,Steuerung!$C$11,Steuerung!$B$11),IF(Steuerung!$H$13=2,DATE(Steuerung!$D$11,Steuerung!$C$11+232,Steuerung!$B$11),DATE(Steuerung!$D$11,Steuerung!$C$11+78,Steuerung!$B$11)))","v":"2084-07-12"},{"$f":"IF(Steuerung!$H$13=1,360,IF(Steuerung!$H$13=2,90,30))","v":360},{"$f":"Steuerung!$G$9*(Steuerung!$G$10+Steuerung!$G$11)","v":79949.238750000004},0,{"$f":"IF(H82>0,(H82*Steuerung!$G$10*C83)/360,0)","v":0},0,0]
[null,{"$f":"IF(Steuerung!$H$13=1,DATE(Steuerung!$D$11+79,Steuerung!$C$11,Steuerung!$B$11),IF(Steuerung!$H$13=2,DATE(Steuerung!$D$11,Steuerung!$C$11+235,Steuerung!$B$11),DATE(Steuerung!$D$11,Steuerung!$C$11+79,Steuerung!$B$11)))","v":"2085-07-12"},{"$f":"IF(Steuerung!$H$13=1,360,IF(Steuerung!$H$13=2,90,30))","v":360},{"$f":"Steuerung!$G$9*(Steuerung!$G$10+Steuerung!$G$11)","v":79949.238750000004},0,{"$f":"IF(H83>0,(H83*Steuerung!$G$10*C84)/360,0)","v":0},0,0]
[null,{"$f":"IF(Steuerung!$H$13=1,DATE(Steuerung!$D$11+80,Steuerung!$C$11,Steuerung!$B$11),IF(Steuerung!$H$13=2,DATE(Steuerung!$D$11,Steuerung!$C$11+238,Steuerung!$B$11),DATE(Steuerung!$D$11,Steuerung!$C$11+80,Steuerung!$B$11)))","v":"2086-07-12"},{"$f":"IF(Steuerung!$H$13=1,360,IF(Steuerung!$H$13=2,90,30))","v":360},{"$f":"Steuerung!$G$9*(Steuerung!$G$10+Steuerung!$G$11)","v":79949.238750000004},0,{"$f":"IF(H84>0,(H84*Steuerung!$G$10*C85)/360,0)","v":0},0,0]
[null,{"$f":"IF(Steuerung!$H$13=1,DATE(Steuerung!$D$11+81,Steuerung!$C$11,Steuerung!$B$11),IF(Steuerung!$H$13=2,DATE(Steuerung!$D$11,Steuerung!$C$11+241,Steuerung!$B$11),DATE(Steuerung!$D$11,Steuerung!$C$11+81,Steuerung!$B$11)))","v":"2087-07-12"},{"$f":"IF(Steuerung!$H$13=1,360,IF(Steuerung!$H$13=2,90,30))","v":360},{"$f":"Steuerung!$G$9*(Steuerung!$G$10+Steuerung!$G$11)","v":79949.238750000004},0,{"$f":"IF(H85>0,(H85*Steuerung!$G$10*C86)/360,0)","v":0},0,0]
[null,{"$f":"IF(Steuerung!$H$13=1,DATE(Steuerung!$D$11+82,Steuerung!$C$11,Steuerung!$B$11),IF(Steuerung!$H$13=2,DATE(Steuerung!$D$11,Steuerung!$C$11+244,Steuerung!$B$11),DATE(Steuerung!$D$11,Steuerung!$C$11+82,Steuerung!$B$11)))","v":"2088-07-12"},{"$f":"IF(Steuerung!$H$13=1,360,IF(Steuerung!$H$13=2,90,30))","v":360},{"$f":"Steuerung!$G$9*(Steuerung!$G$10+Steuerung!$G$11)","v":79949.238750000004},0,{"$f":"IF(H86>0,(H86*Steuerung!$G$10*C87)/360,0)","v":0},0,0]
[null,{"$f":"IF(Steuerung!$H$13=1,DATE(Steuerung!$D$11+83,Steuerung!$C$11,Steuerung!$B$11),IF(Steuerung!$H$13=2,DATE(Steuerung!$D$11,Steuerung!$C$11+247,Steuerung!$B$11),DATE(Steuerung!$D$11,Steuerung!$C$11+83,Steuerung!$B$11)))","v":"2089-07-12"},{"$f":"IF(Steuerung!$H$13=1,360,IF(Steuerung!$H$13=2,90,30))","v":360},{"$f":"Steuerung!$G$9*(Steuerung!$G$10+Steuerung!$G$11)","v":79949.238750000004},0,{"$f":"IF(H87>0,(H87*Steuerung!$G$10*C88)/360,0)","v":0},0,0]
[null,{"$f":"IF(Steuerung!$H$13=1,DATE(Steuerung!$D$11+84,Steuerung!$C$11,Steuerung!$B$11),IF(Steuerung!$H$13=2,DATE(Steuerung!$D$11,Steuerung!$C$11+250,Steuerung!$B$11),DATE(Steuerung!$D$11,Steuerung!$C$11+84,Steuerung!$B$11)))","v":"2090-07-12"},{"$f":"IF(Steuerung!$H$13=1,360,IF(Steuerung!$H$13=2,90,30))","v":360},{"$f":"Steuerung!$G$9*(Steuerung!$G$10+Steuerung!$G$11)","v":79949.238750000004},0,{"$f":"IF(H88>0,(H88*Steuerung!$G$10*C89)/360,0)","v":0},0,0]
[null,{"$f":"IF(Steuerung!$H$13=1,DATE(Steuerung!$D$11+85,Steuerung!$C$11,Steuerung!$B$11),IF(Steuerung!$H$13=2,DATE(Steuerung!$D$11,Steuerung!$C$11+253,Steuerung!$B$11),DATE(Steuerung!$D$11,Steuerung!$C$11+85,Steuerung!$B$11)))","v":"2091-07-12"},{"$f":"IF(Steuerung!$H$13=1,360,IF(Steuerung!$H$13=2,90,30))","v":360},{"$f":"Steuerung!$G$9*(Steuerung!$G$10+Steuerung!$G$11)","v":79949.238750000004},0,{"$f":"IF(H89>0,(H89*Steuerung!$G$10*C90)/360,0)","v":0},0,0]
[null,{"$f":"IF(Steuerung!$H$13=1,DATE(Steuerung!$D$11+86,Steuerung!$C$11,Steuerung!$B$11),IF(Steuerung!$H$13=2,DATE(Steuerung!$D$11,Steuerung!$C$11+256,Steuerung!$B$11),DATE(Steuerung!$D$11,Steuerung!$C$11+86,Steuerung!$B$11)))","v":"2092-07-12"},{"$f":"IF(Steuerung!$H$13=1,360,IF(Steuerung!$H$13=2,90,30))","v":360},{"$f":"Steuerung!$G$9*(Steuerung!$G$10+Steuerung!$G$11)","v":79949.238750000004},0,{"$f":"IF(H90>0,(H90*Steuerung!$G$10*C91)/360,0)","v":0},0,0]
[null,{"$f":"IF(Steuerung!$H$13=1,DATE(Steuerung!$D$11+87,Steuerung!$C$11,Steuerung!$B$11),IF(Steuerung!$H$13=2,DATE(Steuerung!$D$11,Steuerung!$C$11+259,Steuerung!$B$11),DATE(Steuerung!$D$11,Steuerung!$C$11+87,Steuerung!$B$11)))","v":"2093-07-12"},{"$f":"IF(Steuerung!$H$13=1,360,IF(Steuerung!$H$13=2,90,30))","v":360},{"$f":"Steuerung!$G$9*(Steuerung!$G$10+Steuerung!$G$11)","v":79949.238750000004},0,{"$f":"IF(H91>0,(H91*Steuerung!$G$10*C92)/360,0)","v":0},0,0]
[null,{"$f":"IF(Steuerung!$H$13=1,DATE(Steuerung!$D$11+88,Steuerung!$C$11,Steuerung!$B$11),IF(Steuerung!$H$13=2,DATE(Steuerung!$D$11,Steuerung!$C$11+262,Steuerung!$B$11),DATE(Steuerung!$D$11,Steuerung!$C$11+88,Steuerung!$B$11)))","v":"2094-07-12"},{"$f":"IF(Steuerung!$H$13=1,360,IF(Steuerung!$H$13=2,90,30))","v":360},{"$f":"Steuerung!$G$9*(Steuerung!$G$10+Steuerung!$G$11)","v":79949.238750000004},0,{"$f":"IF(H92>0,(H92*Steuerung!$G$10*C93)/360,0)","v":0},0,0]
[null,{"$f":"IF(Steuerung!$H$13=1,DATE(Steuerung!$D$11+89,Steuerung!$C$11,Steuerung!$B$11),IF(Steuerung!$H$13=2,DATE(Steuerung!$D$11,Steuerung!$C$11+265,Steuerung!$B$11),DATE(Steuerung!$D$11,Steuerung!$C$11+89,Steuerung!$B$11)))","v":"2095-07-12"},{"$f":"IF(Steuerung!$H$13=1,360,IF(Steuerung!$H$13=2,90,30))","v":360},{"$f":"Steuerung!$G$9*(Steuerung!$G$10+Steuerung!$G$11)","v":79949.238750000004},0,{"$f":"IF(H93>0,(H93*Steuerung!$G$10*C94)/360,0)","v":0},0,0]
[null,{"$f":"IF(Steuerung!$H$13=1,DATE(Steuerung!$D$11+90,Steuerung!$C$11,Steuerung!$B$11),IF(Steuerung!$H$13=2,DATE(Steuerung!$D$11,Steuerung!$C$11+268,Steuerung!$B$11),DATE(Steuerung!$D$11,Steuerung!$C$11+90,Steuerung!$B$11)))","v":"2096-07-12"},{"$f":"IF(Steuerung!$H$13=1,360,IF(Steuerung!$H$13=2,90,30))","v":360},{"$f":"Steuerung!$G$9*(Steuerung!$G$10+Steuerung!$G$11)","v":79949.238750000004},0,{"$f":"IF(H94>0,(H94*Steuerung!$G$10*C95)/360,0)","v":0},0,0]
[null,{"$f":"IF(Steuerung!$H$13=1,DATE(Steuerung!$D$11+91,Steuerung!$C$11,Steuerung!$B$11),IF(Steuerung!$H$13=2,DATE(Steuerung!$D$11,Steuerung!$C$11+271,Steuerung!$B$11),DATE(Steuerung!$D$11,Steuerung!$C$11+91,Steuerung!$B$11)))","v":"2097-07-12"},{"$f":"IF(Steuerung!$H$13=1,360,IF(Steuerung!$H$13=2,90,30))","v":360},{"$f":"Steuerung!$G$9*(Steuerung!$G$10+Steuerung!$G$11)","v":79949.238750000004},0,{"$f":"IF(H95>0,(H95*Steuerung!$G$10*C96)/360,0)","v":0},0,0]
[null,{"$f":"IF(Steuerung!$H$13=1,DATE(Steuerung!$D$11+92,Steuerung!$C$11,Steuerung!$B$11),IF(Steuerung!$H$13=2,DATE(Steuerung!$D$11,Steuerung!$C$11+274,Steuerung!$B$11),DATE(Steuerung!$D$11,Steuerung!$C$11+92,Steuerung!$B$11)))","v":"2098-07-12"},{"$f":"IF(Steuerung!$H$13=1,360,IF(Steuerung!$H$13=2,90,30))","v":360},{"$f":"Steuerung!$G$9*(Steuerung!$G$10+Steuerung!$G$11)","v":79949.238750000004},0,{"$f":"IF(H96>0,(H96*Steuerung!$G$10*C97)/360,0)","v":0},0,0]
[null,{"$f":"IF(Steuerung!$H$13=1,DATE(Steuerung!$D$11+93,Steuerung!$C$11,Steuerung!$B$11),IF(Steuerung!$H$13=2,DATE(Steuerung!$D$11,Steuerung!$C$11+277,Steuerung!$B$11),DATE(Steuerung!$D$11,Steuerung!$C$11+93,Steuerung!$B$11)))","v":"2099-07-12"},{"$f":"IF(Steuerung!$H$13=1,360,IF(Steuerung!$H$13=2,90,30))","v":360},{"$f":"Steuerung!$G$9*(Steuerung!$G$10+Steuerung!$G$11)","v":79949.238750000004},0,{"$f":"IF(H97>0,(H97*Steuerung!$G$10*C98)/360,0)","v":0},0,0]
[null,{"$f":"IF(Steuerung!$H$13=1,DATE(Steuerung!$D$11+94,Steuerung!$C$11,Steuerung!$B$11),IF(Steuerung!$H$13=2,DATE(Steuerung!$D$11,Steuerung!$C$11+280,Steuerung!$B$11),DATE(Steuerung!$D$11,Steuerung!$C$11+94,Steuerung!$B$11)))","v":"2100-07-12"},{"$f":"IF(Steuerung!$H$13=1,360,IF(Steuerung!$H$13=2,90,30))","v":360},{"$f":"Steuerung!$G$9*(Steuerung!$G$10+Steuerung!$G$11)","v":79949.238750000004},0,{"$f":"IF(H98>0,(H98*Steuerung!$G$10*C99)/360,0)","v":0},0,0]
[null,{"$f":"IF(Steuerung!$H$13=1,DATE(Steuerung!$D$11+95,Steuerung!$C$11,Steuerung!$B$11),IF(Steuerung!$H$13=2,DATE(Steuerung!$D$11,Steuerung!$C$11+283,Steuerung!$B$11),DATE(Steuerung!$D$11,Steuerung!$C$11+95,Steuerung!$B$11)))","v":"2101-07-12"},{"$f":"IF(Steuerung!$H$13=1,360,IF(Steuerung!$H$13=2,90,30))","v":360},{"$f":"Steuerung!$G$9*(Steuerung!$G$10+Steuerung!$G$11)","v":79949.238750000004},0,{"$f":"IF(H99>0,(H99*Steuerung!$G$10*C100)/360,0)","v":0},0,0]
[null,{"$f":"IF(Steuerung!$H$13=1,DATE(Steuerung!$D$11+96,Steuerung!$C$11,Steuerung!$B$11),IF(Steuerung!$H$13=2,DATE(Steuerung!$D$11,Steuerung!$C$11+286,Steuerung!$B$11),DATE(Steuerung!$D$11,Steuerung!$C$11+96,Steuerung!$B$11)))","v":"2102-07-12"},{"$f":"IF(Steuerung!$H$13=1,360,IF(Steuerung!$H$13=2,90,30))","v":360},{"$f":"Steuerung!$G$9*(Steuerung!$G$10+Steuerung!$G$11)","v":79949.238750000004},0,{"$f":"IF(H100>0,(H100*Steuerung!$G$10*C101)/360,0)","v":0},0,0]
[null,{"$f":"IF(Steuerung!$H$13=1,DATE(Steuerung!$D$11+97,Steuerung!$C$11,Steuerung!$B$11),IF(Steuerung!$H$13=2,DATE(Steuerung!$D$11,Steuerung!$C$11+289,Steuerung!$B$11),DATE(Steuerung!$D$11,Steuerung!$C$11+97,Steuerung!$B$11)))","v":"2103-07-12"},{"$f":"IF(Steuerung!$H$13=1,360,IF(Steuerung!$H$13=2,90,30))","v":360},{"$f":"Steuerung!$G$9*(Steuerung!$G$10+Steuerung!$G$11)","v":79949.238750000004},0,{"$f":"IF(H101>0,(H101*Steuerung!$G$10*C102)/360,0)","v":0},0,0]
[null,{"$f":"IF(Steuerung!$H$13=1,DATE(Steuerung!$D$11+98,Steuerung!$C$11,Steuerung!$B$11),IF(Steuerung!$H$13=2,DATE(Steuerung!$D$11,Steuerung!$C$11+292,Steuerung!$B$11),DATE(Steuerung!$D$11,Steuerung!$C$11+98,Steuerung!$B$11)))","v":"2104-07-12"},{"$f":"IF(Steuerung!$H$13=1,360,IF(Steuerung!$H$13=2,90,30))","v":360},{"$f":"Steuerung!$G$9*(Steuerung!$G$10+Steuerung!$G$11)","v":79949.238750000004},0,{"$f":"IF(H102>0,(H102*Steuerung!$G$10*C103)/360,0)","v":0},0,0]
[null,{"$f":"IF(Steuerung!$H$13=1,DATE(Steuerung!$D$11+99,Steuerung!$C$11,Steuerung!$B$11),IF(Steuerung!$H$13=2,DATE(Steuerung!$D$11,Steuerung!$C$11+295,Steuerung!$B$11),DATE(Steuerung!$D$11,Steuerung!$C$11+99,Steuerung!$B$11)))","v":"2105-07-12"},{"$f":"IF(Steuerung!$H$13=1,360,IF(Steuerung!$H$13=2,90,30))","v":360},{"$f":"Steuerung!$G$9*(Steuerung!$G$10+Steuerung!$G$11)","v":79949.238750000004},0,{"$f":"IF(H103>0,(H103*Steuerung!$G$10*C104)/360,0)","v":0},0,0]
[null,{"$f":"IF(Steuerung!$H$13=1,DATE(Steuerung!$D$11+100,Steuerung!$C$11,Steuerung!$B$11),IF(Steuerung!$H$13=2,DATE(Steuerung!$D$11,Steuerung!$C$11+298,Steuerung!$B$11),DATE(Steuerung!$D$11,Steuerung!$C$11+100,Steuerung!$B$11)))","v":"2106-07-12"},{"$f":"IF(Steuerung!$H$13=1,360,IF(Steuerung!$H$13=2,90,30))","v":360},{"$f":"Steuerung!$G$9*(Steuerung!$G$10+Steuerung!$G$11)","v":79949.238750000004},0,{"$f":"IF(H104>0,(H104*Steuerung!$G$10*C105)/360,0)","v":0},0,0]
[null,"Summen",null,null,{"$f":"SUM(E5:E105)","v":381529.95402187895},{"$f":"SUM(F5:F105)","v":26200.004021878915},{"$f":"SUM(G5:G105)","v":355329.95}]

{"sheet":"Abzahlungsdarlehen","index":2,"n_rows":106,"n_cols":8,"rows_kept":106,"cut":false,"hidden":false,"merged":[[1,6,1,7],[105,1,105,2],[2,6,3,6],[2,7,3,7],[2,1,3,1],[2,2,3,2],[2,4,3,4],[2,5,3,5]]}
[]
[null,"Summe der gezahlten Zinsen",null,null,null,{"$f":"SUM(F5:F105)","v":26649.746250000007},"Abzahlungsdarlehen"]
[null,"Abrechnungs- datum","Zinsstage",null,"Kapitaldienst","Zinsen","Tilgung","Restschuld"]
[]
[null,{"$f":"IF(Steuerung!$H$13=1,DATE(Steuerung!$D$11+0,Steuerung!$C$11,Steuerung!$B$11),IF(Steuerung!$H$13=2,DATE(Steuerung!$D$11,Steuerung!$C$11+0,Steuerung!$B$11),DATE(Steuerung!$D$11,Steuerung!$C$11+0,Steuerung!$B$11)))","v":"2006-07-12"},{"$f":"IF(Steuerung!$H$13=1,360,IF(Steuerung!$H$13=2,90,30))","v":360},0,{"$f":"F5+G5","v":0},0,0,{"$f":"Steuerung!G9","v":355329.95}]
[null,{"$f":"IF(Steuerung!$H$13=1,DATE(Steuerung!$D$11+1,Steuerung!$C$11,Steuerung!$B$11),IF(Steuerung!$H$13=2,DATE(Steuerung!$D$11,Steuerung!$C$11+3,Steuerung!$B$11),DATE(Steuerung!$D$11,Steuerung!$C$11+1,Steuerung!$B$11)))","v":"2007-07-12"},{"$f":"IF(Steuerung!$H$13=1,360,IF(Steuerung!$H$13=2,90,30))","v":360},{"$f":"(H5*Steuerung!$G$11)+F6","v":79949.238750000004},{"$f":"F6+G6","v":79949.238750000004},{"$f":"IF(H5>0,(H5*Steuerung!$G$10*C6)/360,0)","v":8883.2487500000007},{"$f":"IF((H5+F6)>D6,Steuerung!$G$9*Steuerung!$G$11,H5)","v":71065.990000000005},{"$f":"IF((H5-G6)>0,(H5-G6),0)","v":284263.96000000002}]
[null,{"$f":"IF(Steuerung!$H$13=1,DATE(Steuerung!$D$11+2,Steuerung!$C$11,Steuerung!$B$11),IF(Steuerung!$H$13=2,DATE(Steuerung!$D$11,Steuerung!$C$11+6,Steuerung!$B$11),DATE(Steuerung!$D$11,Steuerung!$C$11+2,Steuerung!$B$11)))","v":"2008-07-12"},{"$f":"IF(Steuerung!$H$13=1,360,IF(Steuerung!$H$13=2,90,30))","v":360},{"$f":"(H6*Steuerung!$G$11)+F7","v":63959.391000000011},78172.589000000007,{"$f":"IF(H6>0,(H6*Steuerung!$G$10*C7)/360,0)","v":7106.599000000002},{"$f":"IF((H6+F7)>D7,Steuerung!$G$9*Steuerung!$G$11,H6)","v":71065.990000000005},213197.97000000003]
[null,{"$f":"IF(Steuerung!$H$13=1,DATE(Steuerung!$D$11+3,Steuerung!$C$11,Steuerung!$B$11),IF(Steuerung!$H$13=2,DATE(Steuerung!$D$11,Steuerung!$C$11+9,Steuerung!$B$11),DATE(Steuerung!$D$11,Steuerung!$C$11+3,Steuerung!$B$11)))","v":"2009-07-12"},{"$f":"IF(Steuerung!$H$13=1,360,IF(Steuerung!$H$13=2,90,30))","v":360},{"$f":"(H7*Steuerung!$G$11)+F8","v":47969.543250000017},76395.93925000001,{"$f":"IF(H7>0,(H7*Steuerung!$G$10*C8)/360,0)","v":5329.9492500000015},{"$f":"IF((H7+F8)>D8,Steuerung!$G$9*Steuerung!$G$11,H7)","v":71065.990000000005},142131.98000000004]
[null,{"$f":"IF(Steuerung!$H$13=1,DATE(Steuerung!$D$11+4,Steuerung!$C$11,Steuerung!$B$11),IF(Steuerung!$H$13=2,DATE(Steuerung!$D$11,Steuerung!$C$11+12,Steuerung!$B$11),DATE(Steuerung!$D$11,Steuerung!$C$11+4,Steuerung!$B$11)))","v":"2010-07-12"},{"$f":"IF(Steuerung!$H$13=1,360,IF(Steuerung!$H$13=2,90,30))","v":360},{"$f":"(H8*Steuerung!$G$11)+F9","v":31979.695500000009},74619.289500000014,{"$f":"IF(H8>0,(H8*Steuerung!$G$10*C9)/360,0)","v":3553.299500000001},{"$f":"IF((H8+F9)>D9,Steuerung!$G$9*Steuerung!$G$11,H8)","v":71065.990000000005},71065.990000000034]
[null,{"$f":"IF(Steuerung!$H$13=1,DATE(Steuerung!$D$11+5,Steuerung!$C$11,Steuerung!$B$11),IF(Steuerung!$H$13=2,DATE(Steuerung!$D$11,Steuerung!$C$11+15,Steuerung!$B$11),DATE(Steuerung!$D$11,Steuerung!$C$11+5,Steuerung!$B$11)))","v":"2011-07-12"},{"$f":"IF(Steuerung!$H$13=1,360,IF(Steuerung!$H$13=2,90,30))","v":360},{"$f":"(H9*Steuerung!$G$11)+F10","v":15989.847750000008},72842.639750000002,{"$f":"IF(H9>0,(H9*Steuerung!$G$10*C10)/360,0)","v":1776.6497500000009},{"$f":"IF((H9+F10)>D10,Steuerung!$G$9*Steuerung!$G$11,H9)","v":71065.990000000005},2.9103830456733704E-11]
[null,{"$f":"IF(Steuerung!$H$13=1,DATE(Steuerung!$D$11+6,Steuerung!$C$11,Steuerung!$B$11),IF(Steuerung!$H$13=2,DATE(Steuerung!$D$11,Steuerung!$C$11+18,Steuerung!$B$11),DATE(Steuerung!$D$11,Steuerung!$C$11+6,Steuerung!$B$11)))","v":"2012-07-12"},{"$f":"IF(Steuerung!$H$13=1,360,IF(Steuerung!$H$13=2,90,30))","v":360},{"$f":"(H10*Steuerung!$G$11)+F11","v":6.5483618527650835E-12},71065.990000000005,{"$f":"IF(H10>0,(H10*Steuerung!$G$10*C11)/360,0)","v":7.2759576141834263E-13},{"$f":"IF((H10+F11)>D11,Steuerung!$G$9*Steuerung!$G$11,H10)","v":71065.990000000005},0]
[null,{"$f":"IF(Steuerung!$H$13=1,DATE(Steuerung!$D$11+7,Steuerung!$C$11,Steuerung!$B$11),IF(Steuerung!$H$13=2,DATE(Steuerung!$D$11,Steuerung!$C$11+21,Steuerung!$B$11),DATE(Steuerung!$D$11,Steuerung!$C$11+7,Steuerung!$B$11)))","v":"2013-07-12"},{"$f":"IF(Steuerung!$H$13=1,360,IF(Steuerung!$H$13=2,90,30))","v":360},{"$f":"(H11*Steuerung!$G$11)+F12","v":0},0,{"$f":"IF(H11>0,(H11*Steuerung!$G$10*C12)/360,0)","v":0},{"$f":"IF((H11+F12)>D12,Steuerung!$G$9*Steuerung!$G$11,H11)","v":0},0]
[null,{"$f":"IF(Steuerung!$H$13=1,DATE(Steuerung!$D$11+8,Steuerung!$C$11,Steuerung!$B$11),IF(Steuerung!$H$13=2,DATE(Steuerung!$D$11,Steuerung!$C$11+24,Steuerung!$B$11),DATE(Steuerung!$D$11,Steuerung!$C$11+8,Steuerung!$B$11)))","v":"2014-07-12"},{"$f":"IF(Steuerung!$H$13=1,360,IF(Steuerung!$H$13=2,90,30))","v":360},{"$f":"(H12*Steuerung!$G$11)+F13","v":0},0,{"$f":"IF(H12>0,(H12*Steuerung!$G$10*C13)/360,0)","v":0},{"$f":"IF((H12+F13)>D13,Steuerung!$G$9*Steuerung!$G$11,H12)","v":0},0]
[null,{"$f":"IF(Steuerung!$H$13=1,DATE(Steuerung!$D$11+9,Steuerung!$C$11,Steuerung!$B$11),IF(Steuerung!$H$13=2,DATE(Steuerung!$D$11,Steuerung!$C$11+27,Steuerung!$B$11),DATE(Steuerung!$D$11,Steuerung!$C$11+9,Steuerung!$B$11)))","v":"2015-07-12"},{"$f":"IF(Steuerung!$H$13=1,360,IF(Steuerung!$H$13=2,90,30))","v":360},{"$f":"(H13*Steuerung!$G$11)+F14","v":0},0,{"$f":"IF(H13>0,(H13*Steuerung!$G$10*C14)/360,0)","v":0},{"$f":"IF((H13+F14)>D14,Steuerung!$G$9*Steuerung!$G$11,H13)","v":0},0]
[null,{"$f":"IF(Steuerung!$H$13=1,DATE(Steuerung!$D$11+10,Steuerung!$C$11,Steuerung!$B$11),IF(Steuerung!$H$13=2,DATE(Steuerung!$D$11,Steuerung!$C$11+30,Steuerung!$B$11),DATE(Steuerung!$D$11,Steuerung!$C$11+10,Steuerung!$B$11)))","v":"2016-07-12"},{"$f":"IF(Steuerung!$H$13=1,360,IF(Steuerung!$H$13=2,90,30))","v":360},{"$f":"(H14*Steuerung!$G$11)+F15","v":0},0,{"$f":"IF(H14>0,(H14*Steuerung!$G$10*C15)/360,0)","v":0},{"$f":"IF((H14+F15)>D15,Steuerung!$G$9*Steuerung!$G$11,H14)","v":0},0]
[null,{"$f":"IF(Steuerung!$H$13=1,DATE(Steuerung!$D$11+11,Steuerung!$C$11,Steuerung!$B$11),IF(Steuerung!$H$13=2,DATE(Steuerung!$D$11,Steuerung!$C$11+33,Steuerung!$B$11),DATE(Steuerung!$D$11,Steuerung!$C$11+11,Steuerung!$B$11)))","v":"2017-07-12"},{"$f":"IF(Steuerung!$H$13=1,360,IF(Steuerung!$H$13=2,90,30))","v":360},{"$f":"(H15*Steuerung!$G$11)+F16","v":0},0,{"$f":"IF(H15>0,(H15*Steuerung!$G$10*C16)/360,0)","v":0},{"$f":"IF((H15+F16)>D16,Steuerung!$G$9*Steuerung!$G$11,H15)","v":0},0]
[null,{"$f":"IF(Steuerung!$H$13=1,DATE(Steuerung!$D$11+12,Steuerung!$C$11,Steuerung!$B$11),IF(Steuerung!$H$13=2,DATE(Steuerung!$D$11,Steuerung!$C$11+36,Steuerung!$B$11),DATE(Steuerung!$D$11,Steuerung!$C$11+12,Steuerung!$B$11)))","v":"2018-07-12"},{"$f":"IF(Steuerung!$H$13=1,360,IF(Steuerung!$H$13=2,90,30))","v":360},{"$f":"(H16*Steuerung!$G$11)+F17","v":0},0,{"$f":"IF(H16>0,(H16*Steuerung!$G$10*C17)/360,0)","v":0},{"$f":"IF((H16+F17)>D17,Steuerung!$G$9*Steuerung!$G$11,H16)","v":0},0]
[null,{"$f":"IF(Steuerung!$H$13=1,DATE(Steuerung!$D$11+13,Steuerung!$C$11,Steuerung!$B$11),IF(Steuerung!$H$13=2,DATE(Steuerung!$D$11,Steuerung!$C$11+39,Steuerung!$B$11),DATE(Steuerung!$D$11,Steuerung!$C$11+13,Steuerung!$B$11)))","v":"2019-07-12"},{"$f":"IF(Steuerung!$H$13=1,360,IF(Steuerung!$H$13=2,90,30))","v":360},{"$f":"(H17*Steuerung!$G$11)+F18","v":0},0,{"$f":"IF(H17>0,(H17*Steuerung!$G$10*C18)/360,0)","v":0},{"$f":"IF((H17+F18)>D18,Steuerung!$G$9*Steuerung!$G$11,H17)","v":0},0]
[null,{"$f":"IF(Steuerung!$H$13=1,DATE(Steuerung!$D$11+14,Steuerung!$C$11,Steuerung!$B$11),IF(Steuerung!$H$13=2,DATE(Steuerung!$D$11,Steuerung!$C$11+42,Steuerung!$B$11),DATE(Steuerung!$D$11,Steuerung!$C$11+14,Steuerung!$B$11)))","v":"2020-07-12"},{"$f":"IF(Steuerung!$H$13=1,360,IF(Steuerung!$H$13=2,90,30))","v":360},{"$f":"(H18*Steuerung!$G$11)+F19","v":0},0,{"$f":"IF(H18>0,(H18*Steuerung!$G$10*C19)/360,0)","v":0},{"$f":"IF((H18+F19)>D19,Steuerung!$G$9*Steuerung!$G$11,H18)","v":0},0]
[null,{"$f":"IF(Steuerung!$H$13=1,DATE(Steuerung!$D$11+15,Steuerung!$C$11,Steuerung!$B$11),IF(Steuerung!$H$13=2,DATE(Steuerung!$D$11,Steuerung!$C$11+45,Steuerung!$B$11),DATE(Steuerung!$D$11,Steuerung!$C$11+15,Steuerung!$B$11)))","v":"2021-07-12"},{"$f":"IF(Steuerung!$H$13=1,360,IF(Steuerung!$H$13=2,90,30))","v":360},{"$f":"(H19*Steuerung!$G$11)+F20","v":0},0,{"$f":"IF(H19>0,(H19*Steuerung!$G$10*C20)/360,0)","v":0},{"$f":"IF((H19+F20)>D20,Steuerung!$G$9*Steuerung!$G$11,H19)","v":0},0]
[null,{"$f":"IF(Steuerung!$H$13=1,DATE(Steuerung!$D$11+16,Steuerung!$C$11,Steuerung!$B$11),IF(Steuerung!$H$13=2,DATE(Steuerung!$D$11,Steuerung!$C$11+48,Steuerung!$B$11),DATE(Steuerung!$D$11,Steuerung!$C$11+16,Steuerung!$B$11)))","v":"2022-07-12"},{"$f":"IF(Steuerung!$H$13=1,360,IF(Steuerung!$H$13=2,90,30))","v":360},{"$f":"(H20*Steuerung!$G$11)+F21","v":0},0,{"$f":"IF(H20>0,(H20*Steuerung!$G$10*C21)/360,0)","v":0},{"$f":"IF((H20+F21)>D21,Steuerung!$G$9*Steuerung!$G$11,H20)","v":0},0]
[null,{"$f":"IF(Steuerung!$H$13=1,DATE(Steuerung!$D$11+17,Steuerung!$C$11,Steuerung!$B$11),IF(Steuerung!$H$13=2,DATE(Steuerung!$D$11,Steuerung!$C$11+49,Steuerung!$B$11),DATE(Steuerung!$D$11,Steuerung!$C$11+17,Steuerung!$B$11)))","v":"2023-07-12"},{"$f":"IF(Steuerung!$H$13=1,360,IF(Steuerung!$H$13=2,90,30))","v":360},{"$f":"(H21*Steuerung!$G$11)+F22","v":0},0,{"$f":"IF(H21>0,(H21*Steuerung!$G$10*C22)/360,0)","v":0},{"$f":"IF((H21+F22)>D22,Steuerung!$G$9*Steuerung!$G$11,H21)","v":0},0]
[null,{"$f":"IF(Steuerung!$H$13=1,DATE(Steuerung!$D$11+18,Steuerung!$C$11,Steuerung!$B$11),IF(Steuerung!$H$13=2,DATE(Steuerung!$D$11,Steuerung!$C$11+52,Steuerung!$B$11),DATE(Steuerung!$D$11,Steuerung!$C$11+18,Steuerung!$B$11)))","v":"2024-07-12"},{"$f":"IF(Steuerung!$H$13=1,360,IF(Steuerung!$H$13=2,90,30))","v":360},{"$f":"(H22*Steuerung!$G$11)+F23","v":0},0,{"$f":"IF(H22>0,(H22*Steuerung!$G$10*C23)/360,0)","v":0},{"$f":"IF((H22+F23)>D23,Steuerung!$G$9*Steuerung!$G$11,H22)","v":0},0]
[null,{"$f":"IF(Steuerung!$H$13=1,DATE(Steuerung!$D$11+19,Steuerung!$C$11,Steuerung!$B$11),IF(Steuerung!$H$13=2,DATE(Steuerung!$D$11,Steuerung!$C$11+55,Steuerung!$B$11),DATE(Steuerung!$D$11,Steuerung!$C$11+19,Steuerung!$B$11)))","v":"2025-07-12"},{"$f":"IF(Steuerung!$H$13=1,360,IF(Steuerung!$H$13=2,90,30))","v":360},{"$f":"(H23*Steuerung!$G$11)+F24","v":0},0,{"$f":"IF(H23>0,(H23*Steuerung!$G$10*C24)/360,0)","v":0},{"$f":"IF((H23+F24)>D24,Steuerung!$G$9*Steuerung!$G$11,H23)","v":0},{"$f":"IF((H23-G24)>0,(H23-G24),0)","v":0}]
[null,{"$f":"IF(Steuerung!$H$13=1,DATE(Steuerung!$D$11+20,Steuerung!$C$11,Steuerung!$B$11),IF(Steuerung!$H$13=2,DATE(Steuerung!$D$11,Steuerung!$C$11+58,Steuerung!$B$11),DATE(Steuerung!$D$11,Steuerung!$C$11+20,Steuerung!$B$11)))","v":"2026-07-12"},{"$f":"IF(Steuerung!$H$13=1,360,IF(Steuerung!$H$13=2,90,30))","v":360},{"$f":"(H24*Steuerung!$G$11)+F25","v":0},0,{"$f":"IF(H24>0,(H24*Steuerung!$G$10*C25)/360,0)","v":0},{"$f":"IF((H24+F25)>D25,Steuerung!$G$9*Steuerung!$G$11,H24)","v":0},{"$f":"IF((H24-G25)>0,(H24-G25),0)","v":0}]
[null,{"$f":"IF(Steuerung!$H$13=1,DATE(Steuerung!$D$11+21,Steuerung!$C$11,Steuerung!$B$11),IF(Steuerung!$H$13=2,DATE(Steuerung!$D$11,Steuerung!$C$11+61,Steuerung!$B$11),DATE(Steuerung!$D$11,Steuerung!$C$11+21,Steuerung!$B$11)))","v":"2027-07-12"},{"$f":"IF(Steuerung!$H$13=1,360,IF(Steuerung!$H$13=2,90,30))","v":360},{"$f":"(H25*Steuerung!$G$11)+F26","v":0},0,{"$f":"IF(H25>0,(H25*Steuerung!$G$10*C26)/360,0)","v":0},{"$f":"IF((H25+F26)>D26,Steuerung!$G$9*Steuerung!$G$11,H25)","v":0},0]
[null,{"$f":"IF(Steuerung!$H$13=1,DATE(Steuerung!$D$11+22,Steuerung!$C$11,Steuerung!$B$11),IF(Steuerung!$H$13=2,DATE(Steuerung!$D$11,Steuerung!$C$11+64,Steuerung!$B$11),DATE(Steuerung!$D$11,Steuerung!$C$11+22,Steuerung!$B$11)))","v":"2028-07-12"},{"$f":"IF(Steuerung!$H$13=1,360,IF(Steuerung!$H$13=2,90,30))","v":360},{"$f":"(H26*Steuerung!$G$11)+F27","v":0},0,{"$f":"IF(H26>0,(H26*Steuerung!$G$10*C27)/360,0)","v":0},{"$f":"IF((H26+F27)>D27,Steuerung!$G$9*Steuerung!$G$11,H26)","v":0},0]
[null,{"$f":"IF(Steuerung!$H$13=1,DATE(Steuerung!$D$11+23,Steuerung!$C$11,Steuerung!$B$11),IF(Steuerung!$H$13=2,DATE(Steuerung!$D$11,Steuerung!$C$11+67,Steuerung!$B$11),DATE(Steuerung!$D$11,Steuerung!$C$11+23,Steuerung!$B$11)))","v":"2029-07-12"},{"$f":"IF(Steuerung!$H$13=1,360,IF(Steuerung!$H$13=2,90,30))","v":360},{"$f":"(H27*Steuerung!$G$11)+F28","v":0},0,{"$f":"IF(H27>0,(H27*Steuerung!$G$10*C28)/360,0)","v":0},{"$f":"IF((H27+F28)>D28,Steuerung!$G$9*Steuerung!$G$11,H27)","v":0},0]
[null,{"$f":"IF(Steuerung!$H$13=1,DATE(Steuerung!$D$11+24,Steuerung!$C$11,Steuerung!$B$11),IF(Steuerung!$H$13=2,DATE(Steuerung!$D$11,Steuerung!$C$11+70,Steuerung!$B$11),DATE(Steuerung!$D$11,Steuerung!$C$11+24,Steuerung!$B$11)))","v":"2030-07-12"},{"$f":"IF(Steuerung!$H$13=1,360,IF(Steuerung!$H$13=2,90,30))","v":360},{"$f":"(H28*Steuerung!$G$11)+F29","v":0},0,{"$f":"IF(H28>0,(H28*Steuerung!$G$10*C29)/360,0)","v":0},{"$f":"IF((H28+F29)>D29,Steuerung!$G$9*Steuerung!$G$11,H28)","v":0},0]
[null,{"$f":"IF(Steuerung!$H$13=1,DATE(Steuerung!$D$11+25,Steuerung!$C$11,Steuerung!$B$11),IF(Steuerung!$H$13=2,DATE(Steuerung!$D$11,Steuerung!$C$11+73,Steuerung!$B$11),DATE(Steuerung!$D$11,Steuerung!$C$11+25,Steuerung!$B$11)))","v":"2031-07-12"},{"$f":"IF(Steuerung!$H$13=1,360,IF(Steuerung!$H$13=2,90,30))","v":360},{"$f":"(H29*Steuerung!$G$11)+F30","v":0},0,{"$f":"IF(H29>0,(H29*Steuerung!$G$10*C30)/360,0)","v":0},{"$f":"IF((H29+F30)>D30,Steuerung!$G$9*Steuerung!$G$11,H29)","v":0},0]
[null,{"$f":"IF(Steuerung!$H$13=1,DATE(Steuerung!$D$11+26,Steuerung!$C$11,Steuerung!$B$11),IF(Steuerung!$H$13=2,DATE(Steuerung!$D$11,Steuerung!$C$11+76,Steuerung!$B$11),DATE(Steuerung!$D$11,Steuerung!$C$11+26,Steuerung!$B$11)))","v":"2032-07-12"},{"$f":"IF(Steuerung!$H$13=1,360,IF(Steuerung!$H$13=2,90,30))","v":360},{"$f":"(H30*Steuerung!$G$11)+F31","v":0},0,{"$f":"IF(H30>0,(H30*Steuerung!$G$10*C31)/360,0)","v":0},{"$f":"IF((H30+F31)>D31,Steuerung!$G$9*Steuerung!$G$11,H30)","v":0},0]
[null,{"$f":"IF(Steuerung!$H$13=1,DATE(Steuerung!$D$11+27,Steuerung!$C$11,Steuerung!$B$11),IF(Steuerung!$H$13=2,DATE(Steuerung!$D$11,Steuerung!$C$11+79,Steuerung!$B$11),DATE(Steuerung!$D$11,Steuerung!$C$11+27,Steuerung!$B$11)))","v":"2033-07-12"},{"$f":"IF(Steuerung!$H$13=1,360,IF(Steuerung!$H$13=2,90,30))","v":360},{"$f":"(H31*Steuerung!$G$11)+F32","v":0},0,{"$f":"IF(H31>0,(H31*Steuerung!$G$10*C32)/360,0)","v":0},{"$f":"IF((H31+F32)>D32,Steuerung!$G$9*Steuerung!$G$11,H31)","v":0},0]
[null,{"$f":"IF(Steuerung!$H$13=1,DATE(Steuerung!$D$11+28,Steuerung!$C$11,Steuerung!$B$11),IF(Steuerung!$H$13=2,DATE(Steuerung!$D$11,Steuerung!$C$11+82,Steuerung!$B$11),DATE(Steuerung!$D$11,Steuerung!$C$11+28,Steuerung!$B$11)))","v":"2034-07-12"},{"$f":"IF(Steuerung!$H$13=1,360,IF(Steuerung!$H$13=2,90,30))","v":360},{"$f":"(H32*Steuerung!$G$11)+F33","v":0},0,{"$f":"IF(H32>0,(H32*Steuerung!$G$10*C33)/360,0)","v":0},{"$f":"IF((H32+F33)>D33,Steuerung!$G$9*Steuerung!$G$11,H32)","v":0},0]
[null,{"$f":"IF(Steuerung!$H$13=1,DATE(Steuerung!$D$11+29,Steuerung!$C$11,Steuerung!$B$11),IF(Steuerung!$H$13=2,DATE(Steuerung!$D$11,Steuerung!$C$11+85,Steuerung!$B$11),DATE(Steuerung!$D$11,Steuerung!$C$11+29,Steuerung!$B$11)))","v":"2035-07-12"},{"$f":"IF(Steuerung!$H$13=1,360,IF(Steuerung!$H$13=2,90,30))","v":360},{"$f":"(H33*Steuerung!$G$11)+F34","v":0},0,{"$f":"IF(H33>0,(H33*Steuerung!$G$10*C34)/360,0)","v":0},{"$f":"IF((H33+F34)>D34,Steuerung!$G$9*Steuerung!$G$11,H33)","v":0},0]
[null,{"$f":"IF(Steuerung!$H$13=1,DATE(Steuerung!$D$11+30,Steuerung!$C$11,Steuerung!$B$11),IF(Steuerung!$H$13=2,DATE(Steuerung!$D$11,Steuerung!$C$11+88,Steuerung!$B$11),DATE(Steuerung!$D$11,Steuerung!$C$11+30,Steuerung!$B$11)))","v":"2036-07-12"},{"$f":"IF(Steuerung!$H$13=1,360,IF(Steuerung!$H$13=2,90,30))","v":360},{"$f":"(H34*Steuerung!$G$11)+F35","v":0},0,{"$f":"IF(H34>0,(H34*Steuerung!$G$10*C35)/360,0)","v":0},{"$f":"IF((H34+F35)>D35,Steuerung!$G$9*Steuerung!$G$11,H34)","v":0},0]
[null,{"$f":"IF(Steuerung!$H$13=1,DATE(Steuerung!$D$11+31,Steuerung!$C$11,Steuerung!$B$11),IF(Steuerung!$H$13=2,DATE(Steuerung!$D$11,Steuerung!$C$11+91,Steuerung!$B$11),DATE(Steuerung!$D$11,Steuerung!$C$11+31,Steuerung!$B$11)))","v":"2037-07-12"},{"$f":"IF(Steuerung!$H$13=1,360,IF(Steuerung!$H$13=2,90,30))","v":360},{"$f":"(H35*Steuerung!$G$11)+F36","v":0},0,{"$f":"IF(H35>0,(H35*Steuerung!$G$10*C36)/360,0)","v":0},{"$f":"IF((H35+F36)>D36,Steuerung!$G$9*Steuerung!$G$11,H35)","v":0},0]
[null,{"$f":"IF(Steuerung!$H$13=1,DATE(Steuerung!$D$11+32,Steuerung!$C$11,Steuerung!$B$11),IF(Steuerung!$H$13=2,DATE(Steuerung!$D$11,Steuerung!$C$11+94,Steuerung!$B$11),DATE(Steuerung!$D$11,Steuerung!$C$11+32,Steuerung!$B$11)))","v":"2038-07-12"},{"$f":"IF(Steuerung!$H$13=1,360,IF(Steuerung!$H$13=2,90,30))","v":360},{"$f":"(H36*Steuerung!$G$11)+F37","v":0},0,{"$f":"IF(H36>0,(H36*Steuerung!$G$10*C37)/360,0)","v":0},{"$f":"IF((H36+F37)>D37,Steuerung!$G$9*Steuerung!$G$11,H36)","v":0},0]
[null,{"$f":"IF(Steuerung!$H$13=1,DATE(Steuerung!$D$11+33,Steuerung!$C$11,Steuerung!$B$11),IF(Steuerung!$H$13=2,DATE(Steuerung!$D$11,Steuerung!$C$11+97,Steuerung!$B$11),DATE(Steuerung!$D$11,Steuerung!$C$11+33,Steuerung!$B$11)))","v":"2039-07-12"},{"$f":"IF(Steuerung!$H$13=1,360,IF(Steuerung!$H$13=2,90,30))","v":360},{"$f":"(H37*Steuerung!$G$11)+F38","v":0},0,{"$f":"IF(H37>0,(H37*Steuerung!$G$10*C38)/360,0)","v":0},{"$f":"IF((H37+F38)>D38,Steuerung!$G$9*Steuerung!$G$11,H37)","v":0},0]
[null,{"$f":"IF(Steuerung!$H$13=1,DATE(Steuerung!$D$11+34,Steuerung!$C$11,Steuerung!$B$11),IF(Steuerung!$H$13=2,DATE(Steuerung!$D$11,Steuerung!$C$11+100,Steuerung!$B$11),DATE(Steuerung!$D$11,Steuerung!$C$11+34,Steuerung!$B$11)))","v":"2040-07-12"},{"$f":"IF(Steuerung!$H$13=1,360,IF(Steuerung!$H$13=2,90,30))","v":360},{"$f":"(H38*Steuerung!$G$11)+F39","v":0},0,{"$f":"IF(H38>0,(H38*Steuerung!$G$10*C39)/360,0)","v":0},{"$f":"IF((H38+F39)>D39,Steuerung!$G$9*Steuerung!$G$11,H38)","v":0},0]
[null,{"$f":"IF(Steuerung!$H$13=1,DATE(Steuerung!$D$11+35,Steuerung!$C$11,Steuerung!$B$11),IF(Steuerung!$H$13=2,DATE(Steuerung!$D$11,Steuerung!$C$11+103,Steuerung!$B$11),DATE(Steuerung!$D$11,Steuerung!$C$11+35,Steuerung!$B$11)))","v":"2041-07-12"},{"$f":"IF(Steuerung!$H$13=1,360,IF(Steuerung!$H$13=2,90,30))","v":360},{"$f":"(H39*Steuerung!$G$11)+F40","v":0},0,{"$f":"IF(H39>0,(H39*Steuerung!$G$10*C40)/360,0)","v":0},{"$f":"IF((H39+F40)>D40,Steuerung!$G$9*Steuerung!$G$11,H39)","v":0},0]
[null,{"$f":"IF(Steuerung!$H$13=1,DATE(Steuerung!$D$11+36,Steuerung!$C$11,Steuerung!$B$11),IF(Steuerung!$H$13=2,DATE(Steuerung!$D$11,Steuerung!$C$11+106,Steuerung!$B$11),DATE(Steuerung!$D$11,Steuerung!$C$11+36,Steuerung!$B$11)))","v":"2042-07-12"},{"$f":"IF(Steuerung!$H$13=1,360,IF(Steuerung!$H$13=2,90,30))","v":360},{"$f":"(H40*Steuerung!$G$11)+F41","v":0},0,{"$f":"IF(H40>0,(H40*Steuerung!$G$10*C41)/360,0)","v":0},{"$f":"IF((H40+F41)>D41,Steuerung!$G$9*Steuerung!$G$11,H40)","v":0},0]
[null,{"$f":"IF(Steuerung!$H$13=1,DATE(Steuerung!$D$11+37,Steuerung!$C$11,Steuerung!$B$11),IF(Steuerung!$H$13=2,DATE(Steuerung!$D$11,Steuerung!$C$11+109,Steuerung!$B$11),DATE(Steuerung!$D$11,Steuerung!$C$11+37,Steuerung!$B$11)))","v":"2043-07-12"},{"$f":"IF(Steuerung!$H$13=1,360,IF(Steuerung!$H$13=2,90,30))","v":360},{"$f":"(H41*Steuerung!$G$11)+F42","v":0},0,{"$f":"IF(H41>0,(H41*Steuerung!$G$10*C42)/360,0)","v":0},{"$f":"IF((H41+F42)>D42,Steuerung!$G$9*Steuerung!$G$11,H41)","v":0},0]
[null,{"$f":"IF(Steuerung!$H$13=1,DATE(Steuerung!$D$11+38,Steuerung!$C$11,Steuerung!$B$11),IF(Steuerung!$H$13=2,DATE(Steuerung!$D$11,Steuerung!$C$11+112,Steuerung!$B$11),DATE(Steuerung!$D$11,Steuerung!$C$11+38,Steuerung!$B$11)))","v":"2044-07-12"},{"$f":"IF(Steuerung!$H$13=1,360,IF(Steuerung!$H$13=2,90,30))","v":360},{"$f":"(H42*Steuerung!$G$11)+F43","v":0},0,{"$f":"IF(H42>0,(H42*Steuerung!$G$10*C43)/360,0)","v":0},{"$f":"IF((H42+F43)>D43,Steuerung!$G$9*Steuerung!$G$11,H42)","v":0},0]
[null,{"$f":"IF(Steuerung!$H$13=1,DATE(Steuerung!$D$11+39,Steuerung!$C$11,Steuerung!$B$11),IF(Steuerung!$H$13=2,DATE(Steuerung!$D$11,Steuerung!$C$11+115,Steuerung!$B$11),DATE(Steuerung!$D$11,Steuerung!$C$11+39,Steuerung!$B$11)))","v":"2045-07-12"},{"$f":"IF(Steuerung!$H$13=1,360,IF(Steuerung!$H$13=2,90,30))","v":360},{"$f":"(H43*Steuerung!$G$11)+F44","v":0},0,{"$f":"IF(H43>0,(H43*Steuerung!$G$10*C44)/360,0)","v":0},{"$f":"IF((H43+F44)>D44,Steuerung!$G$9*Steuerung!$G$11,H43)","v":0},0]
[null,{"$f":"IF(Steuerung!$H$13=1,DATE(Steuerung!$D$11+40,Steuerung!$C$11,Steuerung!$B$11),IF(Steuerung!$H$13=2,DATE(Steuerung!$D$11,Steuerung!$C$11+118,Steuerung!$B$11),DATE(Steuerung!$D$11,Steuerung!$C$11+40,Steuerung!$B$11)))","v":"2046-07-12"},{"$f":"IF(Steuerung!$H$13=1,360,IF(Steuerung!$H$13=2,90,30))","v":360},{"$f":"(H44*Steuerung!$G$11)+F45","v":0},0,{"$f":"IF(H44>0,(H44*Steuerung!$G$10*C45)/360,0)","v":0},{"$f":"IF((H44+F45)>D45,Steuerung!$G$9*Steuerung!$G$11,H44)","v":0},0]
[null,{"$f":"IF(Steuerung!$H$13=1,DATE(Steuerung!$D$11+41,Steuerung!$C$11,Steuerung!$B$11),IF(Steuerung!$H$13=2,DATE(Steuerung!$D$11,Steuerung!$C$11+121,Steuerung!$B$11),DATE(Steuerung!$D$11,Steuerung!$C$11+41,Steuerung!$B$11)))","v":"2047-07-12"},{"$f":"IF(Steuerung!$H$13=1,360,IF(Steuerung!$H$13=2,90,30))","v":360},{"$f":"(H45*Steuerung!$G$11)+F46","v":0},0,{"$f":"IF(H45>0,(H45*Steuerung!$G$10*C46)/360,0)","v":0},{"$f":"IF((H45+F46)>D46,Steuerung!$G$9*Steuerung!$G$11,H45)","v":0},0]
[null,{"$f":"IF(Steuerung!$H$13=1,DATE(Steuerung!$D$11+42,Steuerung!$C$11,Steuerung!$B$11),IF(Steuerung!$H$13=2,DATE(Steuerung!$D$11,Steuerung!$C$11+124,Steuerung!$B$11),DATE(Steuerung!$D$11,Steuerung!$C$11+42,Steuerung!$B$11)))","v":"2048-07-12"},{"$f":"IF(Steuerung!$H$13=1,360,IF(Steuerung!$H$13=2,90,30))","v":360},{"$f":"(H46*Steuerung!$G$11)+F47","v":0},0,{"$f":"IF(H46>0,(H46*Steuerung!$G$10*C47)/360,0)","v":0},{"$f":"IF((H46+F47)>D47,Steuerung!$G$9*Steuerung!$G$11,H46)","v":0},0]
[null,{"$f":"IF(Steuerung!$H$13=1,DATE(Steuerung!$D$11+43,Steuerung!$C$11,Steuerung!$B$11),IF(Steuerung!$H$13=2,DATE(Steuerung!$D$11,Steuerung!$C$11+127,Steuerung!$B$11),DATE(Steuerung!$D$11,Steuerung!$C$11+43,Steuerung!$B$11)))","v":"2049-07-12"},{"$f":"IF(Steuerung!$H$13=1,360,IF(Steuerung!$H$13=2,90,30))","v":360},{"$f":"(H47*Steuerung!$G$11)+F48","v":0},0,{"$f":"IF(H47>0,(H47*Steuerung!$G$10*C48)/360,0)","v":0},{"$f":"IF((H47+F48)>D48,Steuerung!$G$9*Steuerung!$G$11,H47)","v":0},0]
[null,{"$f":"IF(Steuerung!$H$13=1,DATE(Steuerung!$D$11+44,Steuerung!$C$11,Steuerung!$B$11),IF(Steuerung!$H$13=2,DATE(Steuerung!$D$11,Steuerung!$C$11+130,Steuerung!$B$11),DATE(Steuerung!$D$11,Steuerung!$C$11+44,Steuerung!$B$11)))","v":"2050-07-12"},{"$f":"IF(Steuerung!$H$13=1,360,IF(Steuerung!$H$13=2,90,30))","v":360},{"$f":"(H48*Steuerung!$G$11)+F49","v":0},0,{"$f":"IF(H48>0,(H48*Steuerung!$G$10*C49)/360,0)","v":0},{"$f":"IF((H48+F49)>D49,Steuerung!$G$9*Steuerung!$G$11,H48)","v":0},0]
[null,{"$f":"IF(Steuerung!$H$13=1,DATE(Steuerung!$D$11+45,Steuerung!$C$11,Steuerung!$B$11),IF(Steuerung!$H$13=2,DATE(Steuerung!$D$11,Steuerung!$C$11+133,Steuerung!$B$11),DATE(Steuerung!$D$11,Steuerung!$C$11+45,Steuerung!$B$11)))","v":"2051-07-12"},{"$f":"IF(Steuerung!$H$13=1,360,IF(Steuerung!$H$13=2,90,30))","v":360},{"$f":"(H49*Steuerung!$G$11)+F50","v":0},0,{"$f":"IF(H49>0,(H49*Steuerung!$G$10*C50)/360,0)","v":0},{"$f":"IF((H49+F50)>D50,Steuerung!$G$9*Steuerung!$G$11,H49)","v":0},0]
[null,{"$f":"IF(Steuerung!$H$13=1,DATE(Steuerung!$D$11+46,Steuerung!$C$11,Steuerung!$B$11),IF(Steuerung!$H$13=2,DATE(Steuerung!$D$11,Steuerung!$C$11+136,Steuerung!$B$11),DATE(Steuerung!$D$11,Steuerung!$C$11+46,Steuerung!$B$11)))","v":"2052-07-12"},{"$f":"IF(Steuerung!$H$13=1,360,IF(Steuerung!$H$13=2,90,30))","v":360},{"$f":"(H50*Steuerung!$G$11)+F51","v":0},0,{"$f":"IF(H50>0,(H50*Steuerung!$G$10*C51)/360,0)","v":0},{"$f":"IF((H50+F51)>D51,Steuerung!$G$9*Steuerung!$G$11,H50)","v":0},0]
[null,{"$f":"IF(Steuerung!$H$13=1,DATE(Steuerung!$D$11+47,Steuerung!$C$11,Steuerung!$B$11),IF(Steuerung!$H$13=2,DATE(Steuerung!$D$11,Steuerung!$C$11+139,Steuerung!$B$11),DATE(Steuerung!$D$11,Steuerung!$C$11+47,Steuerung!$B$11)))","v":"2053-07-12"},{"$f":"IF(Steuerung!$H$13=1,360,IF(Steuerung!$H$13=2,90,30))","v":360},{"$f":"(H51*Steuerung!$G$11)+F52","v":0},0,{"$f":"IF(H51>0,(H51*Steuerung!$G$10*C52)/360,0)","v":0},{"$f":"IF((H51+F52)>D52,Steuerung!$G$9*Steuerung!$G$11,H51)","v":0},0]
[null,{"$f":"IF(Steuerung!$H$13=1,DATE(Steuerung!$D$11+48,Steuerung!$C$11,Steuerung!$B$11),IF(Steuerung!$H$13=2,DATE(Steuerung!$D$11,Steuerung!$C$11+142,Steuerung!$B$11),DATE(Steuerung!$D$11,Steuerung!$C$11+48,Steuerung!$B$11)))","v":"2054-07-12"},{"$f":"IF(Steuerung!$H$13=1,360,IF(Steuerung!$H$13=2,90,30))","v":360},{"$f":"(H52*Steuerung!$G$11)+F53","v":0},0,{"$f":"IF(H52>0,(H52*Steuerung!$G$10*C53)/360,0)","v":0},{"$f":"IF((H52+F53)>D53,Steuerung!$G$9*Steuerung!$G$11,H52)","v":0},0]
[null,{"$f":"IF(Steuerung!$H$13=1,DATE(Steuerung!$D$11+49,Steuerung!$C$11,Steuerung!$B$11),IF(Steuerung!$H$13=2,DATE(Steuerung!$D$11,Steuerung!$C$11+145,Steuerung!$B$11),DATE(Steuerung!$D$11,Steuerung!$C$11+49,Steuerung!$B$11)))","v":"2055-07-12"},{"$f":"IF(Steuerung!$H$13=1,360,IF(Steuerung!$H$13=2,90,30))","v":360},{"$f":"(H53*Steuerung!$G$11)+F54","v":0},0,{"$f":"IF(H53>0,(H53*Steuerung!$G$10*C54)/360,0)","v":0},{"$f":"IF((H53+F54)>D54,Steuerung!$G$9*Steuerung!$G$11,H53)","v":0},0]
[null,{"$f":"IF(Steuerung!$H$13=1,DATE(Steuerung!$D$11+50,Steuerung!$C$11,Steuerung!$B$11),IF(Steuerung!$H$13=2,DATE(Steuerung!$D$11,Steuerung!$C$11+148,Steuerung!$B$11),DATE(Steuerung!$D$11,Steuerung!$C$11+50,Steuerung!$B$11)))","v":"2056-07-12"},{"$f":"IF(Steuerung!$H$13=1,360,IF(Steuerung!$H$13=2,90,30))","v":360},{"$f":"(H54*Steuerung!$G$11)+F55","v":0},0,{"$f":"IF(H54>0,(H54*Steuerung!$G$10*C55)/360,0)","v":0},{"$f":"IF((H54+F55)>D55,Steuerung!$G$9*Steuerung!$G$11,H54)","v":0},0]
[null,{"$f":"IF(Steuerung!$H$13=1,DATE(Steuerung!$D$11+51,Steuerung!$C$11,Steuerung!$B$11),IF(Steuerung!$H$13=2,DATE(Steuerung!$D$11,Steuerung!$C$11+151,Steuerung!$B$11),DATE(Steuerung!$D$11,Steuerung!$C$11+51,Steuerung!$B$11)))","v":"2057-07-12"},{"$f":"IF(Steuerung!$H$13=1,360,IF(Steuerung!$H$13=2,90,30))","v":360},{"$f":"(H55*Steuerung!$G$11)+F56","v":0},0,{"$f":"IF(H55>0,(H55*Steuerung!$G$10*C56)/360,0)","v":0},{"$f":"IF((H55+F56)>D56,Steuerung!$G$9*Steuerung!$G$11,H55)","v":0},0]
[null,{"$f":"IF(Steuerung!$H$13=1,DATE(Steuerung!$D$11+52,Steuerung!$C$11,Steuerung!$B$11),IF(Steuerung!$H$13=2,DATE(Steuerung!$D$11,Steuerung!$C$11+154,Steuerung!$B$11),DATE(Steuerung!$D$11,Steuerung!$C$11+52,Steuerung!$B$11)))","v":"2058-07-12"},{"$f":"IF(Steuerung!$H$13=1,360,IF(Steuerung!$H$13=2,90,30))","v":360},{"$f":"(H56*Steuerung!$G$11)+F57","v":0},0,{"$f":"IF(H56>0,(H56*Steuerung!$G$10*C57)/360,0)","v":0},{"$f":"IF((H56+F57)>D57,Steuerung!$G$9*Steuerung!$G$11,H56)","v":0},0]
[null,{"$f":"IF(Steuerung!$H$13=1,DATE(Steuerung!$D$11+53,Steuerung!$C$11,Steuerung!$B$11),IF(Steuerung!$H$13=2,DATE(Steuerung!$D$11,Steuerung!$C$11+157,Steuerung!$B$11),DATE(Steuerung!$D$11,Steuerung!$C$11+53,Steuerung!$B$11)))","v":"2059-07-12"},{"$f":"IF(Steuerung!$H$13=1,360,IF(Steuerung!$H$13=2,90,30))","v":360},{"$f":"(H57*Steuerung!$G$11)+F58","v":0},0,{"$f":"IF(H57>0,(H57*Steuerung!$G$10*C58)/360,0)","v":0},{"$f":"IF((H57+F58)>D58,Steuerung!$G$9*Steuerung!$G$11,H57)","v":0},0]
[null,{"$f":"IF(Steuerung!$H$13=1,DATE(Steuerung!$D$11+54,Steuerung!$C$11,Steuerung!$B$11),IF(Steuerung!$H$13=2,DATE(Steuerung!$D$11,Steuerung!$C$11+160,Steuerung!$B$11),DATE(Steuerung!$D$11,Steuerung!$C$11+54,Steuerung!$B$11)))","v":"2060-07-12"},{"$f":"IF(Steuerung!$H$13=1,360,IF(Steuerung!$H$13=2,90,30))","v":360},{"$f":"(H58*Steuerung!$G$11)+F59","v":0},0,{"$f":"IF(H58>0,(H58*Steuerung!$G$10*C59)/360,0)","v":0},{"$f":"IF((H58+F59)>D59,Steuerung!$G$9*Steuerung!$G$11,H58)","v":0},0]
[null,{"$f":"IF(Steuerung!$H$13=1,DATE(Steuerung!$D$11+55,Steuerung!$C$11,Steuerung!$B$11),IF(Steuerung!$H$13=2,DATE(Steuerung!$D$11,Steuerung!$C$11+163,Steuerung!$B$11),DATE(Steuerung!$D$11,Steuerung!$C$11+55,Steuerung!$B$11)))","v":"2061-07-12"},{"$f":"IF(Steuerung!$H$13=1,360,IF(Steuerung!$H$13=2,90,30))","v":360},{"$f":"(H59*Steuerung!$G$11)+F60","v":0},0,{"$f":"IF(H59>0,(H59*Steuerung!$G$10*C60)/360,0)","v":0},{"$f":"IF((H59+F60)>D60,Steuerung!$G$9*Steuerung!$G$11,H59)","v":0},0]
[null,{"$f":"IF(Steuerung!$H$13=1,DATE(Steuerung!$D$11+56,Steuerung!$C$11,Steuerung!$B$11),IF(Steuerung!$H$13=2,DATE(Steuerung!$D$11,Steuerung!$C$11+166,Steuerung!$B$11),DATE(Steuerung!$D$11,Steuerung!$C$11+56,Steuerung!$B$11)))","v":"2062-07-12"},{"$f":"IF(Steuerung!$H$13=1,360,IF(Steuerung!$H$13=2,90,30))","v":360},{"$f":"(H60*Steuerung!$G$11)+F61","v":0},0,{"$f":"IF(H60>0,(H60*Steuerung!$G$10*C61)/360,0)","v":0},{"$f":"IF((H60+F61)>D61,Steuerung!$G$9*Steuerung!$G$11,H60)","v":0},0]
[null,{"$f":"IF(Steuerung!$H$13=1,DATE(Steuerung!$D$11+57,Steuerung!$C$11,Steuerung!$B$11),IF(Steuerung!$H$13=2,DATE(Steuerung!$D$11,Steuerung!$C$11+169,Steuerung!$B$11),DATE(Steuerung!$D$11,Steuerung!$C$11+57,Steuerung!$B$11)))","v":"2063-07-12"},{"$f":"IF(Steuerung!$H$13=1,360,IF(Steuerung!$H$13=2,90,30))","v":360},{"$f":"(H61*Steuerung!$G$11)+F62","v":0},0,{"$f":"IF(H61>0,(H61*Steuerung!$G$10*C62)/360,0)","v":0},{"$f":"IF((H61+F62)>D62,Steuerung!$G$9*Steuerung!$G$11,H61)","v":0},0]
[null,{"$f":"IF(Steuerung!$H$13=1,DATE(Steuerung!$D$11+58,Steuerung!$C$11,Steuerung!$B$11),IF(Steuerung!$H$13=2,DATE(Steuerung!$D$11,Steuerung!$C$11+172,Steuerung!$B$11),DATE(Steuerung!$D$11,Steuerung!$C$11+58,Steuerung!$B$11)))","v":"2064-07-12"},{"$f":"IF(Steuerung!$H$13=1,360,IF(Steuerung!$H$13=2,90,30))","v":360},{"$f":"(H62*Steuerung!$G$11)+F63","v":0},0,{"$f":"IF(H62>0,(H62*Steuerung!$G$10*C63)/360,0)","v":0},{"$f":"IF((H62+F63)>D63,Steuerung!$G$9*Steuerung!$G$11,H62)","v":0},0]
[null,{"$f":"IF(Steuerung!$H$13=1,DATE(Steuerung!$D$11+59,Steuerung!$C$11,Steuerung!$B$11),IF(Steuerung!$H$13=2,DATE(Steuerung!$D$11,Steuerung!$C$11+175,Steuerung!$B$11),DATE(Steuerung!$D$11,Steuerung!$C$11+59,Steuerung!$B$11)))","v":"2065-07-12"},{"$f":"IF(Steuerung!$H$13=1,360,IF(Steuerung!$H$13=2,90,30))","v":360},{"$f":"(H63*Steuerung!$G$11)+F64","v":0},0,{"$f":"IF(H63>0,(H63*Steuerung!$G$10*C64)/360,0)","v":0},{"$f":"IF((H63+F64)>D64,Steuerung!$G$9*Steuerung!$G$11,H63)","v":0},0]
[null,{"$f":"IF(Steuerung!$H$13=1,DATE(Steuerung!$D$11+60,Steuerung!$C$11,Steuerung!$B$11),IF(Steuerung!$H$13=2,DATE(Steuerung!$D$11,Steuerung!$C$11+178,Steuerung!$B$11),DATE(Steuerung!$D$11,Steuerung!$C$11+60,Steuerung!$B$11)))","v":"2066-07-12"},{"$f":"IF(Steuerung!$H$13=1,360,IF(Steuerung!$H$13=2,90,30))","v":360},{"$f":"(H64*Steuerung!$G$11)+F65","v":0},0,{"$f":"IF(H64>0,(H64*Steuerung!$G$10*C65)/360,0)","v":0},{"$f":"IF((H64+F65)>D65,Steuerung!$G$9*Steuerung!$G$11,H64)","v":0},0]
[null,{"$f":"IF(Steuerung!$H$13=1,DATE(Steuerung!$D$11+61,Steuerung!$C$11,Steuerung!$B$11),IF(Steuerung!$H$13=2,DATE(Steuerung!$D$11,Steuerung!$C$11+181,Steuerung!$B$11),DATE(Steuerung!$D$11,Steuerung!$C$11+61,Steuerung!$B$11)))","v":"2067-07-12"},{"$f":"IF(Steuerung!$H$13=1,360,IF(Steuerung!$H$13=2,90,30))","v":360},{"$f":"(H65*Steuerung!$G$11)+F66","v":0},0,{"$f":"IF(H65>0,(H65*Steuerung!$G$10*C66)/360,0)","v":0},{"$f":"IF((H65+F66)>D66,Steuerung!$G$9*Steuerung!$G$11,H65)","v":0},0]
[null,{"$f":"IF(Steuerung!$H$13=1,DATE(Steuerung!$D$11+62,Steuerung!$C$11,Steuerung!$B$11),IF(Steuerung!$H$13=2,DATE(Steuerung!$D$11,Steuerung!$C$11+184,Steuerung!$B$11),DATE(Steuerung!$D$11,Steuerung!$C$11+62,Steuerung!$B$11)))","v":"2068-07-12"},{"$f":"IF(Steuerung!$H$13=1,360,IF(Steuerung!$H$13=2,90,30))","v":360},{"$f":"(H66*Steuerung!$G$11)+F67","v":0},0,{"$f":"IF(H66>0,(H66*Steuerung!$G$10*C67)/360,0)","v":0},{"$f":"IF((H66+F67)>D67,Steuerung!$G$9*Steuerung!$G$11,H66)","v":0},0]
[null,{"$f":"IF(Steuerung!$H$13=1,DATE(Steuerung!$D$11+63,Steuerung!$C$11,Steuerung!$B$11),IF(Steuerung!$H$13=2,DATE(Steuerung!$D$11,Steuerung!$C$11+187,Steuerung!$B$11),DATE(Steuerung!$D$11,Steuerung!$C$11+63,Steuerung!$B$11)))","v":"2069-07-12"},{"$f":"IF(Steuerung!$H$13=1,360,IF(Steuerung!$H$13=2,90,30))","v":360},{"$f":"(H67*Steuerung!$G$11)+F68","v":0},0,{"$f":"IF(H67>0,(H67*Steuerung!$G$10*C68)/360,0)","v":0},{"$f":"IF((H67+F68)>D68,Steuerung!$G$9*Steuerung!$G$11,H67)","v":0},0]
[null,{"$f":"IF(Steuerung!$H$13=1,DATE(Steuerung!$D$11+64,Steuerung!$C$11,Steuerung!$B$11),IF(Steuerung!$H$13=2,DATE(Steuerung!$D$11,Steuerung!$C$11+190,Steuerung!$B$11),DATE(Steuerung!$D$11,Steuerung!$C$11+64,Steuerung!$B$11)))","v":"2070-07-12"},{"$f":"IF(Steuerung!$H$13=1,360,IF(Steuerung!$H$13=2,90,30))","v":360},{"$f":"(H68*Steuerung!$G$11)+F69","v":0},0,{"$f":"IF(H68>0,(H68*Steuerung!$G$10*C69)/360,0)","v":0},{"$f":"IF((H68+F69)>D69,Steuerung!$G$9*Steuerung!$G$11,H68)","v":0},0]
[null,{"$f":"IF(Steuerung!$H$13=1,DATE(Steuerung!$D$11+65,Steuerung!$C$11,Steuerung!$B$11),IF(Steuerung!$H$13=2,DATE(Steuerung!$D$11,Steuerung!$C$11+193,Steuerung!$B$11),DATE(Steuerung!$D$11,Steuerung!$C$11+65,Steuerung!$B$11)))","v":"2071-07-12"},{"$f":"IF(Steuerung!$H$13=1,360,IF(Steuerung!$H$13=2,90,30))","v":360},{"$f":"(H69*Steuerung!$G$11)+F70","v":0},{"$f":"F70+G70","v":0},{"$f":"IF(H69>0,(H69*Steuerung!$G$10*C70)/360,0)","v":0},{"$f":"IF((H69+F70)>D70,Steuerung!$G$9*Steuerung!$G$11,H69)","v":0},0]
[null,{"$f":"IF(Steuerung!$H$13=1,DATE(Steuerung!$D$11+66,Steuerung!$C$11,Steuerung!$B$11),IF(Steuerung!$H$13=2,DATE(Steuerung!$D$11,Steuerung!$C$11+196,Steuerung!$B$11),DATE(Steuerung!$D$11,Steuerung!$C$11+66,Steuerung!$B$11)))","v":"2072-07-12"},{"$f":"IF(Steuerung!$H$13=1,360,IF(Steuerung!$H$13=2,90,30))","v":360},{"$f":"(H70*Steuerung!$G$11)+F71","v":0},0,{"$f":"IF(H70>0,(H70*Steuerung!$G$10*C71)/360,0)","v":0},{"$f":"IF((H70+F71)>D71,Steuerung!$G$9*Steuerung!$G$11,H70)","v":0},0]
[null,{"$f":"IF(Steuerung!$H$13=1,DATE(Steuerung!$D$11+67,Steuerung!$C$11,Steuerung!$B$11),IF(Steuerung!$H$13=2,DATE(Steuerung!$D$11,Steuerung!$C$11+199,Steuerung!$B$11),DATE(Steuerung!$D$11,Steuerung!$C$11+67,Steuerung!$B$11)))","v":"2073-07-12"},{"$f":"IF(Steuerung!$H$13=1,360,IF(Steuerung!$H$13=2,90,30))","v":360},{"$f":"(H71*Steuerung!$G$11)+F72","v":0},0,{"$f":"IF(H71>0,(H71*Steuerung!$G$10*C72)/360,0)","v":0},{"$f":"IF((H71+F72)>D72,Steuerung!$G$9*Steuerung!$G$11,H71)","v":0},0]
[null,{"$f":"IF(Steuerung!$H$13=1,DATE(Steuerung!$D$11+68,Steuerung!$C$11,Steuerung!$B$11),IF(Steuerung!$H$13=2,DATE(Steuerung!$D$11,Steuerung!$C$11+202,Steuerung!$B$11),DATE(Steuerung!$D$11,Steuerung!$C$11+68,Steuerung!$B$11)))","v":"2074-07-12"},{"$f":"IF(Steuerung!$H$13=1,360,IF(Steuerung!$H$13=2,90,30))","v":360},{"$f":"(H72*Steuerung!$G$11)+F73","v":0},0,{"$f":"IF(H72>0,(H72*Steuerung!$G$10*C73)/360,0)","v":0},{"$f":"IF((H72+F73)>D73,Steuerung!$G$9*Steuerung!$G$11,H72)","v":0},0]
[null,{"$f":"IF(Steuerung!$H$13=1,DATE(Steuerung!$D$11+69,Steuerung!$C$11,Steuerung!$B$11),IF(Steuerung!$H$13=2,DATE(Steuerung!$D$11,Steuerung!$C$11+205,Steuerung!$B$11),DATE(Steuerung!$D$11,Steuerung!$C$11+69,Steuerung!$B$11)))","v":"2075-07-12"},{"$f":"IF(Steuerung!$H$13=1,360,IF(Steuerung!$H$13=2,90,30))","v":360},{"$f":"(H73*Steuerung!$G$11)+F74","v":0},0,{"$f":"IF(H73>0,(H73*Steuerung!$G$10*C74)/360,0)","v":0},{"$f":"IF((H73+F74)>D74,Steuerung!$G$9*Steuerung!$G$11,H73)","v":0},0]
[null,{"$f":"IF(Steuerung!$H$13=1,DATE(Steuerung!$D$11+70,Steuerung!$C$11,Steuerung!$B$11),IF(Steuerung!$H$13=2,DATE(Steuerung!$D$11,Steuerung!$C$11+208,Steuerung!$B$11),DATE(Steuerung!$D$11,Steuerung!$C$11+70,Steuerung!$B$11)))","v":"2076-07-12"},{"$f":"IF(Steuerung!$H$13=1,360,IF(Steuerung!$H$13=2,90,30))","v":360},{"$f":"(H74*Steuerung!$G$11)+F75","v":0},0,{"$f":"IF(H74>0,(H74*Steuerung!$G$10*C75)/360,0)","v":0},{"$f":"IF((H74+F75)>D75,Steuerung!$G$9*Steuerung!$G$11,H74)","v":0},0]
[null,{"$f":"IF(Steuerung!$H$13=1,DATE(Steuerung!$D$11+71,Steuerung!$C$11,Steuerung!$B$11),IF(Steuerung!$H$13=2,DATE(Steuerung!$D$11,Steuerung!$C$11+211,Steuerung!$B$11),DATE(Steuerung!$D$11,Steuerung!$C$11+71,Steuerung!$B$11)))","v":"2077-07-12"},{"$f":"IF(Steuerung!$H$13=1,360,IF(Steuerung!$H$13=2,90,30))","v":360},{"$f":"(H75*Steuerung!$G$11)+F76","v":0},0,{"$f":"IF(H75>0,(H75*Steuerung!$G$10*C76)/360,0)","v":0},{"$f":"IF((H75+F76)>D76,Steuerung!$G$9*Steuerung!$G$11,H75)","v":0},0]
[null,{"$f":"IF(Steuerung!$H$13=1,DATE(Steuerung!$D$11+72,Steuerung!$C$11,Steuerung!$B$11),IF(Steuerung!$H$13=2,DATE(Steuerung!$D$11,Steuerung!$C$11+214,Steuerung!$B$11),DATE(Steuerung!$D$11,Steuerung!$C$11+72,Steuerung!$B$11)))","v":"2078-07-12"},{"$f":"IF(Steuerung!$H$13=1,360,IF(Steuerung!$H$13=2,90,30))","v":360},{"$f":"(H76*Steuerung!$G$11)+F77","v":0},0,{"$f":"IF(H76>0,(H76*Steuerung!$G$10*C77)/360,0)","v":0},{"$f":"IF((H76+F77)>D77,Steuerung!$G$9*Steuerung!$G$11,H76)","v":0},0]
[null,{"$f":"IF(Steuerung!$H$13=1,DATE(Steuerung!$D$11+73,Steuerung!$C$11,Steuerung!$B$11),IF(Steuerung!$H$13=2,DATE(Steuerung!$D$11,Steuerung!$C$11+217,Steuerung!$B$11),DATE(Steuerung!$D$11,Steuerung!$C$11+73,Steuerung!$B$11)))","v":"2079-07-12"},{"$f":"IF(Steuerung!$H$13=1,360,IF(Steuerung!$H$13=2,90,30))","v":360},{"$f":"(H77*Steuerung!$G$11)+F78","v":0},0,{"$f":"IF(H77>0,(H77*Steuerung!$G$10*C78)/360,0)","v":0},{"$f":"IF((H77+F78)>D78,Steuerung!$G$9*Steuerung!$G$11,H77)","v":0},0]
[null,{"$f":"IF(Steuerung!$H$13=1,DATE(Steuerung!$D$11+74,Steuerung!$C$11,Steuerung!$B$11),IF(Steuerung!$H$13=2,DATE(Steuerung!$D$11,Steuerung!$C$11+220,Steuerung!$B$11),DATE(Steuerung!$D$11,Steuerung!$C$11+74,Steuerung!$B$11)))","v":"2080-07-12"},{"$f":"IF(Steuerung!$H$13=1,360,IF(Steuerung!$H$13=2,90,30))","v":360},{"$f":"(H78*Steuerung!$G$11)+F79","v":0},0,{"$f":"IF(H78>0,(H78*Steuerung!$G$10*C79)/360,0)","v":0},{"$f":"IF((H78+F79)>D79,Steuerung!$G$9*Steuerung!$G$11,H78)","v":0},0]
[null,{"$f":"IF(Steuerung!$H$13=1,DATE(Steuerung!$D$11+75,Steuerung!$C$11,Steuerung!$B$11),IF(Steuerung!$H$13=2,DATE(Steuerung!$D$11,Steuerung!$C$11+223,Steuerung!$B$11),DATE(Steuerung!$D$11,Steuerung!$C$11+75,Steuerung!$B$11)))","v":"2081-07-12"},{"$f":"IF(Steuerung!$H$13=1,360,IF(Steuerung!$H$13=2,90,30))","v":360},{"$f":"(H79*Steuerung!$G$11)+F80","v":0},0,{"$f":"IF(H79>0,(H79*Steuerung!$G$10*C80)/360,0)","v":0},{"$f":"IF((H79+F80)>D80,Steuerung!$G$9*Steuerung!$G$11,H79)","v":0},0]
[null,{"$f":"IF(Steuerung!$H$13=1,DATE(Steuerung!$D$11+76,Steuerung!$C$11,Steuerung!$B$11),IF(Steuerung!$H$13=2,DATE(Steuerung!$D$11,Steuerung!$C$11+226,Steuerung!$B$11),DATE(Steuerung!$D$11,Steuerung!$C$11+76,Steuerung!$B$11)))","v":"2082-07-12"},{"$f":"IF(Steuerung!$H$13=1,360,IF(Steuerung!$H$13=2,90,30))","v":360},{"$f":"(H80*Steuerung!$G$11)+F81","v":0},0,{"$f":"IF(H80>0,(H80*Steuerung!$G$10*C81)/360,0)","v":0},{"$f":"IF((H80+F81)>D81,Steuerung!$G$9*Steuerung!$G$11,H80)","v":0},0]
[null,{"$f":"IF(Steuerung!$H$13=1,DATE(Steuerung!$D$11+77,Steuerung!$C$11,Steuerung!$B$11),IF(Steuerung!$H$13=2,DATE(Steuerung!$D$11,Steuerung!$C$11+229,Steuerung!$B$11),DATE(Steuerung!$D$11,Steuerung!$C$11+77,Steuerung!$B$11)))","v":"2083-07-12"},{"$f":"IF(Steuerung!$H$13=1,360,IF(Steuerung!$H$13=2,90,30))","v":360},{"$f":"(H81*Steuerung!$G$11)+F82","v":0},0,{"$f":"IF(H81>0,(H81*Steuerung!$G$10*C82)/360,0)","v":0},{"$f":"IF((H81+F82)>D82,Steuerung!$G$9*Steuerung!$G$11,H81)","v":0},0]
[null,{"$f":"IF(Steuerung!$H$13=1,DATE(Steuerung!$D$11+78,Steuerung!$C$11,Steuerung!$B$11),IF(Steuerung!$H$13=2,DATE(Steuerung!$D$11,Steuerung!$C$11+232,Steuerung!$B$11),DATE(Steuerung!$D$11,Steuerung!$C$11+78,Steuerung!$B$11)))","v":"2084-07-12"},{"$f":"IF(Steuerung!$H$13=1,360,IF(Steuerung!$H$13=2,90,30))","v":360},{"$f":"(H82*Steuerung!$G$11)+F83","v":0},0,{"$f":"IF(H82>0,(H82*Steuerung!$G$10*C83)/360,0)","v":0},{"$f":"IF((H82+F83)>D83,Steuerung!$G$9*Steuerung!$G$11,H82)","v":0},0]
[null,{"$f":"IF(Steuerung!$H$13=1,DATE(Steuerung!$D$11+79,Steuerung!$C$11,Steuerung!$B$11),IF(Steuerung!$H$13=2,DATE(Steuerung!$D$11,Steuerung!$C$11+235,Steuerung!$B$11),DATE(Steuerung!$D$11,Steuerung!$C$11+79,Steuerung!$B$11)))","v":"2085-07-12"},{"$f":"IF(Steuerung!$H$13=1,360,IF(Steuerung!$H$13=2,90,30))","v":360},{"$f":"(H83*Steuerung!$G$11)+F84","v":0},0,{"$f":"IF(H83>0,(H83*Steuerung!$G$10*C84)/360,0)","v":0},{"$f":"IF((H83+F84)>D84,Steuerung!$G$9*Steuerung!$G$11,H83)","v":0},0]
[null,{"$f":"IF(Steuerung!$H$13=1,DATE(Steuerung!$D$11+80,Steuerung!$C$11,Steuerung!$B$11),IF(Steuerung!$H$13=2,DATE(Steuerung!$D$11,Steuerung!$C$11+238,Steuerung!$B$11),DATE(Steuerung!$D$11,Steuerung!$C$11+80,Steuerung!$B$11)))","v":"2086-07-12"},{"$f":"IF(Steuerung!$H$13=1,360,IF(Steuerung!$H$13=2,90,30))","v":360},{"$f":"(H84*Steuerung!$G$11)+F85","v":0},0,{"$f":"IF(H84>0,(H84*Steuerung!$G$10*C85)/360,0)","v":0},{"$f":"IF((H84+F85)>D85,Steuerung!$G$9*Steuerung!$G$11,H84)","v":0},0]
[null,{"$f":"IF(Steuerung!$H$13=1,DATE(Steuerung!$D$11+81,Steuerung!$C$11,Steuerung!$B$11),IF(Steuerung!$H$13=2,DATE(Steuerung!$D$11,Steuerung!$C$11+241,Steuerung!$B$11),DATE(Steuerung!$D$11,Steuerung!$C$11+81,Steuerung!$B$11)))","v":"2087-07-12"},{"$f":"IF(Steuerung!$H$13=1,360,IF(Steuerung!$H$13=2,90,30))","v":360},{"$f":"(H85*Steuerung!$G$11)+F86","v":0},0,{"$f":"IF(H85>0,(H85*Steuerung!$G$10*C86)/360,0)","v":0},{"$f":"IF((H85+F86)>D86,Steuerung!$G$9*Steuerung!$G$11,H85)","v":0},0]
[null,{"$f":"IF(Steuerung!$H$13=1,DATE(Steuerung!$D$11+82,Steuerung!$C$11,Steuerung!$B$11),IF(Steuerung!$H$13=2,DATE(Steuerung!$D$11,Steuerung!$C$11+244,Steuerung!$B$11),DATE(Steuerung!$D$11,Steuerung!$C$11+82,Steuerung!$B$11)))","v":"2088-07-12"},{"$f":"IF(Steuerung!$H$13=1,360,IF(Steuerung!$H$13=2,90,30))","v":360},{"$f":"(H86*Steuerung!$G$11)+F87","v":0},0,{"$f":"IF(H86>0,(H86*Steuerung!$G$10*C87)/360,0)","v":0},{"$f":"IF((H86+F87)>D87,Steuerung!$G$9*Steuerung!$G$11,H86)","v":0},0]
[null,{"$f":"IF(Steuerung!$H$13=1,DATE(Steuerung!$D$11+83,Steuerung!$C$11,Steuerung!$B$11),IF(Steuerung!$H$13=2,DATE(Steuerung!$D$11,Steuerung!$C$11+247,Steuerung!$B$11),DATE(Steuerung!$D$11,Steuerung!$C$11+83,Steuerung!$B$11)))","v":"2089-07-12"},{"$f":"IF(Steuerung!$H$13=1,360,IF(Steuerung!$H$13=2,90,30))","v":360},{"$f":"(H87*Steuerung!$G$11)+F88","v":0},0,{"$f":"IF(H87>0,(H87*Steuerung!$G$10*C88)/360,0)","v":0},{"$f":"IF((H87+F88)>D88,Steuerung!$G$9*Steuerung!$G$11,H87)","v":0},0]
[null,{"$f":"IF(Steuerung!$H$13=1,DATE(Steuerung!$D$11+84,Steuerung!$C$11,Steuerung!$B$11),IF(Steuerung!$H$13=2,DATE(Steuerung!$D$11,Steuerung!$C$11+250,Steuerung!$B$11),DATE(Steuerung!$D$11,Steuerung!$C$11+84,Steuerung!$B$11)))","v":"2090-07-12"},{"$f":"IF(Steuerung!$H$13=1,360,IF(Steuerung!$H$13=2,90,30))","v":360},{"$f":"(H88*Steuerung!$G$11)+F89","v":0},0,{"$f":"IF(H88>0,(H88*Steuerung!$G$10*C89)/360,0)","v":0},{"$f":"IF((H88+F89)>D89,Steuerung!$G$9*Steuerung!$G$11,H88)","v":0},{"$f":"IF((H88-G89)>0,(H88-G89),0)","v":0}]
[null,{"$f":"IF(Steuerung!$H$13=1,DATE(Steuerung!$D$11+85,Steuerung!$C$11,Steuerung!$B$11),IF(Steuerung!$H$13=2,DATE(Steuerung!$D$11,Steuerung!$C$11+253,Steuerung!$B$11),DATE(Steuerung!$D$11,Steuerung!$C$11+85,Steuerung!$B$11)))","v":"2091-07-12"},{"$f":"IF(Steuerung!$H$13=1,360,IF(Steuerung!$H$13=2,90,30))","v":360},{"$f":"(H89*Steuerung!$G$11)+F90","v":0},0,{"$f":"IF(H89>0,(H89*Steuerung!$G$10*C90)/360,0)","v":0},{"$f":"IF((H89+F90)>D90,Steuerung!$G$9*Steuerung!$G$11,H89)","v":0},0]
[null,{"$f":"IF(Steuerung!$H$13=1,DATE(Steuerung!$D$11+86,Steuerung!$C$11,Steuerung!$B$11),IF(Steuerung!$H$13=2,DATE(Steuerung!$D$11,Steuerung!$C$11+256,Steuerung!$B$11),DATE(Steuerung!$D$11,Steuerung!$C$11+86,Steuerung!$B$11)))","v":"2092-07-12"},{"$f":"IF(Steuerung!$H$13=1,360,IF(Steuerung!$H$13=2,90,30))","v":360},{"$f":"(H90*Steuerung!$G$11)+F91","v":0},0,{"$f":"IF(H90>0,(H90*Steuerung!$G$10*C91)/360,0)","v":0},{"$f":"IF((H90+F91)>D91,Steuerung!$G$9*Steuerung!$G$11,H90)","v":0},0]
[null,{"$f":"IF(Steuerung!$H$13=1,DATE(Steuerung!$D$11+87,Steuerung!$C$11,Steuerung!$B$11),IF(Steuerung!$H$13=2,DATE(Steuerung!$D$11,Steuerung!$C$11+259,Steuerung!$B$11),DATE(Steuerung!$D$11,Steuerung!$C$11+87,Steuerung!$B$11)))","v":"2093-07-12"},{"$f":"IF(Steuerung!$H$13=1,360,IF(Steuerung!$H$13=2,90,30))","v":360},{"$f":"(H91*Steuerung!$G$11)+F92","v":0},0,{"$f":"IF(H91>0,(H91*Steuerung!$G$10*C92)/360,0)","v":0},{"$f":"IF((H91+F92)>D92,Steuerung!$G$9*Steuerung!$G$11,H91)","v":0},0]
[null,{"$f":"IF(Steuerung!$H$13=1,DATE(Steuerung!$D$11+88,Steuerung!$C$11,Steuerung!$B$11),IF(Steuerung!$H$13=2,DATE(Steuerung!$D$11,Steuerung!$C$11+262,Steuerung!$B$11),DATE(Steuerung!$D$11,Steuerung!$C$11+88,Steuerung!$B$11)))","v":"2094-07-12"},{"$f":"IF(Steuerung!$H$13=1,360,IF(Steuerung!$H$13=2,90,30))","v":360},{"$f":"(H92*Steuerung!$G$11)+F93","v":0},0,{"$f":"IF(H92>0,(H92*Steuerung!$G$10*C93)/360,0)","v":0},{"$f":"IF((H92+F93)>D93,Steuerung!$G$9*Steuerung!$G$11,H92)","v":0},0]
[null,{"$f":"IF(Steuerung!$H$13=1,DATE(Steuerung!$D$11+89,Steuerung!$C$11,Steuerung!$B$11),IF(Steuerung!$H$13=2,DATE(Steuerung!$D$11,Steuerung!$C$11+265,Steuerung!$B$11),DATE(Steuerung!$D$11,Steuerung!$C$11+89,Steuerung!$B$11)))","v":"2095-07-12"},{"$f":"IF(Steuerung!$H$13=1,360,IF(Steuerung!$H$13=2,90,30))","v":360},{"$f":"(H93*Steuerung!$G$11)+F94","v":0},0,{"$f":"IF(H93>0,(H93*Steuerung!$G$10*C94)/360,0)","v":0},{"$f":"IF((H93+F94)>D94,Steuerung!$G$9*Steuerung!$G$11,H93)","v":0},0]
[null,{"$f":"IF(Steuerung!$H$13=1,DATE(Steuerung!$D$11+90,Steuerung!$C$11,Steuerung!$B$11),IF(Steuerung!$H$13=2,DATE(Steuerung!$D$11,Steuerung!$C$11+268,Steuerung!$B$11),DATE(Steuerung!$D$11,Steuerung!$C$11+90,Steuerung!$B$11)))","v":"2096-07-12"},{"$f":"IF(Steuerung!$H$13=1,360,IF(Steuerung!$H$13=2,90,30))","v":360},{"$f":"(H94*Steuerung!$G$11)+F95","v":0},0,{"$f":"IF(H94>0,(H94*Steuerung!$G$10*C95)/360,0)","v":0},{"$f":"IF((H94+F95)>D95,Steuerung!$G$9*Steuerung!$G$11,H94)","v":0},0]
[null,{"$f":"IF(Steuerung!$H$13=1,DATE(Steuerung!$D$11+91,Steuerung!$C$11,Steuerung!$B$11),IF(Steuerung!$H$13=2,DATE(Steuerung!$D$11,Steuerung!$C$11+271,Steuerung!$B$11),DATE(Steuerung!$D$11,Steuerung!$C$11+91,Steuerung!$B$11)))","v":"2097-07-12"},{"$f":"IF(Steuerung!$H$13=1,360,IF(Steuerung!$H$13=2,90,30))","v":360},{"$f":"(H95*Steuerung!$G$11)+F96","v":0},0,{"$f":"IF(H95>0,(H95*Steuerung!$G$10*C96)/360,0)","v":0},{"$f":"IF((H95+F96)>D96,Steuerung!$G$9*Steuerung!$G$11,H95)","v":0},0]
[null,{"$f":"IF(Steuerung!$H$13=1,DATE(Steuerung!$D$11+92,Steuerung!$C$11,Steuerung!$B$11),IF(Steuerung!$H$13=2,DATE(Steuerung!$D$11,Steuerung!$C$11+274,Steuerung!$B$11),DATE(Steuerung!$D$11,Steuerung!$C$11+92,Steuerung!$B$11)))","v":"2098-07-12"},{"$f":"IF(Steuerung!$H$13=1,360,IF(Steuerung!$H$13=2,90,30))","v":360},{"$f":"(H96*Steuerung!$G$11)+F97","v":0},0,{"$f":"IF(H96>0,(H96*Steuerung!$G$10*C97)/360,0)","v":0},{"$f":"IF((H96+F97)>D97,Steuerung!$G$9*Steuerung!$G$11,H96)","v":0},0]
[null,{"$f":"IF(Steuerung!$H$13=1,DATE(Steuerung!$D$11+93,Steuerung!$C$11,Steuerung!$B$11),IF(Steuerung!$H$13=2,DATE(Steuerung!$D$11,Steuerung!$C$11+277,Steuerung!$B$11),DATE(Steuerung!$D$11,Steuerung!$C$11+93,Steuerung!$B$11)))","v":"2099-07-12"},{"$f":"IF(Steuerung!$H$13=1,360,IF(Steuerung!$H$13=2,90,30))","v":360},{"$f":"(H97*Steuerung!$G$11)+F98","v":0},0,{"$f":"IF(H97>0,(H97*Steuerung!$G$10*C98)/360,0)","v":0},{"$f":"IF((H97+F98)>D98,Steuerung!$G$9*Steuerung!$G$11,H97)","v":0},0]
[null,{"$f":"IF(Steuerung!$H$13=1,DATE(Steuerung!$D$11+94,Steuerung!$C$11,Steuerung!$B$11),IF(Steuerung!$H$13=2,DATE(Steuerung!$D$11,Steuerung!$C$11+280,Steuerung!$B$11),DATE(Steuerung!$D$11,Steuerung!$C$11+94,Steuerung!$B$11)))","v":"2100-07-12"},{"$f":"IF(Steuerung!$H$13=1,360,IF(Steuerung!$H$13=2,90,30))","v":360},{"$f":"(H98*Steuerung!$G$11)+F99","v":0},0,{"$f":"IF(H98>0,(H98*Steuerung!$G$10*C99)/360,0)","v":0},{"$f":"IF((H98+F99)>D99,Steuerung!$G$9*Steuerung!$G$11,H98)","v":0},0]
[null,{"$f":"IF(Steuerung!$H$13=1,DATE(Steuerung!$D$11+95,Steuerung!$C$11,Steuerung!$B$11),IF(Steuerung!$H$13=2,DATE(Steuerung!$D$11,Steuerung!$C$11+283,Steuerung!$B$11),DATE(Steuerung!$D$11,Steuerung!$C$11+95,Steuerung!$B$11)))","v":"2101-07-12"},{"$f":"IF(Steuerung!$H$13=1,360,IF(Steuerung!$H$13=2,90,30))","v":360},{"$f":"(H99*Steuerung!$G$11)+F100","v":0},0,{"$f":"IF(H99>0,(H99*Steuerung!$G$10*C100)/360,0)","v":0},{"$f":"IF((H99+F100)>D100,Steuerung!$G$9*Steuerung!$G$11,H99)","v":0},0]
[null,{"$f":"IF(Steuerung!$H$13=1,DATE(Steuerung!$D$11+96,Steuerung!$C$11,Steuerung!$B$11),IF(Steuerung!$H$13=2,DATE(Steuerung!$D$11,Steuerung!$C$11+286,Steuerung!$B$11),DATE(Steuerung!$D$11,Steuerung!$C$11+96,Steuerung!$B$11)))","v":"2102-07-12"},{"$f":"IF(Steuerung!$H$13=1,360,IF(Steuerung!$H$13=2,90,30))","v":360},{"$f":"(H100*Steuerung!$G$11)+F101","v":0},0,{"$f":"IF(H100>0,(H100*Steuerung!$G$10*C101)/360,0)","v":0},{"$f":"IF((H100+F101)>D101,Steuerung!$G$9*Steuerung!$G$11,H100)","v":0},0]
[null,{"$f":"IF(Steuerung!$H$13=1,DATE(Steuerung!$D$11+97,Steuerung!$C$11,Steuerung!$B$11),IF(Steuerung!$H$13=2,DATE(Steuerung!$D$11,Steuerung!$C$11+289,Steuerung!$B$11),DATE(Steuerung!$D$11,Steuerung!$C$11+97,Steuerung!$B$11)))","v":"2103-07-12"},{"$f":"IF(Steuerung!$H$13=1,360,IF(Steuerung!$H$13=2,90,30))","v":360},{"$f":"(H101*Steuerung!$G$11)+F102","v":0},0,{"$f":"IF(H101>0,(H101*Steuerung!$G$10*C102)/360,0)","v":0},{"$f":"IF((H101+F102)>D102,Steuerung!$G$9*Steuerung!$G$11,H101)","v":0},0]
[null,{"$f":"IF(Steuerung!$H$13=1,DATE(Steuerung!$D$11+98,Steuerung!$C$11,Steuerung!$B$11),IF(Steuerung!$H$13=2,DATE(Steuerung!$D$11,Steuerung!$C$11+292,Steuerung!$B$11),DATE(Steuerung!$D$11,Steuerung!$C$11+98,Steuerung!$B$11)))","v":"2104-07-12"},{"$f":"IF(Steuerung!$H$13=1,360,IF(Steuerung!$H$13=2,90,30))","v":360},{"$f":"(H102*Steuerung!$G$11)+F103","v":0},0,{"$f":"IF(H102>0,(H102*Steuerung!$G$10*C103)/360,0)","v":0},{"$f":"IF((H102+F103)>D103,Steuerung!$G$9*Steuerung!$G$11,H102)","v":0},0]
[null,{"$f":"IF(Steuerung!$H$13=1,DATE(Steuerung!$D$11+99,Steuerung!$C$11,Steuerung!$B$11),IF(Steuerung!$H$13=2,DATE(Steuerung!$D$11,Steuerung!$C$11+295,Steuerung!$B$11),DATE(Steuerung!$D$11,Steuerung!$C$11+99,Steuerung!$B$11)))","v":"2105-07-12"},{"$f":"IF(Steuerung!$H$13=1,360,IF(Steuerung!$H$13=2,90,30))","v":360},{"$f":"(H103*Steuerung!$G$11)+F104","v":0},0,{"$f":"IF(H103>0,(H103*Steuerung!$G$10*C104)/360,0)","v":0},{"$f":"IF((H103+F104)>D104,Steuerung!$G$9*Steuerung!$G$11,H103)","v":0},0]
[null,{"$f":"IF(Steuerung!$H$13=1,DATE(Steuerung!$D$11+100,Steuerung!$C$11,Steuerung!$B$11),IF(Steuerung!$H$13=2,DATE(Steuerung!$D$11,Steuerung!$C$11+298,Steuerung!$B$11),DATE(Steuerung!$D$11,Steuerung!$C$11+100,Steuerung!$B$11)))","v":"2106-07-12"},{"$f":"IF(Steuerung!$H$13=1,360,IF(Steuerung!$H$13=2,90,30))","v":360},{"$f":"(H104*Steuerung!$G$11)+F105","v":0},0,{"$f":"IF(H104>0,(H104*Steuerung!$G$10*C105)/360,0)","v":0},{"$f":"IF((H104+F105)>D105,Steuerung!$G$9*Steuerung!$G$11,H104)","v":0},0]
[null,"Summen",null,null,{"$f":"SUM(E5:E105)","v":453045.68625000003},{"$f":"SUM(F5:F105)","v":26649.746250000007},{"$f":"SUM(G5:G105)","v":426395.94}]